From mboxrd@z Thu Jan  1 00:00:00 1970
Return-Path: <test-report-bounces@dpdk.org>
Received: from mails.dpdk.org (mails.dpdk.org [217.70.189.124])
	by inbox.dpdk.org (Postfix) with ESMTP id 080D743D26
	for <public@inbox.dpdk.org>; Fri, 22 Mar 2024 23:54:26 +0100 (CET)
Received: from mails.dpdk.org (localhost [127.0.0.1])
	by mails.dpdk.org (Postfix) with ESMTP id 034E5402A7;
	Fri, 22 Mar 2024 23:54:26 +0100 (CET)
Received: from mail-yw1-f226.google.com (mail-yw1-f226.google.com
 [209.85.128.226])
 by mails.dpdk.org (Postfix) with ESMTP id 697C740284
 for <test-report@dpdk.org>; Fri, 22 Mar 2024 23:54:02 +0100 (CET)
Received: by mail-yw1-f226.google.com with SMTP id
 00721157ae682-6098a20ab22so25518117b3.2
 for <test-report@dpdk.org>; Fri, 22 Mar 2024 15:54:02 -0700 (PDT)
DKIM-Signature: v=1; a=rsa-sha256; c=relaxed/relaxed;
 d=iol.unh.edu; s=unh-iol; t=1711148042; x=1711752842; darn=dpdk.org;
 h=references:in-reply-to:cc:to:from:subject:message-id:date:from:to
 :cc:subject:date:message-id:reply-to;
 bh=JRWGl5HphKj5Wqd8p5ab/e/fpa5L2QiMPGC3fjF8T5M=;
 b=fwyf+K96sgcIBnSpuEMVM4ezp7bC2gZiqXVr7wGhVWIRTiNQZz9GYy8zIif16KfA5j
 J6H0XvUY+kDSovGNAnVenkEHTHAIZ1N3UHgDaAsNJSitxiOx3eU+nqXfRNIpS6q0dg2x
 PIvas2wCytiMJBRO6JTEkzFT+n6k0wbDjC8ec=
X-Google-DKIM-Signature: v=1; a=rsa-sha256; c=relaxed/relaxed;
 d=1e100.net; s=20230601; t=1711148042; x=1711752842;
 h=references:in-reply-to:cc:to:from:subject:message-id:date
 :x-gm-message-state:from:to:cc:subject:date:message-id:reply-to;
 bh=JRWGl5HphKj5Wqd8p5ab/e/fpa5L2QiMPGC3fjF8T5M=;
 b=i7dp98joiOdtFZMXH4vuq8YdDDSLjmpJ5WbrMlt7joAZSd+rFx3I+G4yu3Gppb36rX
 mM2QZh+trtNcKvDCSjPkeHWPTopX1QpmYKf/SP4Gz78XpfghsLR08Mmn+H32GANQ9u2Q
 dIJvzgNgmoXJqR5EpXnmRTz34LDIj2YeqSVd35QFrhFWY8RlQuQWIvKA4Bt1oUyNq9Lw
 QlUgTvxV1yOsJO0aBPjAbZHyMa9JQdleTfb4wEdS2YO45UIB6oM/tbLU9N3T3d6w0qIv
 YAr61YbMtsYCzGaTqUi0y03keWCAAte/iqYXJ8n1gK9BPCK5uRbehvsd7bqSr0snXIKg
 g9iQ==
X-Gm-Message-State: AOJu0YwawHUdgrBivZafsSS4dcn5oWgT6P615TBowIJEXccyqt1h82q1
 uZ4pSh7W0bXxTzyuw85tJl8i0J3j9LI5KR6tqK3BxIo+j1f8usZv68vFZ9XxvWEB7ji/W8XcMm9
 kMMO1Do5INosvWWWfEL4ThBefChPMr3pbPLS4cbMtbWwfiLVjweohYsDf
X-Google-Smtp-Source: AGHT+IEX607Tm2+wM3lml2YT8zbdLYHT5NjBQfYkPVHKlepkF+o6iH+jWq6IYY9aniqdVj1fFqHmYFBZAcnu
X-Received: by 2002:a81:5dd4:0:b0:60a:1f3:5964 with SMTP id
 r203-20020a815dd4000000b0060a01f35964mr875910ywb.31.1711148041869; 
 Fri, 22 Mar 2024 15:54:01 -0700 (PDT)
Received: from postal.iol.unh.edu (postal.iol.unh.edu.
 [2606:4100:3880:1234::84]) by smtp-relay.gmail.com with ESMTPS id
 b197-20020a0dd9ce000000b006079f5e97b4sm30404ywe.38.2024.03.22.15.54.01
 (version=TLS1_2 cipher=ECDHE-ECDSA-AES128-GCM-SHA256 bits=128/128);
 Fri, 22 Mar 2024 15:54:01 -0700 (PDT)
X-Relaying-Domain: iol.unh.edu
Date: Fri, 22 Mar 2024 15:54:01 -0700 (PDT)
Message-ID: <65fe0c09.0d0a0220.7667c.2131SMTPIN_ADDED_MISSING@mx.google.com>
Received: from [172.21.0.6] (unknown [172.18.0.240])
 by postal.iol.unh.edu (Postfix) with ESMTP id 76AD96052471;
 Fri, 22 Mar 2024 18:54:01 -0400 (EDT)
Subject: |SUCCESS| pw138744 [PATCH] Spelling: Fixed a spelling mistake.
From: dpdklab@iol.unh.edu
To: Test Report <test-report@dpdk.org>
Cc: dpdk-test-reports@iol.unh.edu
In-Reply-To: <20240321230352.886-1-florestecien@gmail.com>
References: <20240321230352.886-1-florestecien@gmail.com>
Content-Type: text/plain
X-BeenThere: test-report@dpdk.org
X-Mailman-Version: 2.1.29
Precedence: list
List-Id: automatic DPDK test reports <test-report.dpdk.org>
List-Unsubscribe: <https://mails.dpdk.org/options/test-report>,
 <mailto:test-report-request@dpdk.org?subject=unsubscribe>
List-Archive: <http://mails.dpdk.org/archives/test-report/>
List-Post: <mailto:test-report@dpdk.org>
List-Help: <mailto:test-report-request@dpdk.org?subject=help>
List-Subscribe: <https://mails.dpdk.org/listinfo/test-report>,
 <mailto:test-report-request@dpdk.org?subject=subscribe>
Errors-To: test-report-bounces@dpdk.org

Test-Label: iol-compile-amd64-testing
Test-Status: SUCCESS
http://dpdk.org/patch/138744

_Testing PASS_

Submitter: Flore <florestecien@gmail.com>
Date: Thursday, March 21 2024 23:03:52 
DPDK git baseline: Repo:dpdk
  Branch: master
  CommitID:0219d467bcb1d19b386b5bae8eecd3514ba13fdb

138744 --> testing pass

Test environment and result as below:

+---------------------+--------------------+----------------------+-------------------+
|     Environment     | dpdk_meson_compile | dpdk_mingw64_compile | dpdk_msvc_compile |
+=====================+====================+======================+===================+
| FreeBSD 13.2        | PASS               | SKIPPED              | SKIPPED           |
+---------------------+--------------------+----------------------+-------------------+
| Windows Server 2022 | PASS               | PASS                 | PASS              |
+---------------------+--------------------+----------------------+-------------------+
| Windows Server 2019 | PASS               | PASS                 | SKIPPED           |
+---------------------+--------------------+----------------------+-------------------+


FreeBSD 13.2
	Kernel: 13.2
	Compiler: clang 14.0.5

Windows Server 2022
	Kernel: 10.0.20348.2031
	Compiler: clang 15.0.7, gcc 8.1.0 (MinGW), and MSVC VS 17.9

Windows Server 2019
	Kernel: 10.0.17763
	Compiler: clang 14.0 and gcc 8.1.0 (MinGW)

To view detailed results, visit:
https://lab.dpdk.org/results/dashboard/patchsets/29636/

UNH-IOL DPDK Community Lab

To manage your email subscriptions, visit: 
https://lab.dpdk.org/results/dashboard/preferences/subscriptions/