From mboxrd@z Thu Jan  1 00:00:00 1970
Return-Path: <test-report-bounces@dpdk.org>
Received: from mails.dpdk.org (mails.dpdk.org [217.70.189.124])
	by inbox.dpdk.org (Postfix) with ESMTP id 9B5E043D29
	for <public@inbox.dpdk.org>; Sat, 23 Mar 2024 00:03:01 +0100 (CET)
Received: from mails.dpdk.org (localhost [127.0.0.1])
	by mails.dpdk.org (Postfix) with ESMTP id 923B842FD5;
	Sat, 23 Mar 2024 00:03:01 +0100 (CET)
Received: from mail-yb1-f228.google.com (mail-yb1-f228.google.com
 [209.85.219.228])
 by mails.dpdk.org (Postfix) with ESMTP id 1F51542FAD
 for <test-report@dpdk.org>; Sat, 23 Mar 2024 00:02:47 +0100 (CET)
Received: by mail-yb1-f228.google.com with SMTP id
 3f1490d57ef6-dccb1421bdeso2524565276.1
 for <test-report@dpdk.org>; Fri, 22 Mar 2024 16:02:47 -0700 (PDT)
DKIM-Signature: v=1; a=rsa-sha256; c=relaxed/relaxed;
 d=iol.unh.edu; s=unh-iol; t=1711148566; x=1711753366; darn=dpdk.org;
 h=references:in-reply-to:cc:to:from:subject:message-id:date:from:to
 :cc:subject:date:message-id:reply-to;
 bh=mcjNby7zv/Hk0F7JBtNgVQtFm166amD0ch7UGa9daoQ=;
 b=YWNKYt1rCCcaYxoIKL9uuGeGgcRuqwmAmx442fYGRyudCZyjtX4tLgkwoNyX4XW49B
 xiKLo0nETW+Zzg/C85c2sVELAIAp3Ivn/F52FBtT0oToRAvEk5AnwOjs2uLQiiDUJhd4
 RH1eR2pTY0naDuSP4+4TVa7DGkg9oFO7qrEBM=
X-Google-DKIM-Signature: v=1; a=rsa-sha256; c=relaxed/relaxed;
 d=1e100.net; s=20230601; t=1711148566; x=1711753366;
 h=references:in-reply-to:cc:to:from:subject:message-id:date
 :x-gm-message-state:from:to:cc:subject:date:message-id:reply-to;
 bh=mcjNby7zv/Hk0F7JBtNgVQtFm166amD0ch7UGa9daoQ=;
 b=qNfP8LecmZrJahTcCp9rWa7Wk5xPxfVUNTmcY1isT0rsQqxKUlAziLiZ+T26R1ENAY
 d3JwCCaK5iKmhUH0KBPurkOq+iAXGHTKthRThlcegwdO3L8fm89osy/8cDS1oFWmUSyG
 pkroGu5x3r5CUU1kiY9VYcnF/BVbFCIlPCURosIrwf43q9nhKE0tQCgChIMDGV9G5EL8
 +hiZTRWHWRQQhaUkQRkt4z5d2ClEIdK9XDojdcVwbxffog84nK28pZZkuMaySrDKj6eJ
 pV4Bws1LzlIlVJGnKkvesQvh+Lcyz4c/JHSTd+1qSpZpCyhoBeYDEaFs7KVxkDzO5qcE
 IbSA==
X-Gm-Message-State: AOJu0YzlZF6avg+k/73cXh7kuP+LhET3Om1V6M9RXiVxGb2CN4+LJlj7
 vAFheZ//RzmsnsGK3+JF4uY/uk2PJfexDqDu4cor4D3buARIrcJEh8y0Cxt3FCYxj7ohSs+qQMT
 nE8oC1tSLgg9DIXH+RDVwjyeUTp9MOlwQceVMy/tE
X-Google-Smtp-Source: AGHT+IFX+1b3Vy9SF4+/dCaNPztsfSZLmonFWXpBOURFqSLJTRTZVy6ki0regk/7IT7uPeqfYj/9Tv3hRyRw
X-Received: by 2002:a25:dc8b:0:b0:dcd:af3f:c7fc with SMTP id
 y133-20020a25dc8b000000b00dcdaf3fc7fcmr756769ybe.9.1711148566509; 
 Fri, 22 Mar 2024 16:02:46 -0700 (PDT)
Received: from postal.iol.unh.edu (postal.iol.unh.edu. [132.177.123.84])
 by smtp-relay.gmail.com with ESMTPS id
 e84-20020a251e57000000b00dcd2db7ad30sm25518ybe.29.2024.03.22.16.02.46
 (version=TLS1_2 cipher=ECDHE-ECDSA-AES128-GCM-SHA256 bits=128/128);
 Fri, 22 Mar 2024 16:02:46 -0700 (PDT)
X-Relaying-Domain: iol.unh.edu
Date: Fri, 22 Mar 2024 16:02:46 -0700 (PDT)
Message-ID: <65fe0e16.250a0220.f2eba.193eSMTPIN_ADDED_MISSING@mx.google.com>
Received: from [172.21.0.7] (unknown [172.18.0.240])
 by postal.iol.unh.edu (Postfix) with ESMTP id 2ADA86052471;
 Fri, 22 Mar 2024 19:02:46 -0400 (EDT)
Subject: |SUCCESS| pw138744 [PATCH] Spelling: Fixed a spelling mistake.
From: dpdklab@iol.unh.edu
To: Test Report <test-report@dpdk.org>
Cc: dpdk-test-reports@iol.unh.edu
In-Reply-To: <20240321230352.886-1-florestecien@gmail.com>
References: <20240321230352.886-1-florestecien@gmail.com>
Content-Type: text/plain
X-BeenThere: test-report@dpdk.org
X-Mailman-Version: 2.1.29
Precedence: list
List-Id: automatic DPDK test reports <test-report.dpdk.org>
List-Unsubscribe: <https://mails.dpdk.org/options/test-report>,
 <mailto:test-report-request@dpdk.org?subject=unsubscribe>
List-Archive: <http://mails.dpdk.org/archives/test-report/>
List-Post: <mailto:test-report@dpdk.org>
List-Help: <mailto:test-report-request@dpdk.org?subject=help>
List-Subscribe: <https://mails.dpdk.org/listinfo/test-report>,
 <mailto:test-report-request@dpdk.org?subject=subscribe>
Errors-To: test-report-bounces@dpdk.org

Test-Label: iol-compile-arm64-testing
Test-Status: SUCCESS
http://dpdk.org/patch/138744

_Testing PASS_

Submitter: Flore <florestecien@gmail.com>
Date: Thursday, March 21 2024 23:03:52 
DPDK git baseline: Repo:dpdk
  Branch: master
  CommitID:0219d467bcb1d19b386b5bae8eecd3514ba13fdb

138744 --> testing pass

Test environment and result as below:

+--------------------------+--------------------+
|       Environment        | dpdk_meson_compile |
+==========================+====================+
| Ubuntu 20.04 ARM SVE     | PASS               |
+--------------------------+--------------------+
| Debian 12 with MUSDK     | PASS               |
+--------------------------+--------------------+
| Debian 11 (Buster) (ARM) | PASS               |
+--------------------------+--------------------+
| CentOS Stream 9 (ARM)    | PASS               |
+--------------------------+--------------------+
| Ubuntu 20.04 (ARM)       | PASS               |
+--------------------------+--------------------+
| Fedora 38 (ARM)          | PASS               |
+--------------------------+--------------------+
| Fedora 37 (ARM)          | PASS               |
+--------------------------+--------------------+
| Debian 12 (arm)          | PASS               |
+--------------------------+--------------------+


Ubuntu 20.04 ARM SVE
	Kernel: 5.4.0-167-generic
	Compiler: gcc (Ubuntu 10.5.0-1ubuntu1~20.04) 10.5.0

Debian 12 with MUSDK
	Kernel: Container Host Kernel
	Compiler: gcc 12.2.0

Debian 11 (Buster) (ARM)
	Kernel: Container Host Kernel
	Compiler: gcc 10.2.1

CentOS Stream 9 (ARM)
	Kernel: Container Host Kernel
	Compiler: gcc 11.4.1

Ubuntu 20.04 (ARM)
	Kernel: Container Host Kernel
	Compiler: gcc 9.4.0

Fedora 38 (ARM)
	Kernel: Depends on container host
	Compiler: gcc 13.2.1

Fedora 37 (ARM)
	Kernel: Depends on container host
	Compiler: gcc 12.3.1

Debian 12 (arm)
	Kernel: Container Host Kernel
	Compiler: gcc 12.2.0

To view detailed results, visit:
https://lab.dpdk.org/results/dashboard/patchsets/29636/

UNH-IOL DPDK Community Lab

To manage your email subscriptions, visit: 
https://lab.dpdk.org/results/dashboard/preferences/subscriptions/