From mboxrd@z Thu Jan  1 00:00:00 1970
Return-Path: <test-report-bounces@dpdk.org>
Received: from mails.dpdk.org (mails.dpdk.org [217.70.189.124])
	by inbox.dpdk.org (Postfix) with ESMTP id C846943D29
	for <public@inbox.dpdk.org>; Sat, 23 Mar 2024 00:05:48 +0100 (CET)
Received: from mails.dpdk.org (localhost [127.0.0.1])
	by mails.dpdk.org (Postfix) with ESMTP id C2EDA42FAD;
	Sat, 23 Mar 2024 00:05:48 +0100 (CET)
Received: from mail-pf1-f228.google.com (mail-pf1-f228.google.com
 [209.85.210.228])
 by mails.dpdk.org (Postfix) with ESMTP id C0FC940279
 for <test-report@dpdk.org>; Sat, 23 Mar 2024 00:05:42 +0100 (CET)
Received: by mail-pf1-f228.google.com with SMTP id
 d2e1a72fcca58-6e8f76f18d3so1954937b3a.0
 for <test-report@dpdk.org>; Fri, 22 Mar 2024 16:05:42 -0700 (PDT)
DKIM-Signature: v=1; a=rsa-sha256; c=relaxed/relaxed;
 d=iol.unh.edu; s=unh-iol; t=1711148742; x=1711753542; darn=dpdk.org;
 h=references:in-reply-to:cc:to:from:subject:message-id:date:from:to
 :cc:subject:date:message-id:reply-to;
 bh=Mte3qgGHhg84CK8/m04msvhWiBYiE1THLAuTYR5eW4U=;
 b=GzrAF+IpUOmvy2hO4kmfzGPKoT+CySMMRUwKPzCR+bysk9IcyYFm0LBmjRhahFBube
 YllkRpv/L7g3yx1CpSeAxIHmXs+l+EhO6LM099Ui7s6vkwXMMW9nBb0mezY/tJWkzdFB
 RCCcARrv/yiIsWhXddEZtbm9qw+pLoHFRUa60=
X-Google-DKIM-Signature: v=1; a=rsa-sha256; c=relaxed/relaxed;
 d=1e100.net; s=20230601; t=1711148742; x=1711753542;
 h=references:in-reply-to:cc:to:from:subject:message-id:date
 :x-gm-message-state:from:to:cc:subject:date:message-id:reply-to;
 bh=Mte3qgGHhg84CK8/m04msvhWiBYiE1THLAuTYR5eW4U=;
 b=j37LfwaKE8mqsB0nOlg6QknAxd0v4zLFcAdXZ8PYd4j0e0jV7cHTy7oZWtcosoLBRu
 nyP2eNCdu0TZBamdy+pDI9feBEwHow86j0mEwLXKtDNGmYbilN5V62FKyLIVEUyX6PMb
 4z81kEEQ4goeHq/Xm8Vv4iz4VX8acbE1Xt0KcO3+nV7ybK/JGR2IEns2IoT0FQRiHDqC
 liKLHa8pgeOJ3a1Lxr4lITJbx71B7qQSuIkQwdXwRMoEYTp/p+aOmhAuF9QMRTYOg0QX
 U/Yq9eA3KiFLGBQJrnQj3mA+TfE/aqkhpDjCXGRe4TtR7+qDsBH9XjWFVApIBPZmrBNx
 Yigg==
X-Gm-Message-State: AOJu0YxrryIIqdP8Nkr4rKQrQXsu3y90V1QcY+E80iBgbtAkpsi3TPVr
 9x89wvCgdymsmaMW7ejtSKwX5wAyktL0CeUCyfQiHP4cRd/uxAur2Qd6rwpdx4vizxzzBpM6102
 GFLaI2oc+ExEXaM7i65KzyzxWOOLuRuoz/5AD9oMukyl7l/a2zKf1GgM/
X-Google-Smtp-Source: AGHT+IEc4TWUJraNq4A56zW1NvW6phua07nFErAmC/XmB+ypNFR7drHtXfFGGPX31CNRaM/Rwc57cOfArTM/
X-Received: by 2002:a05:6a00:93aa:b0:6e6:fb9a:fb45 with SMTP id
 ka42-20020a056a0093aa00b006e6fb9afb45mr517588pfb.1.1711148741897; 
 Fri, 22 Mar 2024 16:05:41 -0700 (PDT)
Received: from postal.iol.unh.edu (postal.iol.unh.edu.
 [2606:4100:3880:1234::84]) by smtp-relay.gmail.com with ESMTPS id
 h7-20020a632107000000b005b9053d0ff2sm132152pgh.7.2024.03.22.16.05.41
 (version=TLS1_2 cipher=ECDHE-ECDSA-AES128-GCM-SHA256 bits=128/128);
 Fri, 22 Mar 2024 16:05:41 -0700 (PDT)
X-Relaying-Domain: iol.unh.edu
Date: Fri, 22 Mar 2024 16:05:41 -0700 (PDT)
Message-ID: <65fe0ec5.630a0220.4e8cc.6a8aSMTPIN_ADDED_MISSING@mx.google.com>
Received: from [172.21.0.6] (unknown [172.18.0.240])
 by postal.iol.unh.edu (Postfix) with ESMTP id 234406052471;
 Fri, 22 Mar 2024 19:05:41 -0400 (EDT)
Subject: |SUCCESS| pw138743 [PATCH] Spelling: Fixed a spelling.
From: dpdklab@iol.unh.edu
To: Test Report <test-report@dpdk.org>
Cc: dpdk-test-reports@iol.unh.edu
In-Reply-To: <20240321230225.3483-1-embm29@gmail.com>
References: <20240321230225.3483-1-embm29@gmail.com>
Content-Type: text/plain
X-BeenThere: test-report@dpdk.org
X-Mailman-Version: 2.1.29
Precedence: list
List-Id: automatic DPDK test reports <test-report.dpdk.org>
List-Unsubscribe: <https://mails.dpdk.org/options/test-report>,
 <mailto:test-report-request@dpdk.org?subject=unsubscribe>
List-Archive: <http://mails.dpdk.org/archives/test-report/>
List-Post: <mailto:test-report@dpdk.org>
List-Help: <mailto:test-report-request@dpdk.org?subject=help>
List-Subscribe: <https://mails.dpdk.org/listinfo/test-report>,
 <mailto:test-report-request@dpdk.org?subject=subscribe>
Errors-To: test-report-bounces@dpdk.org

Test-Label: iol-unit-arm64-testing
Test-Status: SUCCESS
http://dpdk.org/patch/138743

_Testing PASS_

Submitter: EmiAoki <embm29@gmail.com>
Date: Thursday, March 21 2024 23:02:25 
DPDK git baseline: Repo:dpdk
  Branch: master
  CommitID:0219d467bcb1d19b386b5bae8eecd3514ba13fdb

138743 --> testing pass

Test environment and result as below:

+--------------------------+----------------+---------------------------+------------------------------+
|       Environment        | dpdk_unit_test | cryptodev_sw_zuc_autotest | cryptodev_sw_snow3g_autotest |
+==========================+================+===========================+==============================+
| CentOS Stream 9 (ARM)    | PASS           | SKIPPED                   | SKIPPED                      |
+--------------------------+----------------+---------------------------+------------------------------+
| Debian 11 (Buster) (ARM) | PASS           | SKIPPED                   | SKIPPED                      |
+--------------------------+----------------+---------------------------+------------------------------+
| Debian 12 (arm)          | PASS           | PASS                      | PASS                         |
+--------------------------+----------------+---------------------------+------------------------------+
| Fedora 37 (ARM)          | PASS           | SKIPPED                   | SKIPPED                      |
+--------------------------+----------------+---------------------------+------------------------------+
| Fedora 38 (ARM)          | PASS           | SKIPPED                   | SKIPPED                      |
+--------------------------+----------------+---------------------------+------------------------------+
| Ubuntu 20.04 (ARM)       | PASS           | SKIPPED                   | SKIPPED                      |
+--------------------------+----------------+---------------------------+------------------------------+


CentOS Stream 9 (ARM)
	Kernel: Container Host Kernel
	Compiler: gcc 11.4.1

Debian 11 (Buster) (ARM)
	Kernel: Container Host Kernel
	Compiler: gcc 10.2.1

Debian 12 (arm)
	Kernel: Container Host Kernel
	Compiler: gcc 12.2.0

Fedora 37 (ARM)
	Kernel: Depends on container host
	Compiler: gcc 12.3.1

Fedora 38 (ARM)
	Kernel: Depends on container host
	Compiler: gcc 13.2.1

Ubuntu 20.04 (ARM)
	Kernel: Container Host Kernel
	Compiler: gcc 9.4.0

To view detailed results, visit:
https://lab.dpdk.org/results/dashboard/patchsets/29635/

UNH-IOL DPDK Community Lab

To manage your email subscriptions, visit: 
https://lab.dpdk.org/results/dashboard/preferences/subscriptions/