From mboxrd@z Thu Jan  1 00:00:00 1970
Return-Path: <test-report-bounces@dpdk.org>
Received: from mails.dpdk.org (mails.dpdk.org [217.70.189.124])
	by inbox.dpdk.org (Postfix) with ESMTP id 121AD43D29
	for <public@inbox.dpdk.org>; Sat, 23 Mar 2024 00:06:46 +0100 (CET)
Received: from mails.dpdk.org (localhost [127.0.0.1])
	by mails.dpdk.org (Postfix) with ESMTP id 0D2A342FAD;
	Sat, 23 Mar 2024 00:06:46 +0100 (CET)
Received: from mail-io1-f98.google.com (mail-io1-f98.google.com
 [209.85.166.98]) by mails.dpdk.org (Postfix) with ESMTP id DB59C40279
 for <test-report@dpdk.org>; Sat, 23 Mar 2024 00:06:43 +0100 (CET)
Received: by mail-io1-f98.google.com with SMTP id
 ca18e2360f4ac-7cc01644f51so117515839f.2
 for <test-report@dpdk.org>; Fri, 22 Mar 2024 16:06:43 -0700 (PDT)
DKIM-Signature: v=1; a=rsa-sha256; c=relaxed/relaxed;
 d=iol.unh.edu; s=unh-iol; t=1711148803; x=1711753603; darn=dpdk.org;
 h=references:in-reply-to:cc:to:from:subject:message-id:date:from:to
 :cc:subject:date:message-id:reply-to;
 bh=Mte3qgGHhg84CK8/m04msvhWiBYiE1THLAuTYR5eW4U=;
 b=Pq9Vp67exbcv6AK9Egsud28tWMtDHdwDhu/K2SyCx8lIQfLSGAqGcyVkHeCZ/c8oRX
 NbazViqf0Y/5duLPg9CcG/DbLM7Bm7yGV6MEKQGaHgd9275oAkG3sbsNjZtFk8kCcjMc
 BvtuULIUqOcuHOVFpwUQjsCSxhilLmm7Yetns=
X-Google-DKIM-Signature: v=1; a=rsa-sha256; c=relaxed/relaxed;
 d=1e100.net; s=20230601; t=1711148803; x=1711753603;
 h=references:in-reply-to:cc:to:from:subject:message-id:date
 :x-gm-message-state:from:to:cc:subject:date:message-id:reply-to;
 bh=Mte3qgGHhg84CK8/m04msvhWiBYiE1THLAuTYR5eW4U=;
 b=omyI7JDdmt5TI84TRA3W3GZ5JZAs1QjvANOtcpa1kguj/tPWHZ5xzdpJaQe+cSLO4G
 uHT0TkkZpTKsUvmBS0ScEmCxpvPgmiVL4dfPaJo/YOW1ZJFlqfx7rBzswKtnuAepkvKf
 3IowmnxMUM+5rM7N9iRDsUArQemU+OheADN0YiD70IvnBIm6JG0I94hF/oN8DqM37zAk
 ts7l5hR0xQ1ApcJaWSUvAh90fZa3BDorapvWxdsFpUaQDPh+34/rIUldMyWXRm3XLAID
 uQGws54k1AYSuK8KBfHIpPAmc2OnGoUiY16J+J/27xVoHcd4DuUPdXeX0fKEjlCRt0BU
 Uccw==
X-Gm-Message-State: AOJu0YyJ9O7vszpjSNZc4UXNHg1PG/YWmk3VoR4dUCnSPGxVQOsQKmpO
 /DaE8iCYfNgZDMD/8TlflB2mTgumKTkkwCaGJo8i+c3iC92DyY1TsxzFP4L8iIhEDcebV8StIgg
 0xmM3JH2MfUYT3Ucnj5g/Juhz0KB0is5nRfxdCy7SNyqgqPwKbArwaT0a
X-Google-Smtp-Source: AGHT+IGf9uZhJgARzTgggJejPAFRTty3BvdY/7UpdPR+dHZeKz7SXhX6Xh/trmokvzYdEYuVmprT7FOvGJox
X-Received: by 2002:a6b:6109:0:b0:7d0:3c3b:b071 with SMTP id
 v9-20020a6b6109000000b007d03c3bb071mr871391iob.2.1711148803302; 
 Fri, 22 Mar 2024 16:06:43 -0700 (PDT)
Received: from postal.iol.unh.edu (postal.iol.unh.edu.
 [2606:4100:3880:1234::84]) by smtp-relay.gmail.com with ESMTPS id
 b6-20020a05663801a600b0047be7135660sm112022jaq.47.2024.03.22.16.06.43
 (version=TLS1_2 cipher=ECDHE-ECDSA-AES128-GCM-SHA256 bits=128/128);
 Fri, 22 Mar 2024 16:06:43 -0700 (PDT)
X-Relaying-Domain: iol.unh.edu
Date: Fri, 22 Mar 2024 16:06:43 -0700 (PDT)
Message-ID: <65fe0f03.050a0220.f8f16.59f9SMTPIN_ADDED_MISSING@mx.google.com>
Received: from [172.21.0.7] (unknown [172.18.0.240])
 by postal.iol.unh.edu (Postfix) with ESMTP id BA0936052471;
 Fri, 22 Mar 2024 19:06:42 -0400 (EDT)
Subject: |SUCCESS| pw138743 [PATCH] Spelling: Fixed a spelling.
From: dpdklab@iol.unh.edu
To: Test Report <test-report@dpdk.org>
Cc: dpdk-test-reports@iol.unh.edu
In-Reply-To: <20240321230225.3483-1-embm29@gmail.com>
References: <20240321230225.3483-1-embm29@gmail.com>
Content-Type: text/plain
X-BeenThere: test-report@dpdk.org
X-Mailman-Version: 2.1.29
Precedence: list
List-Id: automatic DPDK test reports <test-report.dpdk.org>
List-Unsubscribe: <https://mails.dpdk.org/options/test-report>,
 <mailto:test-report-request@dpdk.org?subject=unsubscribe>
List-Archive: <http://mails.dpdk.org/archives/test-report/>
List-Post: <mailto:test-report@dpdk.org>
List-Help: <mailto:test-report-request@dpdk.org?subject=help>
List-Subscribe: <https://mails.dpdk.org/listinfo/test-report>,
 <mailto:test-report-request@dpdk.org?subject=subscribe>
Errors-To: test-report-bounces@dpdk.org

Test-Label: iol-unit-arm64-testing
Test-Status: SUCCESS
http://dpdk.org/patch/138743

_Testing PASS_

Submitter: EmiAoki <embm29@gmail.com>
Date: Thursday, March 21 2024 23:02:25 
DPDK git baseline: Repo:dpdk
  Branch: master
  CommitID:0219d467bcb1d19b386b5bae8eecd3514ba13fdb

138743 --> testing pass

Test environment and result as below:

+--------------------------+----------------+---------------------------+------------------------------+
|       Environment        | dpdk_unit_test | cryptodev_sw_zuc_autotest | cryptodev_sw_snow3g_autotest |
+==========================+================+===========================+==============================+
| CentOS Stream 9 (ARM)    | PASS           | SKIPPED                   | SKIPPED                      |
+--------------------------+----------------+---------------------------+------------------------------+
| Debian 11 (Buster) (ARM) | PASS           | SKIPPED                   | SKIPPED                      |
+--------------------------+----------------+---------------------------+------------------------------+
| Debian 12 (arm)          | PASS           | PASS                      | PASS                         |
+--------------------------+----------------+---------------------------+------------------------------+
| Fedora 37 (ARM)          | PASS           | SKIPPED                   | SKIPPED                      |
+--------------------------+----------------+---------------------------+------------------------------+
| Fedora 38 (ARM)          | PASS           | SKIPPED                   | SKIPPED                      |
+--------------------------+----------------+---------------------------+------------------------------+
| Ubuntu 20.04 (ARM)       | PASS           | SKIPPED                   | SKIPPED                      |
+--------------------------+----------------+---------------------------+------------------------------+


CentOS Stream 9 (ARM)
	Kernel: Container Host Kernel
	Compiler: gcc 11.4.1

Debian 11 (Buster) (ARM)
	Kernel: Container Host Kernel
	Compiler: gcc 10.2.1

Debian 12 (arm)
	Kernel: Container Host Kernel
	Compiler: gcc 12.2.0

Fedora 37 (ARM)
	Kernel: Depends on container host
	Compiler: gcc 12.3.1

Fedora 38 (ARM)
	Kernel: Depends on container host
	Compiler: gcc 13.2.1

Ubuntu 20.04 (ARM)
	Kernel: Container Host Kernel
	Compiler: gcc 9.4.0

To view detailed results, visit:
https://lab.dpdk.org/results/dashboard/patchsets/29635/

UNH-IOL DPDK Community Lab

To manage your email subscriptions, visit: 
https://lab.dpdk.org/results/dashboard/preferences/subscriptions/