From mboxrd@z Thu Jan  1 00:00:00 1970
Return-Path: <test-report-bounces@dpdk.org>
Received: from mails.dpdk.org (mails.dpdk.org [217.70.189.124])
	by inbox.dpdk.org (Postfix) with ESMTP id 8257043D27
	for <public@inbox.dpdk.org>; Sat, 23 Mar 2024 00:09:33 +0100 (CET)
Received: from mails.dpdk.org (localhost [127.0.0.1])
	by mails.dpdk.org (Postfix) with ESMTP id 7979743246;
	Sat, 23 Mar 2024 00:09:33 +0100 (CET)
Received: from mail-pj1-f99.google.com (mail-pj1-f99.google.com
 [209.85.216.99]) by mails.dpdk.org (Postfix) with ESMTP id A00F340279
 for <test-report@dpdk.org>; Sat, 23 Mar 2024 00:09:30 +0100 (CET)
Received: by mail-pj1-f99.google.com with SMTP id
 98e67ed59e1d1-29c14800a7fso1886061a91.2
 for <test-report@dpdk.org>; Fri, 22 Mar 2024 16:09:30 -0700 (PDT)
DKIM-Signature: v=1; a=rsa-sha256; c=relaxed/relaxed;
 d=iol.unh.edu; s=unh-iol; t=1711148970; x=1711753770; darn=dpdk.org;
 h=references:in-reply-to:cc:to:from:subject:message-id:date:from:to
 :cc:subject:date:message-id:reply-to;
 bh=kFOiT5Ti4TJX3RXKWfYywJHL8vCMdx4g6CLzaBjkOCw=;
 b=ZeQTHlx/LI4ZzFOviy2mW6xCGuICTD4+VyjHmOrnTJnFFJk7YU9oSZbYD6j4iat0Vo
 /+EPK0/dPc2TrE8cBXqn0FSD/TP8+nDBhkRahVBV2sQYhltcwgIeA/zn6ape1XYoF27L
 vGyXTsy2IFUHGfAwxbv0FbgP5kI/QuPCocJ0A=
X-Google-DKIM-Signature: v=1; a=rsa-sha256; c=relaxed/relaxed;
 d=1e100.net; s=20230601; t=1711148970; x=1711753770;
 h=references:in-reply-to:cc:to:from:subject:message-id:date
 :x-gm-message-state:from:to:cc:subject:date:message-id:reply-to;
 bh=kFOiT5Ti4TJX3RXKWfYywJHL8vCMdx4g6CLzaBjkOCw=;
 b=Jv7gfPmCCFMh0wUSwMGO5/mARt9ErThPXmSWx6NQgasUBUUJx6q+MW1BSul8dhwJkP
 9pfVZPqJKHfF9iTq/WgBYhheoLNXHAW77qhOWYmos05xgrcezpjL+lzwN/UruN2uQ21T
 axyH9sx6cncaUihxq5F+qnUQFa1PhsfVbm/Qj0pVoHCXB2YStXUgPbqqXq+oVS4QTNAk
 3s4afxhFcddo5nLH8c7mkMpKyWt14bKYx+F9rZqTDCVztSgV+jRaW/Emeu4DBtEaMsmo
 ykKFF2tmhxZN2mS7heBsloVfusFE+87UJc3lIXL2yZd6D+rMsL/9feLWGzTXTeUH235w
 g3Qg==
X-Gm-Message-State: AOJu0Yzx/zoQhzd1YlkncHLDyIkKKrMHX6IFKSgrdfcZ9CDWaskSWhpi
 06wVjJnfA7QdRWAzUsvB0Djv4sW1u1I8u2xqutzOrH5W8pTIjq2rhbLFBA1Q6/sCnhHOVFSI34W
 bJzrYRaIWcxLQxa6s6UF7zpuRXQGylZcZI/nq64d/
X-Google-Smtp-Source: AGHT+IGLVZPj6IQk9F8tm3vzsF3GApKbEFAmrO+QlWMersQt6pmMYbeq6Xspv0IsZiIAqLRtJXOZzFzmJ48d
X-Received: by 2002:a17:90b:3002:b0:29c:791d:b5d5 with SMTP id
 hg2-20020a17090b300200b0029c791db5d5mr1317766pjb.34.1711148969743; 
 Fri, 22 Mar 2024 16:09:29 -0700 (PDT)
Received: from postal.iol.unh.edu (postal.iol.unh.edu. [132.177.123.84])
 by smtp-relay.gmail.com with ESMTPS id
 iq13-20020a17090afb4d00b002a046a6311esm44253pjb.14.2024.03.22.16.09.29
 (version=TLS1_2 cipher=ECDHE-ECDSA-AES128-GCM-SHA256 bits=128/128);
 Fri, 22 Mar 2024 16:09:29 -0700 (PDT)
X-Relaying-Domain: iol.unh.edu
Date: Fri, 22 Mar 2024 16:09:29 -0700 (PDT)
Message-ID: <65fe0fa9.170a0220.cffba.2d9aSMTPIN_ADDED_MISSING@mx.google.com>
Received: from [172.21.0.6] (unknown [172.18.0.240])
 by postal.iol.unh.edu (Postfix) with ESMTP id E59D46052471;
 Fri, 22 Mar 2024 19:09:28 -0400 (EDT)
Subject: |SUCCESS| pw138745 [PATCH] Spelling: Fix Spelling mistake.
From: dpdklab@iol.unh.edu
To: Test Report <test-report@dpdk.org>
Cc: dpdk-test-reports@iol.unh.edu
In-Reply-To: <20240321230529.2677-1-vinh.t.tran10@gmail.com>
References: <20240321230529.2677-1-vinh.t.tran10@gmail.com>
Content-Type: text/plain
X-BeenThere: test-report@dpdk.org
X-Mailman-Version: 2.1.29
Precedence: list
List-Id: automatic DPDK test reports <test-report.dpdk.org>
List-Unsubscribe: <https://mails.dpdk.org/options/test-report>,
 <mailto:test-report-request@dpdk.org?subject=unsubscribe>
List-Archive: <http://mails.dpdk.org/archives/test-report/>
List-Post: <mailto:test-report@dpdk.org>
List-Help: <mailto:test-report-request@dpdk.org?subject=help>
List-Subscribe: <https://mails.dpdk.org/listinfo/test-report>,
 <mailto:test-report-request@dpdk.org?subject=subscribe>
Errors-To: test-report-bounces@dpdk.org

Test-Label: iol-compile-arm64-testing
Test-Status: SUCCESS
http://dpdk.org/patch/138745

_Testing PASS_

Submitter: None <vinh.t.tran10@gmail.com>
Date: Thursday, March 21 2024 23:05:29 
DPDK git baseline: Repo:dpdk
  Branch: master
  CommitID:0219d467bcb1d19b386b5bae8eecd3514ba13fdb

138745 --> testing pass

Test environment and result as below:

+----------------------------------------+--------------------+
|              Environment               | dpdk_meson_compile |
+========================================+====================+
| Ubuntu 20.04 ARM SVE                   | PASS               |
+----------------------------------------+--------------------+
| Debian 12 with MUSDK                   | PASS               |
+----------------------------------------+--------------------+
| Fedora 37 (ARM)                        | PASS               |
+----------------------------------------+--------------------+
| Fedora 38 (ARM)                        | PASS               |
+----------------------------------------+--------------------+
| Debian 11 (Buster) (ARM)               | PASS               |
+----------------------------------------+--------------------+
| Ubuntu 20.04 (ARM)                     | PASS               |
+----------------------------------------+--------------------+
| Debian 12 (arm)                        | PASS               |
+----------------------------------------+--------------------+
| CentOS Stream 9 (ARM)                  | PASS               |
+----------------------------------------+--------------------+
| Ubuntu 20.04 ARM GCC Cross Compile     | PASS               |
+----------------------------------------+--------------------+
| Ubuntu 20.04 aarch32 GCC Cross Compile | PASS               |
+----------------------------------------+--------------------+


Ubuntu 20.04 ARM SVE
	Kernel: 5.4.0-167-generic
	Compiler: gcc (Ubuntu 10.5.0-1ubuntu1~20.04) 10.5.0

Debian 12 with MUSDK
	Kernel: Container Host Kernel
	Compiler: gcc 12.2.0

Fedora 37 (ARM)
	Kernel: Depends on container host
	Compiler: gcc 12.3.1

Fedora 38 (ARM)
	Kernel: Depends on container host
	Compiler: gcc 13.2.1

Debian 11 (Buster) (ARM)
	Kernel: Container Host Kernel
	Compiler: gcc 10.2.1

Ubuntu 20.04 (ARM)
	Kernel: Container Host Kernel
	Compiler: gcc 9.4.0

Debian 12 (arm)
	Kernel: Container Host Kernel
	Compiler: gcc 12.2.0

CentOS Stream 9 (ARM)
	Kernel: Container Host Kernel
	Compiler: gcc 11.4.1

Ubuntu 20.04 ARM GCC Cross Compile
	Kernel: 5.4.0-167-generic
	Compiler: aarch64-linux-gnu-gcc (Ubuntu 9.4.0-1ubuntu1~20.04.2) 9.4.0

Ubuntu 20.04 aarch32 GCC Cross Compile
	Kernel: 5.4.0-167-generic
	Compiler: gcc 9.4.0

To view detailed results, visit:
https://lab.dpdk.org/results/dashboard/patchsets/29637/

UNH-IOL DPDK Community Lab

To manage your email subscriptions, visit: 
https://lab.dpdk.org/results/dashboard/preferences/subscriptions/