From mboxrd@z Thu Jan  1 00:00:00 1970
Return-Path: <test-report-bounces@dpdk.org>
Received: from mails.dpdk.org (mails.dpdk.org [217.70.189.124])
	by inbox.dpdk.org (Postfix) with ESMTP id 20B2743D27
	for <public@inbox.dpdk.org>; Sat, 23 Mar 2024 00:16:54 +0100 (CET)
Received: from mails.dpdk.org (localhost [127.0.0.1])
	by mails.dpdk.org (Postfix) with ESMTP id 0646842EE2;
	Sat, 23 Mar 2024 00:16:54 +0100 (CET)
Received: from mail-io1-f99.google.com (mail-io1-f99.google.com
 [209.85.166.99]) by mails.dpdk.org (Postfix) with ESMTP id CCC5640279
 for <test-report@dpdk.org>; Sat, 23 Mar 2024 00:16:52 +0100 (CET)
Received: by mail-io1-f99.google.com with SMTP id
 ca18e2360f4ac-7cc77c19a19so110292639f.2
 for <test-report@dpdk.org>; Fri, 22 Mar 2024 16:16:52 -0700 (PDT)
DKIM-Signature: v=1; a=rsa-sha256; c=relaxed/relaxed;
 d=iol.unh.edu; s=unh-iol; t=1711149412; x=1711754212; darn=dpdk.org;
 h=references:in-reply-to:cc:to:from:subject:message-id:date:from:to
 :cc:subject:date:message-id:reply-to;
 bh=Wb+sA1bkgUReqS+xCTmIBUjT6BoOkHSBmnsX21TuGgw=;
 b=Y8GtGgS1SJpZ0swnUMAKhZ+XDrQ6LwVoNMjLbnKHO7LhNz0AfB8JgLvY6S1lD033FY
 r5mTNLXpW+ChF+ZYac1YPm3/R6tOf7O1Lqe2xtaepE2qPbvcl/AuueCq53SOUphC+kob
 CYrCZgtOdP1zwivz7Ph+Tz0kUke3KEt/86aj8=
X-Google-DKIM-Signature: v=1; a=rsa-sha256; c=relaxed/relaxed;
 d=1e100.net; s=20230601; t=1711149412; x=1711754212;
 h=references:in-reply-to:cc:to:from:subject:message-id:date
 :x-gm-message-state:from:to:cc:subject:date:message-id:reply-to;
 bh=Wb+sA1bkgUReqS+xCTmIBUjT6BoOkHSBmnsX21TuGgw=;
 b=vAf8U7plXXKi50dUJoTHpWjfaGzkT7/Y2P9fLD7NchRVrkzsc1P5MwexULhLlOB6Wk
 Fg/G76QuKHHczKo703Cs0FNEnz1sJ4puJno83LnK3AketqM4awxkpD4x32Bwze3aH6RE
 /m3MpS8jyTf5PbkL/Nnh6wxcHJl++yM4XnV4qV2KNcCPO0yvlBMRR7h3AqneizcDqxeg
 m2rsUb89vQ53PvAohpxTFfC2MIUdQCwTlZM3qp8JCYUhYi+dGoDywuTK6qUEGzrAz5UU
 deWMT6yd/OCGTJa+f6NNxBstBHc7YY5gE94Zg67Vy63fE6iwgBV9pUda3xkLBerW58wB
 Tljg==
X-Gm-Message-State: AOJu0YwyQ9DDLI1xpXWtz7R8H6nv022kGaedh6v7W4AHuMC69pe/CNfK
 8fNTF7Yyiu1XQOcOX9Mfs15UL/KWndagHiiW9UZ+buQ9iaURt+x6Yr8SZUbpiQZPY5H3E7ueer/
 to79/TfR2jfPQ5lZlMRD7h//ajsGk0lqUcb5MUY1/
X-Google-Smtp-Source: AGHT+IE6zJJWMndi9YsCQxnruXSVuFTJ4RUNOSzpFs5DR7yGf6ucSMN70X0WJe25xiOuF5wMIcYqIhrQkcAM
X-Received: by 2002:a5e:da0a:0:b0:7cf:83c:b05 with SMTP id
 x10-20020a5eda0a000000b007cf083c0b05mr1001637ioj.9.1711149412225; 
 Fri, 22 Mar 2024 16:16:52 -0700 (PDT)
Received: from postal.iol.unh.edu (postal.iol.unh.edu. [132.177.123.84])
 by smtp-relay.gmail.com with ESMTPS id
 z14-20020a5ec90e000000b007c86477abecsm120655iol.23.2024.03.22.16.16.52
 (version=TLS1_2 cipher=ECDHE-ECDSA-AES128-GCM-SHA256 bits=128/128);
 Fri, 22 Mar 2024 16:16:52 -0700 (PDT)
X-Relaying-Domain: iol.unh.edu
Date: Fri, 22 Mar 2024 16:16:52 -0700 (PDT)
Message-ID: <65fe1164.5e0a0220.9eee1.5994SMTPIN_ADDED_MISSING@mx.google.com>
Received: from [172.21.0.7] (unknown [172.18.0.240])
 by postal.iol.unh.edu (Postfix) with ESMTP id B05B96052471;
 Fri, 22 Mar 2024 19:16:51 -0400 (EDT)
Subject: |SUCCESS| pw138744 [PATCH] Spelling: Fixed a spelling mistake.
From: dpdklab@iol.unh.edu
To: Test Report <test-report@dpdk.org>
Cc: dpdk-test-reports@iol.unh.edu
In-Reply-To: <20240321230352.886-1-florestecien@gmail.com>
References: <20240321230352.886-1-florestecien@gmail.com>
Content-Type: text/plain
X-BeenThere: test-report@dpdk.org
X-Mailman-Version: 2.1.29
Precedence: list
List-Id: automatic DPDK test reports <test-report.dpdk.org>
List-Unsubscribe: <https://mails.dpdk.org/options/test-report>,
 <mailto:test-report-request@dpdk.org?subject=unsubscribe>
List-Archive: <http://mails.dpdk.org/archives/test-report/>
List-Post: <mailto:test-report@dpdk.org>
List-Help: <mailto:test-report-request@dpdk.org?subject=help>
List-Subscribe: <https://mails.dpdk.org/listinfo/test-report>,
 <mailto:test-report-request@dpdk.org?subject=subscribe>
Errors-To: test-report-bounces@dpdk.org

Test-Label: iol-unit-amd64-testing
Test-Status: SUCCESS
http://dpdk.org/patch/138744

_Testing PASS_

Submitter: Flore <florestecien@gmail.com>
Date: Thursday, March 21 2024 23:03:52 
DPDK git baseline: Repo:dpdk
  Branch: master
  CommitID:0219d467bcb1d19b386b5bae8eecd3514ba13fdb

138744 --> testing pass

Test environment and result as below:

+------------------+----------------+
|   Environment    | dpdk_unit_test |
+==================+================+
| CentOS Stream 8  | PASS           |
+------------------+----------------+
| CentOS Stream 9  | PASS           |
+------------------+----------------+
| Debian Bullseye  | PASS           |
+------------------+----------------+
| Debian 11 (arm)  | PASS           |
+------------------+----------------+
| Fedora 37        | PASS           |
+------------------+----------------+
| Fedora 38        | PASS           |
+------------------+----------------+
| Ubuntu 20.04     | PASS           |
+------------------+----------------+
| openSUSE Leap 15 | PASS           |
+------------------+----------------+
| Ubuntu 22.04     | PASS           |
+------------------+----------------+


CentOS Stream 8
	Kernel: 5.4.0-167-generic
	Compiler: gcc 8.5.0 20210514

CentOS Stream 9
	Kernel: 5.4.0-167-generic
	Compiler: gcc 11.4.1 20230605

Debian Bullseye
	Kernel: 5.4.0-167-generic
	Compiler: gcc 10.2.1-6

Debian 11 (arm)
	Kernel: Container Host Kernel
	Compiler: gcc 10.2.1

Fedora 37
	Kernel: Depends on container host system
	Compiler: gcc 12.3.1

Fedora 38
	Kernel: Depends on container host
	Compiler: gcc 13.2.1

Ubuntu 20.04
	Kernel: 5.4.0-167-generic
	Compiler: gcc 9.4.0-1ubuntu1~20.04.1

openSUSE Leap 15
	Kernel: 5.4.0-167-generic
	Compiler: gcc 7.5.0

Ubuntu 22.04
	Kernel: 5.4.0-167-generic
	Compiler: gcc 11.4.0

To view detailed results, visit:
https://lab.dpdk.org/results/dashboard/patchsets/29636/

UNH-IOL DPDK Community Lab

To manage your email subscriptions, visit: 
https://lab.dpdk.org/results/dashboard/preferences/subscriptions/