From mboxrd@z Thu Jan  1 00:00:00 1970
Return-Path: <test-report-bounces@dpdk.org>
Received: from mails.dpdk.org (mails.dpdk.org [217.70.189.124])
	by inbox.dpdk.org (Postfix) with ESMTP id 56CEC43D27
	for <public@inbox.dpdk.org>; Sat, 23 Mar 2024 00:19:33 +0100 (CET)
Received: from mails.dpdk.org (localhost [127.0.0.1])
	by mails.dpdk.org (Postfix) with ESMTP id 5129242EE2;
	Sat, 23 Mar 2024 00:19:33 +0100 (CET)
Received: from mail-yb1-f227.google.com (mail-yb1-f227.google.com
 [209.85.219.227])
 by mails.dpdk.org (Postfix) with ESMTP id E1A9F40279
 for <test-report@dpdk.org>; Sat, 23 Mar 2024 00:19:31 +0100 (CET)
Received: by mail-yb1-f227.google.com with SMTP id
 3f1490d57ef6-db4364ecd6aso2627978276.2
 for <test-report@dpdk.org>; Fri, 22 Mar 2024 16:19:31 -0700 (PDT)
DKIM-Signature: v=1; a=rsa-sha256; c=relaxed/relaxed;
 d=iol.unh.edu; s=unh-iol; t=1711149571; x=1711754371; darn=dpdk.org;
 h=references:in-reply-to:cc:to:from:subject:message-id:date:from:to
 :cc:subject:date:message-id:reply-to;
 bh=WRtTQ+1qwV18YIteUx7mc0fLoZU1zGE0OJbSk3QV7lc=;
 b=HmZqpKss38sA3YZ5yut8FHedJ26ypOUppCrCDhe265P/jkwQ3SqIoUJ9wZC5arkqYX
 LIW0IpB1iMcUkXJ55lTRi5VOtSTwbCQI5Y7yUqYS6cxDVoDMSyILzKFkgte4niGW77bp
 3Bt8UNHsK9cPxeaxpkKT/+v/T5NLIgs4dzMfI=
X-Google-DKIM-Signature: v=1; a=rsa-sha256; c=relaxed/relaxed;
 d=1e100.net; s=20230601; t=1711149571; x=1711754371;
 h=references:in-reply-to:cc:to:from:subject:message-id:date
 :x-gm-message-state:from:to:cc:subject:date:message-id:reply-to;
 bh=WRtTQ+1qwV18YIteUx7mc0fLoZU1zGE0OJbSk3QV7lc=;
 b=UvLVu7+Po8vIDDghYiHMbA6kg2opHmJ7R0g8pmJwDaW+qTG0G2iSeO77kBEIERKAqf
 bxyk9kWPhGJTeCq3Y0Hs8vJKyAk4MkhA5dIr6elCyKInWEnBaGAgaDFGU7pFwDviQyYG
 gtsgjOMd9US4FwLHLyyU7l9WS+JZiznSkGq45o2wEpR0qG1UfCw5vsVdnE7eVw0dXu+Q
 CB9km66TlWZlJOCK/0l+6AG3yHbd4cE6JpsbEfN8yvxMT7+QDxnSPA/5xweh2dld4sUo
 Q7Mpl3+Pof/RX2X9XeT1a3o13FHW2Md+r3ilYIeZMIANVFhVHoNBcWljYxk4LnpXVp2R
 Gm6w==
X-Gm-Message-State: AOJu0YwuEYPj41CzUV8qQ+wtE6CJ+nktADnQBOBRGDwHHF7ILhPIpydl
 H/NUm2YCHJf6DayhViUfCe0j1gbDA4tv0lXNxW/cwjukV4yJHgf3+7uPedFsLGOVpWEP32p1Aor
 OzoZpyOpwW+ziXOkU1mfNz6cd+IYXqtJiiEUWeHdW
X-Google-Smtp-Source: AGHT+IFyJ2t7zGq0OrMhG4M7wzpbCHzyFfd05D7C2GF1A/BCG+Zos0YuYEDlaL7CJJgBZy0V90nJ1QVqJQg9
X-Received: by 2002:a25:c944:0:b0:dc6:bcd5:9503 with SMTP id
 z65-20020a25c944000000b00dc6bcd59503mr647064ybf.48.1711149571235; 
 Fri, 22 Mar 2024 16:19:31 -0700 (PDT)
Received: from postal.iol.unh.edu (postal.iol.unh.edu. [132.177.123.84])
 by smtp-relay.gmail.com with ESMTPS id
 84-20020a250257000000b00dc749e40c9dsm27239ybc.23.2024.03.22.16.19.31
 (version=TLS1_2 cipher=ECDHE-ECDSA-AES128-GCM-SHA256 bits=128/128);
 Fri, 22 Mar 2024 16:19:31 -0700 (PDT)
X-Relaying-Domain: iol.unh.edu
Date: Fri, 22 Mar 2024 16:19:31 -0700 (PDT)
Message-ID: <65fe1203.250a0220.9bd91.1b6cSMTPIN_ADDED_MISSING@mx.google.com>
Received: from [172.17.0.8] (unknown [172.18.0.217])
 by postal.iol.unh.edu (Postfix) with ESMTP id D38296052471;
 Fri, 22 Mar 2024 19:19:30 -0400 (EDT)
Subject: |SUCCESS| pw138744 [PATCH] Spelling: Fixed a spelling mistake.
From: dpdklab@iol.unh.edu
To: Test Report <test-report@dpdk.org>
Cc: dpdk-test-reports@iol.unh.edu
In-Reply-To: <20240321230352.886-1-florestecien@gmail.com>
References: <20240321230352.886-1-florestecien@gmail.com>
Content-Type: text/plain
X-BeenThere: test-report@dpdk.org
X-Mailman-Version: 2.1.29
Precedence: list
List-Id: automatic DPDK test reports <test-report.dpdk.org>
List-Unsubscribe: <https://mails.dpdk.org/options/test-report>,
 <mailto:test-report-request@dpdk.org?subject=unsubscribe>
List-Archive: <http://mails.dpdk.org/archives/test-report/>
List-Post: <mailto:test-report@dpdk.org>
List-Help: <mailto:test-report-request@dpdk.org?subject=help>
List-Subscribe: <https://mails.dpdk.org/listinfo/test-report>,
 <mailto:test-report-request@dpdk.org?subject=subscribe>
Errors-To: test-report-bounces@dpdk.org

Test-Label: iol-compile-amd64-testing
Test-Status: SUCCESS
http://dpdk.org/patch/138744

_Testing PASS_

Submitter: Flore <florestecien@gmail.com>
Date: Thursday, March 21 2024 23:03:52 
DPDK git baseline: Repo:dpdk
  Branch: master
  CommitID:0219d467bcb1d19b386b5bae8eecd3514ba13fdb

138744 --> testing pass

Test environment and result as below:

+---------------------+--------------------+----------------------+-------------------+
|     Environment     | dpdk_meson_compile | dpdk_mingw64_compile | dpdk_msvc_compile |
+=====================+====================+======================+===================+
| FreeBSD 13.2        | PASS               | SKIPPED              | SKIPPED           |
+---------------------+--------------------+----------------------+-------------------+
| Windows Server 2022 | PASS               | PASS                 | PASS              |
+---------------------+--------------------+----------------------+-------------------+
| Windows Server 2019 | PASS               | PASS                 | SKIPPED           |
+---------------------+--------------------+----------------------+-------------------+
| CentOS Stream 8     | PASS               | SKIPPED              | SKIPPED           |
+---------------------+--------------------+----------------------+-------------------+
| CentOS Stream 9     | PASS               | SKIPPED              | SKIPPED           |
+---------------------+--------------------+----------------------+-------------------+
| Debian Bullseye     | PASS               | SKIPPED              | SKIPPED           |
+---------------------+--------------------+----------------------+-------------------+
| Debian 11 (arm)     | PASS               | SKIPPED              | SKIPPED           |
+---------------------+--------------------+----------------------+-------------------+
| Fedora 37           | PASS               | SKIPPED              | SKIPPED           |
+---------------------+--------------------+----------------------+-------------------+
| openSUSE Leap 15    | PASS               | SKIPPED              | SKIPPED           |
+---------------------+--------------------+----------------------+-------------------+
| RHEL8               | PASS               | SKIPPED              | SKIPPED           |
+---------------------+--------------------+----------------------+-------------------+
| Fedora 38           | PASS               | SKIPPED              | SKIPPED           |
+---------------------+--------------------+----------------------+-------------------+
| Ubuntu 22.04        | PASS               | SKIPPED              | SKIPPED           |
+---------------------+--------------------+----------------------+-------------------+
| Alpine              | PASS               | SKIPPED              | SKIPPED           |
+---------------------+--------------------+----------------------+-------------------+
| Ubuntu 20.04        | PASS               | SKIPPED              | SKIPPED           |
+---------------------+--------------------+----------------------+-------------------+


FreeBSD 13.2
	Kernel: 13.2
	Compiler: clang 14.0.5

Windows Server 2022
	Kernel: 10.0.20348.2031
	Compiler: clang 15.0.7, gcc 8.1.0 (MinGW), and MSVC VS 17.9

Windows Server 2019
	Kernel: 10.0.17763
	Compiler: clang 14.0 and gcc 8.1.0 (MinGW)

CentOS Stream 8
	Kernel: 5.4.0-167-generic
	Compiler: gcc 8.5.0 20210514

CentOS Stream 9
	Kernel: 5.4.0-167-generic
	Compiler: gcc 11.4.1 20230605

Debian Bullseye
	Kernel: 5.4.0-167-generic
	Compiler: gcc 10.2.1-6

Debian 11 (arm)
	Kernel: Container Host Kernel
	Compiler: gcc 10.2.1

Fedora 37
	Kernel: Depends on container host system
	Compiler: gcc 12.3.1

openSUSE Leap 15
	Kernel: 5.4.0-167-generic
	Compiler: gcc 7.5.0

RHEL8
	Kernel: 5.4.0-167-generic
	Compiler: gcc 8.5.0 20210514 (Red Hat 8.5.0-20)

Fedora 38
	Kernel: Depends on container host
	Compiler: gcc 13.2.1

Ubuntu 22.04
	Kernel: 5.4.0-167-generic
	Compiler: gcc 11.4.0

Alpine
	Kernel: 5.4.0-167-generic
	Compiler: gcc (Alpine 12.2.1_git20220924-r10) 12.2.1 20220924

Ubuntu 20.04
	Kernel: 5.4.0-167-generic
	Compiler: gcc 9.4.0-1ubuntu1~20.04.1

To view detailed results, visit:
https://lab.dpdk.org/results/dashboard/patchsets/29636/

UNH-IOL DPDK Community Lab

To manage your email subscriptions, visit: 
https://lab.dpdk.org/results/dashboard/preferences/subscriptions/