From mboxrd@z Thu Jan  1 00:00:00 1970
Return-Path: <test-report-bounces@dpdk.org>
Received: from mails.dpdk.org (mails.dpdk.org [217.70.189.124])
	by inbox.dpdk.org (Postfix) with ESMTP id 6C95043D27
	for <public@inbox.dpdk.org>; Sat, 23 Mar 2024 00:19:48 +0100 (CET)
Received: from mails.dpdk.org (localhost [127.0.0.1])
	by mails.dpdk.org (Postfix) with ESMTP id 65DCA42EE2;
	Sat, 23 Mar 2024 00:19:48 +0100 (CET)
Received: from mail-qv1-f99.google.com (mail-qv1-f99.google.com
 [209.85.219.99]) by mails.dpdk.org (Postfix) with ESMTP id 84B3540279
 for <test-report@dpdk.org>; Sat, 23 Mar 2024 00:19:47 +0100 (CET)
Received: by mail-qv1-f99.google.com with SMTP id
 6a1803df08f44-690de619293so17366346d6.0
 for <test-report@dpdk.org>; Fri, 22 Mar 2024 16:19:47 -0700 (PDT)
DKIM-Signature: v=1; a=rsa-sha256; c=relaxed/relaxed;
 d=iol.unh.edu; s=unh-iol; t=1711149587; x=1711754387; darn=dpdk.org;
 h=references:in-reply-to:cc:to:from:subject:message-id:date:from:to
 :cc:subject:date:message-id:reply-to;
 bh=0xuI4uO0849zLWL9Pq93LJUOCkBJyJ2KN4vFDLQJHz8=;
 b=dvGoJkes36O2TXcdmupb4xFMWlhAnmoftFNNXsJ5cld9N6PLJxb43YfGv9YCu8wkMV
 g+60teAgU/EfbIqLR/KLXAH0NZ1xiGlgL+pxfZ4/oCHBMMgGCCvR5w/75WqfzgfVa1Ys
 i96ULF/NoY/8Yi+BqYpaoue2Hb2IDpXT52+qU=
X-Google-DKIM-Signature: v=1; a=rsa-sha256; c=relaxed/relaxed;
 d=1e100.net; s=20230601; t=1711149587; x=1711754387;
 h=references:in-reply-to:cc:to:from:subject:message-id:date
 :x-gm-message-state:from:to:cc:subject:date:message-id:reply-to;
 bh=0xuI4uO0849zLWL9Pq93LJUOCkBJyJ2KN4vFDLQJHz8=;
 b=UXpwSqIV5lfwx/m1hssU0hegZWnJnRw6TpyhdQJU46YgKcXJZpzAzWVdc3HIpnqFax
 7F/IlHYXpMC0twWt8KepRAXvvANAqsBtDvRKlHvXiTd9gr0RwVNd3YKiAnL2hYDdJyRT
 xkmMxEb7wqLFziR4BEbWkkYzTHTLXwXidSrB4PCAOT8b936fJaDZzxjgpHX8UmJvQwCs
 5RNzEsksdb9WMSqjtTgBPcAoqfyNWCz33C1wyFJXIVM2AIY47l9noD1mLITEicAYOd6N
 kl1+M95msHSaNrhr3sw9wWutUpQKh1KcukyLjAHUyFMKv0PO8o0D5wJmCKmED9+pIQtI
 11IA==
X-Gm-Message-State: AOJu0YwwWNsRNbsaXR3jlfa/V1M16UWoFr6YBQsd/eOL5F3quZDP5XyZ
 KPV4YdsWPym/cQcxMKQG+Hzwi3J7AKDUurWl85W85M00G+TxDIqFyYSq3yq5pdSBAZhIKNWwybr
 dCwg3bqBpylLDwYIB7931+ShLXZKdA+X2nnHjK8MQWWLi32CMzoEKk2jT
X-Google-Smtp-Source: AGHT+IHpUFjwTPeWyNhrrJPV/AJp893kr0NvPDjvoBS0t9IH9uXYpoM9CWOYfs5YkCyrIKD7VeoPHzhuxnLl
X-Received: by 2002:a05:6214:1d2a:b0:696:4c88:e02b with SMTP id
 f10-20020a0562141d2a00b006964c88e02bmr1008870qvd.58.1711149587010; 
 Fri, 22 Mar 2024 16:19:47 -0700 (PDT)
Received: from postal.iol.unh.edu (postal.iol.unh.edu.
 [2606:4100:3880:1234::84]) by smtp-relay.gmail.com with ESMTPS id
 o5-20020ad45c85000000b0069679eec785sm10865qvh.43.2024.03.22.16.19.46
 (version=TLS1_2 cipher=ECDHE-ECDSA-AES128-GCM-SHA256 bits=128/128);
 Fri, 22 Mar 2024 16:19:46 -0700 (PDT)
X-Relaying-Domain: iol.unh.edu
Date: Fri, 22 Mar 2024 16:19:46 -0700 (PDT)
Message-ID: <65fe1212.d40a0220.6775e.0c74SMTPIN_ADDED_MISSING@mx.google.com>
Received: from [172.21.0.7] (unknown [172.18.0.240])
 by postal.iol.unh.edu (Postfix) with ESMTP id AB7BB6052471;
 Fri, 22 Mar 2024 19:19:46 -0400 (EDT)
Subject: |SUCCESS| pw138744 [PATCH] Spelling: Fixed a spelling mistake.
From: dpdklab@iol.unh.edu
To: Test Report <test-report@dpdk.org>
Cc: dpdk-test-reports@iol.unh.edu
In-Reply-To: <20240321230352.886-1-florestecien@gmail.com>
References: <20240321230352.886-1-florestecien@gmail.com>
Content-Type: text/plain
X-BeenThere: test-report@dpdk.org
X-Mailman-Version: 2.1.29
Precedence: list
List-Id: automatic DPDK test reports <test-report.dpdk.org>
List-Unsubscribe: <https://mails.dpdk.org/options/test-report>,
 <mailto:test-report-request@dpdk.org?subject=unsubscribe>
List-Archive: <http://mails.dpdk.org/archives/test-report/>
List-Post: <mailto:test-report@dpdk.org>
List-Help: <mailto:test-report-request@dpdk.org?subject=help>
List-Subscribe: <https://mails.dpdk.org/listinfo/test-report>,
 <mailto:test-report-request@dpdk.org?subject=subscribe>
Errors-To: test-report-bounces@dpdk.org

Test-Label: iol-unit-amd64-testing
Test-Status: SUCCESS
http://dpdk.org/patch/138744

_Testing PASS_

Submitter: Flore <florestecien@gmail.com>
Date: Thursday, March 21 2024 23:03:52 
DPDK git baseline: Repo:dpdk
  Branch: master
  CommitID:0219d467bcb1d19b386b5bae8eecd3514ba13fdb

138744 --> testing pass

Test environment and result as below:

+------------------+----------------+
|   Environment    | dpdk_unit_test |
+==================+================+
| CentOS Stream 8  | PASS           |
+------------------+----------------+
| CentOS Stream 9  | PASS           |
+------------------+----------------+
| Debian Bullseye  | PASS           |
+------------------+----------------+
| Debian 11 (arm)  | PASS           |
+------------------+----------------+
| Fedora 37        | PASS           |
+------------------+----------------+
| Fedora 38        | PASS           |
+------------------+----------------+
| Ubuntu 20.04     | PASS           |
+------------------+----------------+
| openSUSE Leap 15 | PASS           |
+------------------+----------------+
| Ubuntu 22.04     | PASS           |
+------------------+----------------+
| RHEL8            | PASS           |
+------------------+----------------+


CentOS Stream 8
	Kernel: 5.4.0-167-generic
	Compiler: gcc 8.5.0 20210514

CentOS Stream 9
	Kernel: 5.4.0-167-generic
	Compiler: gcc 11.4.1 20230605

Debian Bullseye
	Kernel: 5.4.0-167-generic
	Compiler: gcc 10.2.1-6

Debian 11 (arm)
	Kernel: Container Host Kernel
	Compiler: gcc 10.2.1

Fedora 37
	Kernel: Depends on container host system
	Compiler: gcc 12.3.1

Fedora 38
	Kernel: Depends on container host
	Compiler: gcc 13.2.1

Ubuntu 20.04
	Kernel: 5.4.0-167-generic
	Compiler: gcc 9.4.0-1ubuntu1~20.04.1

openSUSE Leap 15
	Kernel: 5.4.0-167-generic
	Compiler: gcc 7.5.0

Ubuntu 22.04
	Kernel: 5.4.0-167-generic
	Compiler: gcc 11.4.0

RHEL8
	Kernel: 5.4.0-167-generic
	Compiler: gcc 8.5.0 20210514 (Red Hat 8.5.0-20)

To view detailed results, visit:
https://lab.dpdk.org/results/dashboard/patchsets/29636/

UNH-IOL DPDK Community Lab

To manage your email subscriptions, visit: 
https://lab.dpdk.org/results/dashboard/preferences/subscriptions/