From mboxrd@z Thu Jan  1 00:00:00 1970
Return-Path: <test-report-bounces@dpdk.org>
Received: from mails.dpdk.org (mails.dpdk.org [217.70.189.124])
	by inbox.dpdk.org (Postfix) with ESMTP id 78D0043D27
	for <public@inbox.dpdk.org>; Sat, 23 Mar 2024 00:42:41 +0100 (CET)
Received: from mails.dpdk.org (localhost [127.0.0.1])
	by mails.dpdk.org (Postfix) with ESMTP id 74DBE42EE2;
	Sat, 23 Mar 2024 00:42:41 +0100 (CET)
Received: from mail-oo1-f98.google.com (mail-oo1-f98.google.com
 [209.85.161.98]) by mails.dpdk.org (Postfix) with ESMTP id 6609D402BD
 for <test-report@dpdk.org>; Sat, 23 Mar 2024 00:42:40 +0100 (CET)
Received: by mail-oo1-f98.google.com with SMTP id
 006d021491bc7-5a50880ce2aso1148899eaf.0
 for <test-report@dpdk.org>; Fri, 22 Mar 2024 16:42:40 -0700 (PDT)
DKIM-Signature: v=1; a=rsa-sha256; c=relaxed/relaxed;
 d=iol.unh.edu; s=unh-iol; t=1711150959; x=1711755759; darn=dpdk.org;
 h=references:in-reply-to:cc:to:from:subject:message-id:date:from:to
 :cc:subject:date:message-id:reply-to;
 bh=MwPsQpzwXHSGC3Z3XQD6a0+UZVfBBUfJhhw9dkwT0Ac=;
 b=SupMLJrQXQJ6H+AG9GMJiQDbuXOpsaPBAdsHtdSO0KdllH5BVDgOzaqdXSGvd7HgUn
 GyQvhJmpguLxaWyP4V7WasGYKtFRfGrfZbrheGU2FwtK4oC9ujwmpC1ol72RCy3rLBXj
 DoLGFWeCHYEYsoByRewABfIdDtFCb3nyMQsdo=
X-Google-DKIM-Signature: v=1; a=rsa-sha256; c=relaxed/relaxed;
 d=1e100.net; s=20230601; t=1711150959; x=1711755759;
 h=references:in-reply-to:cc:to:from:subject:message-id:date
 :x-gm-message-state:from:to:cc:subject:date:message-id:reply-to;
 bh=MwPsQpzwXHSGC3Z3XQD6a0+UZVfBBUfJhhw9dkwT0Ac=;
 b=uAQt3VucUoc3858HCNf3YfXnBLnub0xS6BgGh49ZeeuszPmrJii5sqbo4cO49laLb1
 ab3YzvBI7Sye/Ld5pQwMLiCEOcqS3qPOMgU7vYA16xGFkYvEMF0ZW9aeCYUt/Ib/Jnz4
 fVs0MS4N6SimmiF1ozdltMMXufQgAQ6avSZ8tyWoFfuiYBHj4gnRe7IsJU3O1xZJpudo
 3gBJdu0mdlgIDYW8+B9SYK3w73AAdB/dETQrOzMV2JBV0TTMbIJrA4zglgdHbLkS+bqH
 whbxGtHjQq+gWFVS7DxSMfMgLkGwmcoN9CR0uXHoHR+k/I0huhjaLvFkEWPfL6yL9P0h
 C40Q==
X-Gm-Message-State: AOJu0YwlFnXebKhzfoZbqeRnBZrdHinkK5IyNyKixK7vPN+DT8tHGyRx
 hnKH80LO37ZGgcwylMp0VUZVgZ3wz6uEdeHfWwPZvvpZ+Jiit/XSdu2tJadLlYA2c9DIqGbuN75
 H9At+YaRlenNkDjAYeCqFAOH1+9P/tAle0TFiHfju
X-Google-Smtp-Source: AGHT+IF86Kf7FFRjs7BWUPUV/1JLoPQ1DxmnFs09flbnjdF2Jxe7Gm7IWwTr/DdDjl4xbzzy4DN+CdLV6y2f
X-Received: by 2002:a05:6820:990:b0:5a5:46e:d0f with SMTP id
 cg16-20020a056820099000b005a5046e0d0fmr1301485oob.1.1711150959746; 
 Fri, 22 Mar 2024 16:42:39 -0700 (PDT)
Received: from postal.iol.unh.edu (postal.iol.unh.edu. [132.177.123.84])
 by smtp-relay.gmail.com with ESMTPS id
 cj18-20020a056820221200b005a51e07242dsm63659oob.18.2024.03.22.16.42.39
 (version=TLS1_2 cipher=ECDHE-ECDSA-AES128-GCM-SHA256 bits=128/128);
 Fri, 22 Mar 2024 16:42:39 -0700 (PDT)
X-Relaying-Domain: iol.unh.edu
Date: Fri, 22 Mar 2024 16:42:39 -0700 (PDT)
Message-ID: <65fe176f.050a0220.e7f0f.3af4SMTPIN_ADDED_MISSING@mx.google.com>
Received: from [172.21.0.6] (unknown [172.18.0.240])
 by postal.iol.unh.edu (Postfix) with ESMTP id 389D26052471;
 Fri, 22 Mar 2024 19:42:39 -0400 (EDT)
Subject: |SUCCESS| pw138742 [PATCH] Spelling: Fix spelling mistake.
From: dpdklab@iol.unh.edu
To: Test Report <test-report@dpdk.org>
Cc: dpdk-test-reports@iol.unh.edu
In-Reply-To: <20240321224135.998-1-masoumeh.farhadinia@gmail.com>
References: <20240321224135.998-1-masoumeh.farhadinia@gmail.com>
Content-Type: text/plain
X-BeenThere: test-report@dpdk.org
X-Mailman-Version: 2.1.29
Precedence: list
List-Id: automatic DPDK test reports <test-report.dpdk.org>
List-Unsubscribe: <https://mails.dpdk.org/options/test-report>,
 <mailto:test-report-request@dpdk.org?subject=unsubscribe>
List-Archive: <http://mails.dpdk.org/archives/test-report/>
List-Post: <mailto:test-report@dpdk.org>
List-Help: <mailto:test-report-request@dpdk.org?subject=help>
List-Subscribe: <https://mails.dpdk.org/listinfo/test-report>,
 <mailto:test-report-request@dpdk.org?subject=subscribe>
Errors-To: test-report-bounces@dpdk.org

Test-Label: iol-compile-amd64-testing
Test-Status: SUCCESS
http://dpdk.org/patch/138742

_Testing PASS_

Submitter: None <masoumeh.farhadinia@gmail.com>
Date: Thursday, March 21 2024 22:41:35 
DPDK git baseline: Repo:dpdk
  Branch: master
  CommitID:0219d467bcb1d19b386b5bae8eecd3514ba13fdb

138742 --> testing pass

Test environment and result as below:

+---------------------+--------------------+----------------------+-------------------+
|     Environment     | dpdk_meson_compile | dpdk_mingw64_compile | dpdk_msvc_compile |
+=====================+====================+======================+===================+
| FreeBSD 13.2        | PASS               | SKIPPED              | SKIPPED           |
+---------------------+--------------------+----------------------+-------------------+
| Windows Server 2019 | PASS               | PASS                 | SKIPPED           |
+---------------------+--------------------+----------------------+-------------------+
| Windows Server 2022 | PASS               | PASS                 | PASS              |
+---------------------+--------------------+----------------------+-------------------+
| Debian Bullseye     | PASS               | SKIPPED              | SKIPPED           |
+---------------------+--------------------+----------------------+-------------------+
| CentOS Stream 8     | PASS               | SKIPPED              | SKIPPED           |
+---------------------+--------------------+----------------------+-------------------+
| Debian 11 (arm)     | PASS               | SKIPPED              | SKIPPED           |
+---------------------+--------------------+----------------------+-------------------+
| Fedora 37           | PASS               | SKIPPED              | SKIPPED           |
+---------------------+--------------------+----------------------+-------------------+
| Fedora 38           | PASS               | SKIPPED              | SKIPPED           |
+---------------------+--------------------+----------------------+-------------------+
| RHEL8               | PASS               | SKIPPED              | SKIPPED           |
+---------------------+--------------------+----------------------+-------------------+
| Ubuntu 22.04        | PASS               | SKIPPED              | SKIPPED           |
+---------------------+--------------------+----------------------+-------------------+
| Ubuntu 20.04        | PASS               | SKIPPED              | SKIPPED           |
+---------------------+--------------------+----------------------+-------------------+
| openSUSE Leap 15    | PASS               | SKIPPED              | SKIPPED           |
+---------------------+--------------------+----------------------+-------------------+
| Alpine              | PASS               | SKIPPED              | SKIPPED           |
+---------------------+--------------------+----------------------+-------------------+


FreeBSD 13.2
	Kernel: 13.2
	Compiler: clang 14.0.5

Windows Server 2019
	Kernel: 10.0.17763
	Compiler: clang 14.0 and gcc 8.1.0 (MinGW)

Windows Server 2022
	Kernel: 10.0.20348.2031
	Compiler: clang 15.0.7, gcc 8.1.0 (MinGW), and MSVC VS 17.9

Debian Bullseye
	Kernel: 5.4.0-167-generic
	Compiler: gcc 10.2.1-6

CentOS Stream 8
	Kernel: 5.4.0-167-generic
	Compiler: gcc 8.5.0 20210514

Debian 11 (arm)
	Kernel: Container Host Kernel
	Compiler: gcc 10.2.1

Fedora 37
	Kernel: Depends on container host system
	Compiler: gcc 12.3.1

Fedora 38
	Kernel: Depends on container host
	Compiler: gcc 13.2.1

RHEL8
	Kernel: 5.4.0-167-generic
	Compiler: gcc 8.5.0 20210514 (Red Hat 8.5.0-20)

Ubuntu 22.04
	Kernel: 5.4.0-167-generic
	Compiler: gcc 11.4.0

Ubuntu 20.04
	Kernel: 5.4.0-167-generic
	Compiler: gcc 9.4.0-1ubuntu1~20.04.1

openSUSE Leap 15
	Kernel: 5.4.0-167-generic
	Compiler: gcc 7.5.0

Alpine
	Kernel: 5.4.0-167-generic
	Compiler: gcc (Alpine 12.2.1_git20220924-r10) 12.2.1 20220924

To view detailed results, visit:
https://lab.dpdk.org/results/dashboard/patchsets/29634/

UNH-IOL DPDK Community Lab

To manage your email subscriptions, visit: 
https://lab.dpdk.org/results/dashboard/preferences/subscriptions/