From mboxrd@z Thu Jan  1 00:00:00 1970
Return-Path: <test-report-bounces@dpdk.org>
Received: from mails.dpdk.org (mails.dpdk.org [217.70.189.124])
	by inbox.dpdk.org (Postfix) with ESMTP id C81BA43D27
	for <public@inbox.dpdk.org>; Sat, 23 Mar 2024 00:46:37 +0100 (CET)
Received: from mails.dpdk.org (localhost [127.0.0.1])
	by mails.dpdk.org (Postfix) with ESMTP id 88D1942EE2;
	Sat, 23 Mar 2024 00:46:37 +0100 (CET)
Received: from mail-vk1-f227.google.com (mail-vk1-f227.google.com
 [209.85.221.227])
 by mails.dpdk.org (Postfix) with ESMTP id 2F27B402BD
 for <test-report@dpdk.org>; Sat, 23 Mar 2024 00:46:36 +0100 (CET)
Received: by mail-vk1-f227.google.com with SMTP id
 71dfb90a1353d-4d46c4e1578so1001914e0c.3
 for <test-report@dpdk.org>; Fri, 22 Mar 2024 16:46:36 -0700 (PDT)
DKIM-Signature: v=1; a=rsa-sha256; c=relaxed/relaxed;
 d=iol.unh.edu; s=unh-iol; t=1711151195; x=1711755995; darn=dpdk.org;
 h=references:in-reply-to:cc:to:from:subject:message-id:date:from:to
 :cc:subject:date:message-id:reply-to;
 bh=MwPsQpzwXHSGC3Z3XQD6a0+UZVfBBUfJhhw9dkwT0Ac=;
 b=Nul0XSdo3OIsn64k2UnB0VETfbz19W8F28914h9fXGow0uBDyTSbC4A1/X0vrdmDZo
 HWYykVb2Da55ewp4N2LOu2WbK0kBnydf1eFIDGPrP7BGyXJBSV8aG2G2vKHJDUw+LKUQ
 a9PuDbYzXKBM+f5k4vQWtsjfnMrE87rJAFdlk=
X-Google-DKIM-Signature: v=1; a=rsa-sha256; c=relaxed/relaxed;
 d=1e100.net; s=20230601; t=1711151195; x=1711755995;
 h=references:in-reply-to:cc:to:from:subject:message-id:date
 :x-gm-message-state:from:to:cc:subject:date:message-id:reply-to;
 bh=MwPsQpzwXHSGC3Z3XQD6a0+UZVfBBUfJhhw9dkwT0Ac=;
 b=dL3SzAihgZ6UplIt8Q3dsZzPFx/2p6vWWa8+ITjNyEYMn+PmJURd9Q0UgGpHnfcXtf
 D3zMUmEfYNv6nGlOtgjgv0vtWX4KjigJWgPjO1b0Vzf5lxsnFY2XXfAc34qDu9xpWjyy
 PXpYq7LWATrCNsGALxGzoRP9E4demQWUz8SP3P9RWfWricdVcXSV2Xu7+PtKZj47CWkg
 5HvcOn4UriyxRgDYsUTnL6Cv8RaG+zy1/45wWnOQJAgSFQfuVHeacS46e7racfMX/2X1
 KQnBqMYu529+ZPeAThRjEAeyAOsQBu+0AxB9/rUHA8PNduYtkzmFoQaLGLaInw6f5k/L
 Vj4g==
X-Gm-Message-State: AOJu0Yw6lgvugtZf5qaQQj6VDVASdOELw9LhqhH8PWkiTPrdGGrbviln
 d80FyFqGSemcY0mmJTu4xoFnLr3r6cLKkgqQizj8T0MENBrB8gKR2D58DvbsBqyxuTgu5k7OemE
 4wLCBemUn2HHvnmZEFXAnH18xk5+dEBBKKfkM4AXL1ZfMhMVsnWOF3rVm
X-Google-Smtp-Source: AGHT+IEvJcx0MEcjCGDTfrlmuzhNitBtmBTVGF+c0m4X+5h2FYvktTRQ/9Y2d5cIhQrhjq3esbmHMYNXv0Vs
X-Received: by 2002:a05:6122:4a05:b0:4c9:98f8:83db with SMTP id
 ez5-20020a0561224a0500b004c998f883dbmr1221314vkb.5.1711151195555; 
 Fri, 22 Mar 2024 16:46:35 -0700 (PDT)
Received: from postal.iol.unh.edu (postal.iol.unh.edu.
 [2606:4100:3880:1234::84]) by smtp-relay.gmail.com with ESMTPS id
 ke25-20020a056214301900b0068f6c8ab314sm214913qvb.75.2024.03.22.16.46.35
 (version=TLS1_2 cipher=ECDHE-ECDSA-AES128-GCM-SHA256 bits=128/128);
 Fri, 22 Mar 2024 16:46:35 -0700 (PDT)
X-Relaying-Domain: iol.unh.edu
Date: Fri, 22 Mar 2024 16:46:35 -0700 (PDT)
Message-ID: <65fe185b.050a0220.ff48f.bc31SMTPIN_ADDED_MISSING@mx.google.com>
Received: from [172.21.0.6] (unknown [172.18.0.240])
 by postal.iol.unh.edu (Postfix) with ESMTP id 3E6C16052471;
 Fri, 22 Mar 2024 19:46:35 -0400 (EDT)
Subject: |SUCCESS| pw138742 [PATCH] Spelling: Fix spelling mistake.
From: dpdklab@iol.unh.edu
To: Test Report <test-report@dpdk.org>
Cc: dpdk-test-reports@iol.unh.edu
In-Reply-To: <20240321224135.998-1-masoumeh.farhadinia@gmail.com>
References: <20240321224135.998-1-masoumeh.farhadinia@gmail.com>
Content-Type: text/plain
X-BeenThere: test-report@dpdk.org
X-Mailman-Version: 2.1.29
Precedence: list
List-Id: automatic DPDK test reports <test-report.dpdk.org>
List-Unsubscribe: <https://mails.dpdk.org/options/test-report>,
 <mailto:test-report-request@dpdk.org?subject=unsubscribe>
List-Archive: <http://mails.dpdk.org/archives/test-report/>
List-Post: <mailto:test-report@dpdk.org>
List-Help: <mailto:test-report-request@dpdk.org?subject=help>
List-Subscribe: <https://mails.dpdk.org/listinfo/test-report>,
 <mailto:test-report-request@dpdk.org?subject=subscribe>
Errors-To: test-report-bounces@dpdk.org

Test-Label: iol-compile-amd64-testing
Test-Status: SUCCESS
http://dpdk.org/patch/138742

_Testing PASS_

Submitter: None <masoumeh.farhadinia@gmail.com>
Date: Thursday, March 21 2024 22:41:35 
DPDK git baseline: Repo:dpdk
  Branch: master
  CommitID:0219d467bcb1d19b386b5bae8eecd3514ba13fdb

138742 --> testing pass

Test environment and result as below:

+---------------------+--------------------+----------------------+-------------------+
|     Environment     | dpdk_meson_compile | dpdk_mingw64_compile | dpdk_msvc_compile |
+=====================+====================+======================+===================+
| FreeBSD 13.2        | PASS               | SKIPPED              | SKIPPED           |
+---------------------+--------------------+----------------------+-------------------+
| Windows Server 2019 | PASS               | PASS                 | SKIPPED           |
+---------------------+--------------------+----------------------+-------------------+
| Windows Server 2022 | PASS               | PASS                 | PASS              |
+---------------------+--------------------+----------------------+-------------------+
| Debian Bullseye     | PASS               | SKIPPED              | SKIPPED           |
+---------------------+--------------------+----------------------+-------------------+
| CentOS Stream 8     | PASS               | SKIPPED              | SKIPPED           |
+---------------------+--------------------+----------------------+-------------------+
| Debian 11 (arm)     | PASS               | SKIPPED              | SKIPPED           |
+---------------------+--------------------+----------------------+-------------------+
| Fedora 37           | PASS               | SKIPPED              | SKIPPED           |
+---------------------+--------------------+----------------------+-------------------+
| Fedora 38           | PASS               | SKIPPED              | SKIPPED           |
+---------------------+--------------------+----------------------+-------------------+
| RHEL8               | PASS               | SKIPPED              | SKIPPED           |
+---------------------+--------------------+----------------------+-------------------+
| Ubuntu 22.04        | PASS               | SKIPPED              | SKIPPED           |
+---------------------+--------------------+----------------------+-------------------+
| Ubuntu 20.04        | PASS               | SKIPPED              | SKIPPED           |
+---------------------+--------------------+----------------------+-------------------+
| openSUSE Leap 15    | PASS               | SKIPPED              | SKIPPED           |
+---------------------+--------------------+----------------------+-------------------+
| Alpine              | PASS               | SKIPPED              | SKIPPED           |
+---------------------+--------------------+----------------------+-------------------+


FreeBSD 13.2
	Kernel: 13.2
	Compiler: clang 14.0.5

Windows Server 2019
	Kernel: 10.0.17763
	Compiler: clang 14.0 and gcc 8.1.0 (MinGW)

Windows Server 2022
	Kernel: 10.0.20348.2031
	Compiler: clang 15.0.7, gcc 8.1.0 (MinGW), and MSVC VS 17.9

Debian Bullseye
	Kernel: 5.4.0-167-generic
	Compiler: gcc 10.2.1-6

CentOS Stream 8
	Kernel: 5.4.0-167-generic
	Compiler: gcc 8.5.0 20210514

Debian 11 (arm)
	Kernel: Container Host Kernel
	Compiler: gcc 10.2.1

Fedora 37
	Kernel: Depends on container host system
	Compiler: gcc 12.3.1

Fedora 38
	Kernel: Depends on container host
	Compiler: gcc 13.2.1

RHEL8
	Kernel: 5.4.0-167-generic
	Compiler: gcc 8.5.0 20210514 (Red Hat 8.5.0-20)

Ubuntu 22.04
	Kernel: 5.4.0-167-generic
	Compiler: gcc 11.4.0

Ubuntu 20.04
	Kernel: 5.4.0-167-generic
	Compiler: gcc 9.4.0-1ubuntu1~20.04.1

openSUSE Leap 15
	Kernel: 5.4.0-167-generic
	Compiler: gcc 7.5.0

Alpine
	Kernel: 5.4.0-167-generic
	Compiler: gcc (Alpine 12.2.1_git20220924-r10) 12.2.1 20220924

To view detailed results, visit:
https://lab.dpdk.org/results/dashboard/patchsets/29634/

UNH-IOL DPDK Community Lab

To manage your email subscriptions, visit: 
https://lab.dpdk.org/results/dashboard/preferences/subscriptions/