From mboxrd@z Thu Jan  1 00:00:00 1970
Return-Path: <test-report-bounces@dpdk.org>
Received: from mails.dpdk.org (mails.dpdk.org [217.70.189.124])
	by inbox.dpdk.org (Postfix) with ESMTP id 22A0F43D27
	for <public@inbox.dpdk.org>; Sat, 23 Mar 2024 00:55:19 +0100 (CET)
Received: from mails.dpdk.org (localhost [127.0.0.1])
	by mails.dpdk.org (Postfix) with ESMTP id 1D56742EE2;
	Sat, 23 Mar 2024 00:55:19 +0100 (CET)
Received: from mail-yw1-f227.google.com (mail-yw1-f227.google.com
 [209.85.128.227])
 by mails.dpdk.org (Postfix) with ESMTP id E3848402BD
 for <test-report@dpdk.org>; Sat, 23 Mar 2024 00:55:17 +0100 (CET)
Received: by mail-yw1-f227.google.com with SMTP id
 00721157ae682-60a0579a955so32562047b3.3
 for <test-report@dpdk.org>; Fri, 22 Mar 2024 16:55:17 -0700 (PDT)
DKIM-Signature: v=1; a=rsa-sha256; c=relaxed/relaxed;
 d=iol.unh.edu; s=unh-iol; t=1711151717; x=1711756517; darn=dpdk.org;
 h=references:in-reply-to:cc:to:from:subject:message-id:date:from:to
 :cc:subject:date:message-id:reply-to;
 bh=6VnHw+cLeFAWyYzZXIC58Y31fPnKgkVKFUQMA286qKY=;
 b=hZqa5CxdQoHEvpiy+o7gR12ODzepO2jl4MBgOkUY7cDXE0OOAkJE8LTcqH6BN4AfN3
 pk166Dv1sZyOLA0lqt+O9homWyPsii+CpukF7yw3HAxNqZpnPk/MpWXFTkWjxFCTDYoR
 7CfwR+IqNvDWFhJTZi6AXpslGkd0lI6d4ZQHA=
X-Google-DKIM-Signature: v=1; a=rsa-sha256; c=relaxed/relaxed;
 d=1e100.net; s=20230601; t=1711151717; x=1711756517;
 h=references:in-reply-to:cc:to:from:subject:message-id:date
 :x-gm-message-state:from:to:cc:subject:date:message-id:reply-to;
 bh=6VnHw+cLeFAWyYzZXIC58Y31fPnKgkVKFUQMA286qKY=;
 b=mCJRviSebTd7DfZM6kAqYUhu3mzDoBBlCgE5TV2racN484eCyyCSPNrS89rMbuAKRA
 io6B6nHJJcPR5uTNfaLAxXf0MoHSFnyYQ570chjmVdp0fmh9ZiiyCovlFR01mX9bvAR5
 FOf+Jloeh9eGZlckjVEXn9HACsnm/DVn5IiSHy6uR/LroZ47P0l4mvWHuibIrGUqxTn9
 r7Rq28Hmb7KQg1ydIj2yUYCz2jod9/KJeNdPowyJAW+P0U2mHzC34dKf0kUVdXH6B8G4
 Mh6tSb3MhQ9I0EFxoTyPZCST3QT5VAernat+aiupdLANlsIqmXtbvpG02aOfLxYUa2+z
 rxdQ==
X-Gm-Message-State: AOJu0YzV1lw7PHbziyMnBZMdcEWXQSgUhSsz7y/JpkHQw8qjX5szBQBM
 ueMQrHxRe9tyGloO2bGBwAhkrlGWLp9SfTJgZ/QqTzPlDyIQzexVl/zUxGNsoawo6z3el9R7r68
 Z53Jdvr0G9bMrHaSFPMCRfwQLpRZASmJBRbQYzcHU
X-Google-Smtp-Source: AGHT+IE5/Oavuq1btnj8hXjUn3/vFqekac2nKPyCGHNmEOA9LLdfEWGg8fu2lVNGNlXOZwJ6Z7WuVB0xlYeC
X-Received: by 2002:a0d:e002:0:b0:610:fc70:9f14 with SMTP id
 j2-20020a0de002000000b00610fc709f14mr1168339ywe.1.1711151717402; 
 Fri, 22 Mar 2024 16:55:17 -0700 (PDT)
Received: from postal.iol.unh.edu (postal.iol.unh.edu. [132.177.123.84])
 by smtp-relay.gmail.com with ESMTPS id
 z189-20020a8189c6000000b00607ff01e35bsm37307ywf.15.2024.03.22.16.55.17
 (version=TLS1_2 cipher=ECDHE-ECDSA-AES128-GCM-SHA256 bits=128/128);
 Fri, 22 Mar 2024 16:55:17 -0700 (PDT)
X-Relaying-Domain: iol.unh.edu
Date: Fri, 22 Mar 2024 16:55:17 -0700 (PDT)
Message-ID: <65fe1a65.810a0220.50e11.2aadSMTPIN_ADDED_MISSING@mx.google.com>
Received: from [172.17.0.7] (unknown [172.18.0.217])
 by postal.iol.unh.edu (Postfix) with ESMTP id 0CFA06052471;
 Fri, 22 Mar 2024 19:55:17 -0400 (EDT)
Subject: |SUCCESS| pw138742 [PATCH] Spelling: Fix spelling mistake.
From: dpdklab@iol.unh.edu
To: Test Report <test-report@dpdk.org>
Cc: dpdk-test-reports@iol.unh.edu
In-Reply-To: <20240321224135.998-1-masoumeh.farhadinia@gmail.com>
References: <20240321224135.998-1-masoumeh.farhadinia@gmail.com>
Content-Type: text/plain
X-BeenThere: test-report@dpdk.org
X-Mailman-Version: 2.1.29
Precedence: list
List-Id: automatic DPDK test reports <test-report.dpdk.org>
List-Unsubscribe: <https://mails.dpdk.org/options/test-report>,
 <mailto:test-report-request@dpdk.org?subject=unsubscribe>
List-Archive: <http://mails.dpdk.org/archives/test-report/>
List-Post: <mailto:test-report@dpdk.org>
List-Help: <mailto:test-report-request@dpdk.org?subject=help>
List-Subscribe: <https://mails.dpdk.org/listinfo/test-report>,
 <mailto:test-report-request@dpdk.org?subject=subscribe>
Errors-To: test-report-bounces@dpdk.org

Test-Label: iol-compile-amd64-testing
Test-Status: SUCCESS
http://dpdk.org/patch/138742

_Testing PASS_

Submitter: None <masoumeh.farhadinia@gmail.com>
Date: Thursday, March 21 2024 22:41:35 
DPDK git baseline: Repo:dpdk
  Branch: master
  CommitID:0219d467bcb1d19b386b5bae8eecd3514ba13fdb

138742 --> testing pass

Test environment and result as below:

+---------------------+--------------------+----------------------+-------------------+
|     Environment     | dpdk_meson_compile | dpdk_mingw64_compile | dpdk_msvc_compile |
+=====================+====================+======================+===================+
| FreeBSD 13.2        | PASS               | SKIPPED              | SKIPPED           |
+---------------------+--------------------+----------------------+-------------------+
| Windows Server 2019 | PASS               | PASS                 | SKIPPED           |
+---------------------+--------------------+----------------------+-------------------+
| Windows Server 2022 | PASS               | PASS                 | PASS              |
+---------------------+--------------------+----------------------+-------------------+
| Debian Bullseye     | PASS               | SKIPPED              | SKIPPED           |
+---------------------+--------------------+----------------------+-------------------+
| CentOS Stream 8     | PASS               | SKIPPED              | SKIPPED           |
+---------------------+--------------------+----------------------+-------------------+
| Debian 11 (arm)     | PASS               | SKIPPED              | SKIPPED           |
+---------------------+--------------------+----------------------+-------------------+
| Fedora 37           | PASS               | SKIPPED              | SKIPPED           |
+---------------------+--------------------+----------------------+-------------------+
| Fedora 38           | PASS               | SKIPPED              | SKIPPED           |
+---------------------+--------------------+----------------------+-------------------+
| RHEL8               | PASS               | SKIPPED              | SKIPPED           |
+---------------------+--------------------+----------------------+-------------------+
| Ubuntu 22.04        | PASS               | SKIPPED              | SKIPPED           |
+---------------------+--------------------+----------------------+-------------------+
| Ubuntu 20.04        | PASS               | SKIPPED              | SKIPPED           |
+---------------------+--------------------+----------------------+-------------------+
| openSUSE Leap 15    | PASS               | SKIPPED              | SKIPPED           |
+---------------------+--------------------+----------------------+-------------------+
| Alpine              | PASS               | SKIPPED              | SKIPPED           |
+---------------------+--------------------+----------------------+-------------------+
| CentOS Stream 9     | PASS               | SKIPPED              | SKIPPED           |
+---------------------+--------------------+----------------------+-------------------+


FreeBSD 13.2
	Kernel: 13.2
	Compiler: clang 14.0.5

Windows Server 2019
	Kernel: 10.0.17763
	Compiler: clang 14.0 and gcc 8.1.0 (MinGW)

Windows Server 2022
	Kernel: 10.0.20348.2031
	Compiler: clang 15.0.7, gcc 8.1.0 (MinGW), and MSVC VS 17.9

Debian Bullseye
	Kernel: 5.4.0-167-generic
	Compiler: gcc 10.2.1-6

CentOS Stream 8
	Kernel: 5.4.0-167-generic
	Compiler: gcc 8.5.0 20210514

Debian 11 (arm)
	Kernel: Container Host Kernel
	Compiler: gcc 10.2.1

Fedora 37
	Kernel: Depends on container host system
	Compiler: gcc 12.3.1

Fedora 38
	Kernel: Depends on container host
	Compiler: gcc 13.2.1

RHEL8
	Kernel: 5.4.0-167-generic
	Compiler: gcc 8.5.0 20210514 (Red Hat 8.5.0-20)

Ubuntu 22.04
	Kernel: 5.4.0-167-generic
	Compiler: gcc 11.4.0

Ubuntu 20.04
	Kernel: 5.4.0-167-generic
	Compiler: gcc 9.4.0-1ubuntu1~20.04.1

openSUSE Leap 15
	Kernel: 5.4.0-167-generic
	Compiler: gcc 7.5.0

Alpine
	Kernel: 5.4.0-167-generic
	Compiler: gcc (Alpine 12.2.1_git20220924-r10) 12.2.1 20220924

CentOS Stream 9
	Kernel: 5.4.0-167-generic
	Compiler: gcc 11.4.1 20230605

To view detailed results, visit:
https://lab.dpdk.org/results/dashboard/patchsets/29634/

UNH-IOL DPDK Community Lab

To manage your email subscriptions, visit: 
https://lab.dpdk.org/results/dashboard/preferences/subscriptions/