From mboxrd@z Thu Jan  1 00:00:00 1970
Return-Path: <test-report-bounces@dpdk.org>
Received: from mails.dpdk.org (mails.dpdk.org [217.70.189.124])
	by inbox.dpdk.org (Postfix) with ESMTP id 42E1343D27
	for <public@inbox.dpdk.org>; Sat, 23 Mar 2024 01:00:50 +0100 (CET)
Received: from mails.dpdk.org (localhost [127.0.0.1])
	by mails.dpdk.org (Postfix) with ESMTP id 06FF743281;
	Sat, 23 Mar 2024 01:00:50 +0100 (CET)
Received: from mail-io1-f100.google.com (mail-io1-f100.google.com
 [209.85.166.100])
 by mails.dpdk.org (Postfix) with ESMTP id 085BA402BD
 for <test-report@dpdk.org>; Sat, 23 Mar 2024 01:00:44 +0100 (CET)
Received: by mail-io1-f100.google.com with SMTP id
 ca18e2360f4ac-7cc692af9ebso114294339f.0
 for <test-report@dpdk.org>; Fri, 22 Mar 2024 17:00:43 -0700 (PDT)
DKIM-Signature: v=1; a=rsa-sha256; c=relaxed/relaxed;
 d=iol.unh.edu; s=unh-iol; t=1711152043; x=1711756843; darn=dpdk.org;
 h=references:in-reply-to:cc:to:from:subject:message-id:date:from:to
 :cc:subject:date:message-id:reply-to;
 bh=hvyjrnzSmL+erT6sHSWkIpH+odUk/vUCVLju+cyDQFs=;
 b=ZS0t6bwebqr2E6GZ3US5579VV5KO9NhJlzhU0yKygz4nQ2OZrzwg9jmsVuRq0GpSnw
 ckWivgqG/yZCh3dPeltqOCyAJ6ZhukSikSjx5QZQaaeh7uX+kiLEzeNoCT822Ik2FM1T
 JxNieBYYNdT0cZzk5YAlalKRPipqIFcH1L6r0=
X-Google-DKIM-Signature: v=1; a=rsa-sha256; c=relaxed/relaxed;
 d=1e100.net; s=20230601; t=1711152043; x=1711756843;
 h=references:in-reply-to:cc:to:from:subject:message-id:date
 :x-gm-message-state:from:to:cc:subject:date:message-id:reply-to;
 bh=hvyjrnzSmL+erT6sHSWkIpH+odUk/vUCVLju+cyDQFs=;
 b=M6dee+w9VkYNr28s+QoHRiIHQgHveUlF+E9eTG8vxTH57ONLl/IJ1Ln1/YarY4qUz7
 elw3JGBHCqRo+SwG0eoF/NdXZrzyNrSoeQzq2jA5/BTNwHgYdHMr8zB1l9fASKMYiKKU
 3ZeJCJoJSlaVR8Yrmjk6hnl4TQo7dxpiJDfEkS0pYqnkT2XTTRu86AdfrsCeFEStKSXj
 yYdCBZnvOXAQW+G3fi58lTx26H9S1xZXcQsjFvyTQA1XcZYs8/gFwvfN3xxWQr9w6WjX
 CG538uhs1ox7wDi7fKlmOxVN83bpm1uzk00iDu7y+Mblyi7hm0WQGztMctNbiV3hK/OQ
 gJZw==
X-Gm-Message-State: AOJu0YyPT7lzClHflYJ0fNSct35cLlvUdl2B5qKaD7oj5FdeOkqXLb9U
 Sbuy5/3JUP9YCkbjTqe38rmYs0BoljukqVM1Bq6Xvla4BtNpCDt++1lZEEFJ8ZQFrO/rCOPPH0P
 jPNgAjuR3gUvP1mr+ql2UgaOABNYnYIMakVVh7foX
X-Google-Smtp-Source: AGHT+IFnE7QjUxAYf6fJCo2ZpHdC7n3EOt+GWWHioNvz53l4HNQyuSSwx6KtOrqkelVxShzyUg64k7osRSZF
X-Received: by 2002:a05:6602:3315:b0:7cc:652d:ce60 with SMTP id
 b21-20020a056602331500b007cc652dce60mr936854ioz.20.1711152043490; 
 Fri, 22 Mar 2024 17:00:43 -0700 (PDT)
Received: from postal.iol.unh.edu (postal.iol.unh.edu. [132.177.123.84])
 by smtp-relay.gmail.com with ESMTPS id
 n1-20020a05663831c100b00476f3c75e9csm106766jav.7.2024.03.22.17.00.43
 (version=TLS1_2 cipher=ECDHE-ECDSA-AES128-GCM-SHA256 bits=128/128);
 Fri, 22 Mar 2024 17:00:43 -0700 (PDT)
X-Relaying-Domain: iol.unh.edu
Date: Fri, 22 Mar 2024 17:00:43 -0700 (PDT)
Message-ID: <65fe1bab.050a0220.1a7c4.565dSMTPIN_ADDED_MISSING@mx.google.com>
Received: from [172.17.0.8] (unknown [172.18.0.217])
 by postal.iol.unh.edu (Postfix) with ESMTP id F05836052471;
 Fri, 22 Mar 2024 20:00:42 -0400 (EDT)
Subject: |SUCCESS| pw138743 [PATCH] Spelling: Fixed a spelling.
From: dpdklab@iol.unh.edu
To: Test Report <test-report@dpdk.org>
Cc: dpdk-test-reports@iol.unh.edu
In-Reply-To: <20240321230225.3483-1-embm29@gmail.com>
References: <20240321230225.3483-1-embm29@gmail.com>
Content-Type: text/plain
X-BeenThere: test-report@dpdk.org
X-Mailman-Version: 2.1.29
Precedence: list
List-Id: automatic DPDK test reports <test-report.dpdk.org>
List-Unsubscribe: <https://mails.dpdk.org/options/test-report>,
 <mailto:test-report-request@dpdk.org?subject=unsubscribe>
List-Archive: <http://mails.dpdk.org/archives/test-report/>
List-Post: <mailto:test-report@dpdk.org>
List-Help: <mailto:test-report-request@dpdk.org?subject=help>
List-Subscribe: <https://mails.dpdk.org/listinfo/test-report>,
 <mailto:test-report-request@dpdk.org?subject=subscribe>
Errors-To: test-report-bounces@dpdk.org

Test-Label: iol-compile-amd64-testing
Test-Status: SUCCESS
http://dpdk.org/patch/138743

_Testing PASS_

Submitter: EmiAoki <embm29@gmail.com>
Date: Thursday, March 21 2024 23:02:25 
DPDK git baseline: Repo:dpdk
  Branch: master
  CommitID:0219d467bcb1d19b386b5bae8eecd3514ba13fdb

138743 --> testing pass

Test environment and result as below:

+---------------------+--------------------+----------------------+-------------------+
|     Environment     | dpdk_meson_compile | dpdk_mingw64_compile | dpdk_msvc_compile |
+=====================+====================+======================+===================+
| FreeBSD 13.2        | PASS               | SKIPPED              | SKIPPED           |
+---------------------+--------------------+----------------------+-------------------+
| Windows Server 2022 | PASS               | PASS                 | PASS              |
+---------------------+--------------------+----------------------+-------------------+
| Windows Server 2019 | PASS               | PASS                 | SKIPPED           |
+---------------------+--------------------+----------------------+-------------------+
| CentOS Stream 9     | PASS               | SKIPPED              | SKIPPED           |
+---------------------+--------------------+----------------------+-------------------+
| CentOS Stream 8     | PASS               | SKIPPED              | SKIPPED           |
+---------------------+--------------------+----------------------+-------------------+
| Debian Bullseye     | PASS               | SKIPPED              | SKIPPED           |
+---------------------+--------------------+----------------------+-------------------+
| Debian 11 (arm)     | PASS               | SKIPPED              | SKIPPED           |
+---------------------+--------------------+----------------------+-------------------+
| Fedora 38           | PASS               | SKIPPED              | SKIPPED           |
+---------------------+--------------------+----------------------+-------------------+
| Fedora 37           | PASS               | SKIPPED              | SKIPPED           |
+---------------------+--------------------+----------------------+-------------------+
| openSUSE Leap 15    | PASS               | SKIPPED              | SKIPPED           |
+---------------------+--------------------+----------------------+-------------------+
| Ubuntu 20.04        | PASS               | SKIPPED              | SKIPPED           |
+---------------------+--------------------+----------------------+-------------------+
| RHEL8               | PASS               | SKIPPED              | SKIPPED           |
+---------------------+--------------------+----------------------+-------------------+
| Ubuntu 22.04        | PASS               | SKIPPED              | SKIPPED           |
+---------------------+--------------------+----------------------+-------------------+
| Alpine              | PASS               | SKIPPED              | SKIPPED           |
+---------------------+--------------------+----------------------+-------------------+


FreeBSD 13.2
	Kernel: 13.2
	Compiler: clang 14.0.5

Windows Server 2022
	Kernel: 10.0.20348.2031
	Compiler: clang 15.0.7, gcc 8.1.0 (MinGW), and MSVC VS 17.9

Windows Server 2019
	Kernel: 10.0.17763
	Compiler: clang 14.0 and gcc 8.1.0 (MinGW)

CentOS Stream 9
	Kernel: 5.4.0-167-generic
	Compiler: gcc 11.4.1 20230605

CentOS Stream 8
	Kernel: 5.4.0-167-generic
	Compiler: gcc 8.5.0 20210514

Debian Bullseye
	Kernel: 5.4.0-167-generic
	Compiler: gcc 10.2.1-6

Debian 11 (arm)
	Kernel: Container Host Kernel
	Compiler: gcc 10.2.1

Fedora 38
	Kernel: Depends on container host
	Compiler: gcc 13.2.1

Fedora 37
	Kernel: Depends on container host system
	Compiler: gcc 12.3.1

openSUSE Leap 15
	Kernel: 5.4.0-167-generic
	Compiler: gcc 7.5.0

Ubuntu 20.04
	Kernel: 5.4.0-167-generic
	Compiler: gcc 9.4.0-1ubuntu1~20.04.1

RHEL8
	Kernel: 5.4.0-167-generic
	Compiler: gcc 8.5.0 20210514 (Red Hat 8.5.0-20)

Ubuntu 22.04
	Kernel: 5.4.0-167-generic
	Compiler: gcc 11.4.0

Alpine
	Kernel: 5.4.0-167-generic
	Compiler: gcc (Alpine 12.2.1_git20220924-r10) 12.2.1 20220924

To view detailed results, visit:
https://lab.dpdk.org/results/dashboard/patchsets/29635/

UNH-IOL DPDK Community Lab

To manage your email subscriptions, visit: 
https://lab.dpdk.org/results/dashboard/preferences/subscriptions/