From mboxrd@z Thu Jan  1 00:00:00 1970
Return-Path: <test-report-bounces@dpdk.org>
Received: from mails.dpdk.org (mails.dpdk.org [217.70.189.124])
	by inbox.dpdk.org (Postfix) with ESMTP id E34B943D27
	for <public@inbox.dpdk.org>; Sat, 23 Mar 2024 01:09:18 +0100 (CET)
Received: from mails.dpdk.org (localhost [127.0.0.1])
	by mails.dpdk.org (Postfix) with ESMTP id 395FD432D2;
	Sat, 23 Mar 2024 01:09:18 +0100 (CET)
Received: from mail-io1-f99.google.com (mail-io1-f99.google.com
 [209.85.166.99]) by mails.dpdk.org (Postfix) with ESMTP id 50421402BD
 for <test-report@dpdk.org>; Sat, 23 Mar 2024 01:06:41 +0100 (CET)
Received: by mail-io1-f99.google.com with SMTP id
 ca18e2360f4ac-7c8d2e0e9cfso91706539f.1
 for <test-report@dpdk.org>; Fri, 22 Mar 2024 17:06:41 -0700 (PDT)
DKIM-Signature: v=1; a=rsa-sha256; c=relaxed/relaxed;
 d=iol.unh.edu; s=unh-iol; t=1711152400; x=1711757200; darn=dpdk.org;
 h=references:in-reply-to:cc:to:from:subject:message-id:date:from:to
 :cc:subject:date:message-id:reply-to;
 bh=6VnHw+cLeFAWyYzZXIC58Y31fPnKgkVKFUQMA286qKY=;
 b=cmJWLbnHq5AXd4I6fPxi4jfBzrym/7XXjyWFPWwiNzJ5Br3YskEtXnmr2P83UPPwkI
 pwgWfgqJMrRVE1uDHCQKjDez9mNB2lWAdN6pc5Xb6xgGzzUMwXlWFS7PSHixgMe3AeZc
 rSScMUXHGSPeclsLMhAoXEUtGDO6cwA6oi7OI=
X-Google-DKIM-Signature: v=1; a=rsa-sha256; c=relaxed/relaxed;
 d=1e100.net; s=20230601; t=1711152400; x=1711757200;
 h=references:in-reply-to:cc:to:from:subject:message-id:date
 :x-gm-message-state:from:to:cc:subject:date:message-id:reply-to;
 bh=6VnHw+cLeFAWyYzZXIC58Y31fPnKgkVKFUQMA286qKY=;
 b=FXH0ae8ZBUwEKLEPP7M65WHb3m/nuFo4zKD28aMS0PlswX3QR2V7nmYji+cUaEH0V1
 iCpfQhL9Mm4Sc1qO8vLy9vpnTUEJzAma+8ZXQxoOsq2YoYfMb9hpJ+N/OUgoI+fVwIT9
 xBghMxWJiVHm/E/NBf4HbKUanCndnGQG7KX/MYq6yENcVHfLmYOccqgEf6s2xQlcfKY6
 D0yqrFc6/LkTsr23T1AsmPr5+QiHE3ymspi8dZgaQjFqGtHEZS204xVMSRw3+Wr6C6z8
 5VCWkd86d8piv1D6/J43UImufYC/hXszC/WpTqyxWxTkx4GdlDHp89kAgESl86+f517E
 xhDA==
X-Gm-Message-State: AOJu0Yy5VKxDS0hv1zI01MEjAD5Y1TgWofoyzA9Dh2os3RkvHsa/X50p
 F/xsSGF2rLRiXZ8Xk9De10Yx6g3CByIqkzTbZqZmPSRDP+n6fKkEMpJt2IskPB0e4GNitKosdz6
 iN9x4LH0pZWIaSHy2g7eoONW7cbBlfGtmJFcGbjE8qH2E/ARJDwvycdhG
X-Google-Smtp-Source: AGHT+IFVXtOPsy4GP/nlKGYni2lPvFrzN4jhrut58vXzjq6L6hHrmq7gYSsmjjz5YwcM4fcY+7YEpqxEk9t/
X-Received: by 2002:a6b:4e08:0:b0:7d0:3fc4:b418 with SMTP id
 c8-20020a6b4e08000000b007d03fc4b418mr270680iob.9.1711152400699; 
 Fri, 22 Mar 2024 17:06:40 -0700 (PDT)
Received: from postal.iol.unh.edu (postal.iol.unh.edu.
 [2606:4100:3880:1234::84]) by smtp-relay.gmail.com with ESMTPS id
 f19-20020a6b6213000000b007cc89800aa2sm121926iog.10.2024.03.22.17.06.40
 (version=TLS1_2 cipher=ECDHE-ECDSA-AES128-GCM-SHA256 bits=128/128);
 Fri, 22 Mar 2024 17:06:40 -0700 (PDT)
X-Relaying-Domain: iol.unh.edu
Date: Fri, 22 Mar 2024 17:06:40 -0700 (PDT)
Message-ID: <65fe1d10.6b0a0220.e5296.55bcSMTPIN_ADDED_MISSING@mx.google.com>
Received: from [172.17.0.8] (unknown [172.18.0.217])
 by postal.iol.unh.edu (Postfix) with ESMTP id 3C2436052471;
 Fri, 22 Mar 2024 20:06:40 -0400 (EDT)
Subject: |SUCCESS| pw138742 [PATCH] Spelling: Fix spelling mistake.
From: dpdklab@iol.unh.edu
To: Test Report <test-report@dpdk.org>
Cc: dpdk-test-reports@iol.unh.edu
In-Reply-To: <20240321224135.998-1-masoumeh.farhadinia@gmail.com>
References: <20240321224135.998-1-masoumeh.farhadinia@gmail.com>
Content-Type: text/plain
X-BeenThere: test-report@dpdk.org
X-Mailman-Version: 2.1.29
Precedence: list
List-Id: automatic DPDK test reports <test-report.dpdk.org>
List-Unsubscribe: <https://mails.dpdk.org/options/test-report>,
 <mailto:test-report-request@dpdk.org?subject=unsubscribe>
List-Archive: <http://mails.dpdk.org/archives/test-report/>
List-Post: <mailto:test-report@dpdk.org>
List-Help: <mailto:test-report-request@dpdk.org?subject=help>
List-Subscribe: <https://mails.dpdk.org/listinfo/test-report>,
 <mailto:test-report-request@dpdk.org?subject=subscribe>
Errors-To: test-report-bounces@dpdk.org

Test-Label: iol-compile-amd64-testing
Test-Status: SUCCESS
http://dpdk.org/patch/138742

_Testing PASS_

Submitter: None <masoumeh.farhadinia@gmail.com>
Date: Thursday, March 21 2024 22:41:35 
DPDK git baseline: Repo:dpdk
  Branch: master
  CommitID:0219d467bcb1d19b386b5bae8eecd3514ba13fdb

138742 --> testing pass

Test environment and result as below:

+---------------------+--------------------+----------------------+-------------------+
|     Environment     | dpdk_meson_compile | dpdk_mingw64_compile | dpdk_msvc_compile |
+=====================+====================+======================+===================+
| FreeBSD 13.2        | PASS               | SKIPPED              | SKIPPED           |
+---------------------+--------------------+----------------------+-------------------+
| Windows Server 2019 | PASS               | PASS                 | SKIPPED           |
+---------------------+--------------------+----------------------+-------------------+
| Windows Server 2022 | PASS               | PASS                 | PASS              |
+---------------------+--------------------+----------------------+-------------------+
| Debian Bullseye     | PASS               | SKIPPED              | SKIPPED           |
+---------------------+--------------------+----------------------+-------------------+
| CentOS Stream 8     | PASS               | SKIPPED              | SKIPPED           |
+---------------------+--------------------+----------------------+-------------------+
| Debian 11 (arm)     | PASS               | SKIPPED              | SKIPPED           |
+---------------------+--------------------+----------------------+-------------------+
| Fedora 37           | PASS               | SKIPPED              | SKIPPED           |
+---------------------+--------------------+----------------------+-------------------+
| Fedora 38           | PASS               | SKIPPED              | SKIPPED           |
+---------------------+--------------------+----------------------+-------------------+
| RHEL8               | PASS               | SKIPPED              | SKIPPED           |
+---------------------+--------------------+----------------------+-------------------+
| Ubuntu 22.04        | PASS               | SKIPPED              | SKIPPED           |
+---------------------+--------------------+----------------------+-------------------+
| Ubuntu 20.04        | PASS               | SKIPPED              | SKIPPED           |
+---------------------+--------------------+----------------------+-------------------+
| openSUSE Leap 15    | PASS               | SKIPPED              | SKIPPED           |
+---------------------+--------------------+----------------------+-------------------+
| Alpine              | PASS               | SKIPPED              | SKIPPED           |
+---------------------+--------------------+----------------------+-------------------+
| CentOS Stream 9     | PASS               | SKIPPED              | SKIPPED           |
+---------------------+--------------------+----------------------+-------------------+


FreeBSD 13.2
	Kernel: 13.2
	Compiler: clang 14.0.5

Windows Server 2019
	Kernel: 10.0.17763
	Compiler: clang 14.0 and gcc 8.1.0 (MinGW)

Windows Server 2022
	Kernel: 10.0.20348.2031
	Compiler: clang 15.0.7, gcc 8.1.0 (MinGW), and MSVC VS 17.9

Debian Bullseye
	Kernel: 5.4.0-167-generic
	Compiler: gcc 10.2.1-6

CentOS Stream 8
	Kernel: 5.4.0-167-generic
	Compiler: gcc 8.5.0 20210514

Debian 11 (arm)
	Kernel: Container Host Kernel
	Compiler: gcc 10.2.1

Fedora 37
	Kernel: Depends on container host system
	Compiler: gcc 12.3.1

Fedora 38
	Kernel: Depends on container host
	Compiler: gcc 13.2.1

RHEL8
	Kernel: 5.4.0-167-generic
	Compiler: gcc 8.5.0 20210514 (Red Hat 8.5.0-20)

Ubuntu 22.04
	Kernel: 5.4.0-167-generic
	Compiler: gcc 11.4.0

Ubuntu 20.04
	Kernel: 5.4.0-167-generic
	Compiler: gcc 9.4.0-1ubuntu1~20.04.1

openSUSE Leap 15
	Kernel: 5.4.0-167-generic
	Compiler: gcc 7.5.0

Alpine
	Kernel: 5.4.0-167-generic
	Compiler: gcc (Alpine 12.2.1_git20220924-r10) 12.2.1 20220924

CentOS Stream 9
	Kernel: 5.4.0-167-generic
	Compiler: gcc 11.4.1 20230605

To view detailed results, visit:
https://lab.dpdk.org/results/dashboard/patchsets/29634/

UNH-IOL DPDK Community Lab

To manage your email subscriptions, visit: 
https://lab.dpdk.org/results/dashboard/preferences/subscriptions/