From mboxrd@z Thu Jan  1 00:00:00 1970
Return-Path: <test-report-bounces@dpdk.org>
Received: from mails.dpdk.org (mails.dpdk.org [217.70.189.124])
	by inbox.dpdk.org (Postfix) with ESMTP id 817C543D27
	for <public@inbox.dpdk.org>; Sat, 23 Mar 2024 01:09:20 +0100 (CET)
Received: from mails.dpdk.org (localhost [127.0.0.1])
	by mails.dpdk.org (Postfix) with ESMTP id 0EF2643322;
	Sat, 23 Mar 2024 01:09:20 +0100 (CET)
Received: from mail-qk1-f225.google.com (mail-qk1-f225.google.com
 [209.85.222.225])
 by mails.dpdk.org (Postfix) with ESMTP id 02E2B402BD
 for <test-report@dpdk.org>; Sat, 23 Mar 2024 01:09:17 +0100 (CET)
Received: by mail-qk1-f225.google.com with SMTP id
 af79cd13be357-789e3f17a6eso190351985a.0
 for <test-report@dpdk.org>; Fri, 22 Mar 2024 17:09:16 -0700 (PDT)
DKIM-Signature: v=1; a=rsa-sha256; c=relaxed/relaxed;
 d=iol.unh.edu; s=unh-iol; t=1711152556; x=1711757356; darn=dpdk.org;
 h=references:in-reply-to:cc:to:from:subject:message-id:date:from:to
 :cc:subject:date:message-id:reply-to;
 bh=C4VPvPOnXNbE7EW1OmTkr/w5BrFzWN0gc43nKd9hZ2o=;
 b=hBUc8IK8MoFaRZb2geFDf9TRN+nYrXnyEGKjiPvogCld9HndBpd5w9OmDkHqdIpg53
 MPSCvLjePeZEl+BMZ6MDoEeDlwVGSKNga/zCYVJlLlAzRyjjtsmaKQBMcSKidzVfOjL6
 saAutxEur6x0RotNqKy6TiEv6wotlNP2MSG2Y=
X-Google-DKIM-Signature: v=1; a=rsa-sha256; c=relaxed/relaxed;
 d=1e100.net; s=20230601; t=1711152556; x=1711757356;
 h=references:in-reply-to:cc:to:from:subject:message-id:date
 :x-gm-message-state:from:to:cc:subject:date:message-id:reply-to;
 bh=C4VPvPOnXNbE7EW1OmTkr/w5BrFzWN0gc43nKd9hZ2o=;
 b=rB75s093teCbYQFqQne50COMIadslahwKU9whznqQQGeUaGoSQPSSX8raL4vn6Qgf2
 TpIDPoXXh8j/fRgxl24443q8H0VrhZ1SGyqyeCy5PYuV26m/0pRpv2m4vGKK4rHuMXyx
 hNishuAyRdDYH7aXyj3Tv9Xmg1wEfqcA0my2zG1WxghCVOHsI5HIFrqYCg8IYo6db72R
 l8PjfBI19k3vRTm4yOEYRV4T+Ua6+oRTAtAp0iCRgHfd0xBesMXbEIBrkFgJOCQ3Azzw
 IYDXYI3UPZK6kNJEMWIGSsnY6o0RGh1HFdE2WHkQ2q5SWRKzTAHonr9k8yiN8GDTUY44
 5juA==
X-Gm-Message-State: AOJu0YzYRq4774mvBsp7lNWDKJPbPWPUzM1allTbZnEga0/cFSoraDpY
 MpOrFPXEmUjAqU2eamaOVoSJHr44UtZQr/4vJFV7PelQxJ61nsiu/L9dIyNONM/fnMumkJHa+uB
 6C0Vx1MOjEJcUJxJKuiBw9JtiNo/eikAxyq8gD9igxa8xYJD3SPbvlLy1
X-Google-Smtp-Source: AGHT+IG4IoX4+suMresQlc3Nz5WVUZrW9qgK7yk0AFPFhUn75b5VPrfhDZCfI8Rb7J++PIIaw5pym8rUXjk6
X-Received: by 2002:a05:622a:256:b0:431:31a5:721b with SMTP id
 c22-20020a05622a025600b0043131a5721bmr1245957qtx.36.1711152556468; 
 Fri, 22 Mar 2024 17:09:16 -0700 (PDT)
Received: from postal.iol.unh.edu (postal.iol.unh.edu.
 [2606:4100:3880:1234::84]) by smtp-relay.gmail.com with ESMTPS id
 ga13-20020a05622a590d00b0043139af8f8asm47872qtb.21.2024.03.22.17.09.16
 (version=TLS1_2 cipher=ECDHE-ECDSA-AES128-GCM-SHA256 bits=128/128);
 Fri, 22 Mar 2024 17:09:16 -0700 (PDT)
X-Relaying-Domain: iol.unh.edu
Date: Fri, 22 Mar 2024 17:09:16 -0700 (PDT)
Message-ID: <65fe1dac.050a0220.d4f70.34cdSMTPIN_ADDED_MISSING@mx.google.com>
Received: from [172.17.0.8] (unknown [172.18.0.217])
 by postal.iol.unh.edu (Postfix) with ESMTP id 2D4926052471;
 Fri, 22 Mar 2024 20:09:16 -0400 (EDT)
Subject: |SUCCESS| pw138741 [PATCH] Spelling : Fix spelling mistake.
From: dpdklab@iol.unh.edu
To: Test Report <test-report@dpdk.org>
Cc: dpdk-test-reports@iol.unh.edu
In-Reply-To: <PH7PR20MB546848979319542BEB6BB722E8322@PH7PR20MB5468.namprd20.prod.outlook.com>
References: <PH7PR20MB546848979319542BEB6BB722E8322@PH7PR20MB5468.namprd20.prod.outlook.com>
Content-Type: text/plain
X-BeenThere: test-report@dpdk.org
X-Mailman-Version: 2.1.29
Precedence: list
List-Id: automatic DPDK test reports <test-report.dpdk.org>
List-Unsubscribe: <https://mails.dpdk.org/options/test-report>,
 <mailto:test-report-request@dpdk.org?subject=unsubscribe>
List-Archive: <http://mails.dpdk.org/archives/test-report/>
List-Post: <mailto:test-report@dpdk.org>
List-Help: <mailto:test-report-request@dpdk.org?subject=help>
List-Subscribe: <https://mails.dpdk.org/listinfo/test-report>,
 <mailto:test-report-request@dpdk.org?subject=subscribe>
Errors-To: test-report-bounces@dpdk.org

Test-Label: iol-unit-arm64-testing
Test-Status: SUCCESS
http://dpdk.org/patch/138741

_Testing PASS_

Submitter: Fidel Castro <fidelcastro.s@hotmail.com>
Date: Thursday, March 21 2024 22:35:52 
DPDK git baseline: Repo:dpdk
  Branch: master
  CommitID:0219d467bcb1d19b386b5bae8eecd3514ba13fdb

138741 --> testing pass

Test environment and result as below:

+--------------------------+----------------+---------------------------+------------------------------+
|       Environment        | dpdk_unit_test | cryptodev_sw_zuc_autotest | cryptodev_sw_snow3g_autotest |
+==========================+================+===========================+==============================+
| CentOS Stream 9 (ARM)    | PASS           | SKIPPED                   | SKIPPED                      |
+--------------------------+----------------+---------------------------+------------------------------+
| Debian 11 (Buster) (ARM) | PASS           | SKIPPED                   | SKIPPED                      |
+--------------------------+----------------+---------------------------+------------------------------+
| Fedora 37 (ARM)          | PASS           | SKIPPED                   | SKIPPED                      |
+--------------------------+----------------+---------------------------+------------------------------+
| Fedora 38 (ARM)          | PASS           | SKIPPED                   | SKIPPED                      |
+--------------------------+----------------+---------------------------+------------------------------+
| Ubuntu 20.04 (ARM)       | PASS           | SKIPPED                   | SKIPPED                      |
+--------------------------+----------------+---------------------------+------------------------------+
| Debian 12 (arm)          | PASS           | PASS                      | PASS                         |
+--------------------------+----------------+---------------------------+------------------------------+


CentOS Stream 9 (ARM)
	Kernel: Container Host Kernel
	Compiler: gcc 11.4.1

Debian 11 (Buster) (ARM)
	Kernel: Container Host Kernel
	Compiler: gcc 10.2.1

Fedora 37 (ARM)
	Kernel: Depends on container host
	Compiler: gcc 12.3.1

Fedora 38 (ARM)
	Kernel: Depends on container host
	Compiler: gcc 13.2.1

Ubuntu 20.04 (ARM)
	Kernel: Container Host Kernel
	Compiler: gcc 9.4.0

Debian 12 (arm)
	Kernel: Container Host Kernel
	Compiler: gcc 12.2.0

To view detailed results, visit:
https://lab.dpdk.org/results/dashboard/patchsets/29633/

UNH-IOL DPDK Community Lab

To manage your email subscriptions, visit: 
https://lab.dpdk.org/results/dashboard/preferences/subscriptions/