From mboxrd@z Thu Jan  1 00:00:00 1970
Return-Path: <test-report-bounces@dpdk.org>
Received: from mails.dpdk.org (mails.dpdk.org [217.70.189.124])
	by inbox.dpdk.org (Postfix) with ESMTP id 5CF9743D27
	for <public@inbox.dpdk.org>; Sat, 23 Mar 2024 01:20:11 +0100 (CET)
Received: from mails.dpdk.org (localhost [127.0.0.1])
	by mails.dpdk.org (Postfix) with ESMTP id 330BC4327F;
	Sat, 23 Mar 2024 01:20:11 +0100 (CET)
Received: from mail-vk1-f225.google.com (mail-vk1-f225.google.com
 [209.85.221.225])
 by mails.dpdk.org (Postfix) with ESMTP id E2BB94327F
 for <test-report@dpdk.org>; Sat, 23 Mar 2024 01:15:26 +0100 (CET)
Received: by mail-vk1-f225.google.com with SMTP id
 71dfb90a1353d-4d42d18c683so905869e0c.1
 for <test-report@dpdk.org>; Fri, 22 Mar 2024 17:15:26 -0700 (PDT)
DKIM-Signature: v=1; a=rsa-sha256; c=relaxed/relaxed;
 d=iol.unh.edu; s=unh-iol; t=1711152926; x=1711757726; darn=dpdk.org;
 h=references:in-reply-to:cc:to:from:subject:message-id:date:from:to
 :cc:subject:date:message-id:reply-to;
 bh=rCQGEYKG/r8zsf8m9mL7SepQlfIJMli/phk9fgSVT7U=;
 b=G2F8qttJkbjK3qVXUVUm1uOTa2FmfqIoueUH+8BQRQVULO0p9WCsvvSvW6C61Az5fU
 pN4HE6NAkcPqcU6pIqIc4gACAfkWS50VBPqcGJ1BsOUk+q6RbjmjRR1rMwtghMBeFIhA
 NGBlwNXZJKYgKUkTTO6xLfYKcn9GfmCGbrRFg=
X-Google-DKIM-Signature: v=1; a=rsa-sha256; c=relaxed/relaxed;
 d=1e100.net; s=20230601; t=1711152926; x=1711757726;
 h=references:in-reply-to:cc:to:from:subject:message-id:date
 :x-gm-message-state:from:to:cc:subject:date:message-id:reply-to;
 bh=rCQGEYKG/r8zsf8m9mL7SepQlfIJMli/phk9fgSVT7U=;
 b=qkTeAeOUKaZl1fNPZ8ek54Xjn0nbpwu+FyzkvghT9FlEjo5MsNPO8hj0D67gGl6aMh
 yvJ22NaU3u2+6ah38izrp4yCf/NZN3ttnc7zO5jneCCFonaA2xEVUSI3GP+apI9XJ/DS
 4H8RUl3LpuEMsfJWiM5Clg5JNbS2hBlNolPQHprsv4+lzEGLe5l0aKkCXwVOQB0O3G2e
 sj5IPguW3lKZsMWqqIjeRou7XTvOUNkdU/qowDXs52VWHA7AGzpBlI9MKcJXIgSzkpv/
 AEtBcLVppUDu8ybBgEB4j1tYSF2i2R9DSmiY2WH72ucRC63MNjHdrmsF8PqZCdMonHDd
 U9hg==
X-Gm-Message-State: AOJu0YzZ87FPoYzuVFXtoIxGPc7fACuEMLvXXYcj7a1MykVMrVd8Oxmz
 QbI86+8ogfvENbzlWgEEPo+m+Vg+CgP9FMG6wlrwsf6Ki7v89XVoNFkV2f2vVlhyPVp3T6ycjZP
 J3zbwif+Tp9pbbpR2O/iom2f0BKpX8t6rVCeb/om7
X-Google-Smtp-Source: AGHT+IFknOJKWZSuJGR+9czsnOnqGXYNYemApqfFjfuedpYZgoQfPHuCXyMhfAyDqKaKTev28n3+mPmlcSV1
X-Received: by 2002:a05:6122:c9f:b0:4c9:a9c9:4b3b with SMTP id
 ba31-20020a0561220c9f00b004c9a9c94b3bmr1383350vkb.9.1711152926328; 
 Fri, 22 Mar 2024 17:15:26 -0700 (PDT)
Received: from postal.iol.unh.edu (postal.iol.unh.edu. [132.177.123.84])
 by smtp-relay.gmail.com with ESMTPS id
 11-20020a05621420cb00b006961d5d4f99sm232512qve.67.2024.03.22.17.15.26
 (version=TLS1_2 cipher=ECDHE-ECDSA-AES128-GCM-SHA256 bits=128/128);
 Fri, 22 Mar 2024 17:15:26 -0700 (PDT)
X-Relaying-Domain: iol.unh.edu
Date: Fri, 22 Mar 2024 17:15:26 -0700 (PDT)
Message-ID: <65fe1f1e.050a0220.4cfc9.d55fSMTPIN_ADDED_MISSING@mx.google.com>
Received: from [172.21.0.6] (unknown [172.18.0.240])
 by postal.iol.unh.edu (Postfix) with ESMTP id F0EF36052471;
 Fri, 22 Mar 2024 20:15:25 -0400 (EDT)
Subject: |SUCCESS| pw138741 [PATCH] Spelling : Fix spelling mistake.
From: dpdklab@iol.unh.edu
To: Test Report <test-report@dpdk.org>
Cc: dpdk-test-reports@iol.unh.edu
In-Reply-To: <PH7PR20MB546848979319542BEB6BB722E8322@PH7PR20MB5468.namprd20.prod.outlook.com>
References: <PH7PR20MB546848979319542BEB6BB722E8322@PH7PR20MB5468.namprd20.prod.outlook.com>
Content-Type: text/plain
X-BeenThere: test-report@dpdk.org
X-Mailman-Version: 2.1.29
Precedence: list
List-Id: automatic DPDK test reports <test-report.dpdk.org>
List-Unsubscribe: <https://mails.dpdk.org/options/test-report>,
 <mailto:test-report-request@dpdk.org?subject=unsubscribe>
List-Archive: <http://mails.dpdk.org/archives/test-report/>
List-Post: <mailto:test-report@dpdk.org>
List-Help: <mailto:test-report-request@dpdk.org?subject=help>
List-Subscribe: <https://mails.dpdk.org/listinfo/test-report>,
 <mailto:test-report-request@dpdk.org?subject=subscribe>
Errors-To: test-report-bounces@dpdk.org

Test-Label: iol-compile-arm64-testing
Test-Status: SUCCESS
http://dpdk.org/patch/138741

_Testing PASS_

Submitter: Fidel Castro <fidelcastro.s@hotmail.com>
Date: Thursday, March 21 2024 22:35:52 
DPDK git baseline: Repo:dpdk
  Branch: master
  CommitID:0219d467bcb1d19b386b5bae8eecd3514ba13fdb

138741 --> testing pass

Test environment and result as below:

+----------------------------------------+--------------------+
|              Environment               | dpdk_meson_compile |
+========================================+====================+
| Ubuntu 20.04 ARM SVE                   | PASS               |
+----------------------------------------+--------------------+
| Debian 12 with MUSDK                   | PASS               |
+----------------------------------------+--------------------+
| Ubuntu 20.04 ARM GCC Cross Compile     | PASS               |
+----------------------------------------+--------------------+
| Ubuntu 20.04 ARM Clang Cross Compile   | PASS               |
+----------------------------------------+--------------------+
| Fedora 37 (ARM)                        | PASS               |
+----------------------------------------+--------------------+
| Ubuntu 20.04 aarch32 GCC Cross Compile | PASS               |
+----------------------------------------+--------------------+
| Fedora 38 (ARM)                        | PASS               |
+----------------------------------------+--------------------+
| Ubuntu 20.04 (ARM)                     | PASS               |
+----------------------------------------+--------------------+
| Debian 11 (Buster) (ARM)               | PASS               |
+----------------------------------------+--------------------+
| Debian 12 (arm)                        | PASS               |
+----------------------------------------+--------------------+
| CentOS Stream 9 (ARM)                  | PASS               |
+----------------------------------------+--------------------+


Ubuntu 20.04 ARM SVE
	Kernel: 5.4.0-167-generic
	Compiler: gcc (Ubuntu 10.5.0-1ubuntu1~20.04) 10.5.0

Debian 12 with MUSDK
	Kernel: Container Host Kernel
	Compiler: gcc 12.2.0

Ubuntu 20.04 ARM GCC Cross Compile
	Kernel: 5.4.0-167-generic
	Compiler: aarch64-linux-gnu-gcc (Ubuntu 9.4.0-1ubuntu1~20.04.2) 9.4.0

Ubuntu 20.04 ARM Clang Cross Compile
	Kernel: 5.4.0-72-generic
	Compiler: clang 10.0.0-4ubuntu1

Fedora 37 (ARM)
	Kernel: Depends on container host
	Compiler: gcc 12.3.1

Ubuntu 20.04 aarch32 GCC Cross Compile
	Kernel: 5.4.0-167-generic
	Compiler: gcc 9.4.0

Fedora 38 (ARM)
	Kernel: Depends on container host
	Compiler: gcc 13.2.1

Ubuntu 20.04 (ARM)
	Kernel: Container Host Kernel
	Compiler: gcc 9.4.0

Debian 11 (Buster) (ARM)
	Kernel: Container Host Kernel
	Compiler: gcc 10.2.1

Debian 12 (arm)
	Kernel: Container Host Kernel
	Compiler: gcc 12.2.0

CentOS Stream 9 (ARM)
	Kernel: Container Host Kernel
	Compiler: gcc 11.4.1

To view detailed results, visit:
https://lab.dpdk.org/results/dashboard/patchsets/29633/

UNH-IOL DPDK Community Lab

To manage your email subscriptions, visit: 
https://lab.dpdk.org/results/dashboard/preferences/subscriptions/