From mboxrd@z Thu Jan  1 00:00:00 1970
Return-Path: <test-report-bounces@dpdk.org>
Received: from mails.dpdk.org (mails.dpdk.org [217.70.189.124])
	by inbox.dpdk.org (Postfix) with ESMTP id BCEED43D27
	for <public@inbox.dpdk.org>; Sat, 23 Mar 2024 01:20:11 +0100 (CET)
Received: from mails.dpdk.org (localhost [127.0.0.1])
	by mails.dpdk.org (Postfix) with ESMTP id 682CE432C2;
	Sat, 23 Mar 2024 01:20:11 +0100 (CET)
Received: from mail-il1-f226.google.com (mail-il1-f226.google.com
 [209.85.166.226])
 by mails.dpdk.org (Postfix) with ESMTP id C5C4542EE2
 for <test-report@dpdk.org>; Sat, 23 Mar 2024 01:15:48 +0100 (CET)
Received: by mail-il1-f226.google.com with SMTP id
 e9e14a558f8ab-366c6170706so12728085ab.1
 for <test-report@dpdk.org>; Fri, 22 Mar 2024 17:15:48 -0700 (PDT)
DKIM-Signature: v=1; a=rsa-sha256; c=relaxed/relaxed;
 d=iol.unh.edu; s=unh-iol; t=1711152948; x=1711757748; darn=dpdk.org;
 h=references:in-reply-to:cc:to:from:subject:message-id:date:from:to
 :cc:subject:date:message-id:reply-to;
 bh=dhXkZQMji91IuxcOIdtoHLo8UjNgOlkg31CsfDfvLes=;
 b=SZzPja2X7Q41/baNAhrMdLHYz+Cn83wxRoE8vB+yvxscs43s246CYsLt4xEZ8T0TrZ
 abBQji65RRW5f0yQ534iZzBfjPF7jTQnUKdvoEV5dx5o9bAcNxXGPQykzQQnlTGT+wIB
 MLJISortiNKZ9tw5Ei17wkDjqOZZw1wnvWPHc=
X-Google-DKIM-Signature: v=1; a=rsa-sha256; c=relaxed/relaxed;
 d=1e100.net; s=20230601; t=1711152948; x=1711757748;
 h=references:in-reply-to:cc:to:from:subject:message-id:date
 :x-gm-message-state:from:to:cc:subject:date:message-id:reply-to;
 bh=dhXkZQMji91IuxcOIdtoHLo8UjNgOlkg31CsfDfvLes=;
 b=XoVTp+Xcvt7kPY5jl0g0wF9Nw7gCpi4zaZOhuSiGVDQzz99dCXWRDRwpfkYTwurMo1
 NaW0/iyA86QBdAF6Lwov+vlbGcm/hxSsbmdyXKZ2y7rbVX21p0WpQOnVhbsOWZybrrB1
 tKjx6uClQwvtFxKWzc7wPUVIkNZd8ZBnspeXB9f45kLG3jQ0o2Yq/2bz3fkqQnaq53V/
 Wegd+2/BH3/8nRxieG4BjrfZSK4G2O+wW/KdH7S8B9ADJRGi1HSndbAx2TnUJ+tabfq5
 TE2EGDiQXtBRUXPKH7nM8K4I5cUpb6nyDFyxs48RIl9YIxSxYFyDiPWV1NPTKWpznwNf
 KXKA==
X-Gm-Message-State: AOJu0Yw/xBBn3uq8VytLV/FxlJ53Irolgx/fihCnuevuqdwBvGtZOoAX
 ELWopM/hZ1YyS4RvRk+lDdyugO+xjKYWn8pyCbAyUtC3Aeiu8Okz1p9q5p21C5CQvVb7fwQZK8+
 riVl6QoauhCHkGW/coL6lpQuLseFssj4Hjq0C9xb1
X-Google-Smtp-Source: AGHT+IFa2lpPHi++DOH6BlUU/0GdENs/Ax9sQkCCdQf0okN1ROSkRXGrQmUrpwZsWgf6fmU1annd0adVe5n+
X-Received: by 2002:a92:d410:0:b0:368:4f44:f2cb with SMTP id
 q16-20020a92d410000000b003684f44f2cbmr1087502ilm.20.1711152947971; 
 Fri, 22 Mar 2024 17:15:47 -0700 (PDT)
Received: from postal.iol.unh.edu (postal.iol.unh.edu. [132.177.123.84])
 by smtp-relay.gmail.com with ESMTPS id
 d10-20020a92874a000000b00365782c02b9sm157592ilm.19.2024.03.22.17.15.47
 (version=TLS1_2 cipher=ECDHE-ECDSA-AES128-GCM-SHA256 bits=128/128);
 Fri, 22 Mar 2024 17:15:47 -0700 (PDT)
X-Relaying-Domain: iol.unh.edu
Date: Fri, 22 Mar 2024 17:15:47 -0700 (PDT)
Message-ID: <65fe1f33.920a0220.ba296.8b33SMTPIN_ADDED_MISSING@mx.google.com>
Received: from [172.21.0.6] (unknown [172.18.0.240])
 by postal.iol.unh.edu (Postfix) with ESMTP id 6B56D6052471;
 Fri, 22 Mar 2024 20:15:47 -0400 (EDT)
Subject: |SUCCESS| pw138742 [PATCH] Spelling: Fix spelling mistake.
From: dpdklab@iol.unh.edu
To: Test Report <test-report@dpdk.org>
Cc: dpdk-test-reports@iol.unh.edu
In-Reply-To: <20240321224135.998-1-masoumeh.farhadinia@gmail.com>
References: <20240321224135.998-1-masoumeh.farhadinia@gmail.com>
Content-Type: text/plain
X-BeenThere: test-report@dpdk.org
X-Mailman-Version: 2.1.29
Precedence: list
List-Id: automatic DPDK test reports <test-report.dpdk.org>
List-Unsubscribe: <https://mails.dpdk.org/options/test-report>,
 <mailto:test-report-request@dpdk.org?subject=unsubscribe>
List-Archive: <http://mails.dpdk.org/archives/test-report/>
List-Post: <mailto:test-report@dpdk.org>
List-Help: <mailto:test-report-request@dpdk.org?subject=help>
List-Subscribe: <https://mails.dpdk.org/listinfo/test-report>,
 <mailto:test-report-request@dpdk.org?subject=subscribe>
Errors-To: test-report-bounces@dpdk.org

Test-Label: iol-unit-amd64-testing
Test-Status: SUCCESS
http://dpdk.org/patch/138742

_Testing PASS_

Submitter: None <masoumeh.farhadinia@gmail.com>
Date: Thursday, March 21 2024 22:41:35 
DPDK git baseline: Repo:dpdk
  Branch: master
  CommitID:0219d467bcb1d19b386b5bae8eecd3514ba13fdb

138742 --> testing pass

Test environment and result as below:

+------------------+----------------+
|   Environment    | dpdk_unit_test |
+==================+================+
| Debian Bullseye  | PASS           |
+------------------+----------------+
| CentOS Stream 8  | PASS           |
+------------------+----------------+
| Fedora 37        | PASS           |
+------------------+----------------+
| CentOS Stream 9  | PASS           |
+------------------+----------------+
| Debian 11 (arm)  | PASS           |
+------------------+----------------+
| openSUSE Leap 15 | PASS           |
+------------------+----------------+
| Ubuntu 22.04     | PASS           |
+------------------+----------------+
| Fedora 38        | PASS           |
+------------------+----------------+
| Ubuntu 20.04     | PASS           |
+------------------+----------------+
| RHEL8            | PASS           |
+------------------+----------------+


Debian Bullseye
	Kernel: 5.4.0-167-generic
	Compiler: gcc 10.2.1-6

CentOS Stream 8
	Kernel: 5.4.0-167-generic
	Compiler: gcc 8.5.0 20210514

Fedora 37
	Kernel: Depends on container host system
	Compiler: gcc 12.3.1

CentOS Stream 9
	Kernel: 5.4.0-167-generic
	Compiler: gcc 11.4.1 20230605

Debian 11 (arm)
	Kernel: Container Host Kernel
	Compiler: gcc 10.2.1

openSUSE Leap 15
	Kernel: 5.4.0-167-generic
	Compiler: gcc 7.5.0

Ubuntu 22.04
	Kernel: 5.4.0-167-generic
	Compiler: gcc 11.4.0

Fedora 38
	Kernel: Depends on container host
	Compiler: gcc 13.2.1

Ubuntu 20.04
	Kernel: 5.4.0-167-generic
	Compiler: gcc 9.4.0-1ubuntu1~20.04.1

RHEL8
	Kernel: 5.4.0-167-generic
	Compiler: gcc 8.5.0 20210514 (Red Hat 8.5.0-20)

To view detailed results, visit:
https://lab.dpdk.org/results/dashboard/patchsets/29634/

UNH-IOL DPDK Community Lab

To manage your email subscriptions, visit: 
https://lab.dpdk.org/results/dashboard/preferences/subscriptions/