From mboxrd@z Thu Jan  1 00:00:00 1970
Return-Path: <test-report-bounces@dpdk.org>
Received: from mails.dpdk.org (mails.dpdk.org [217.70.189.124])
	by inbox.dpdk.org (Postfix) with ESMTP id A1DB343D27
	for <public@inbox.dpdk.org>; Sat, 23 Mar 2024 01:20:13 +0100 (CET)
Received: from mails.dpdk.org (localhost [127.0.0.1])
	by mails.dpdk.org (Postfix) with ESMTP id 241664335D;
	Sat, 23 Mar 2024 01:20:13 +0100 (CET)
Received: from mail-ua1-f98.google.com (mail-ua1-f98.google.com
 [209.85.222.98]) by mails.dpdk.org (Postfix) with ESMTP id 6106A42EE2
 for <test-report@dpdk.org>; Sat, 23 Mar 2024 01:20:10 +0100 (CET)
Received: by mail-ua1-f98.google.com with SMTP id
 a1e0cc1a2514c-7db1a2c1f96so1361973241.0
 for <test-report@dpdk.org>; Fri, 22 Mar 2024 17:20:10 -0700 (PDT)
DKIM-Signature: v=1; a=rsa-sha256; c=relaxed/relaxed;
 d=iol.unh.edu; s=unh-iol; t=1711153209; x=1711758009; darn=dpdk.org;
 h=references:in-reply-to:cc:to:from:subject:message-id:date:from:to
 :cc:subject:date:message-id:reply-to;
 bh=dhXkZQMji91IuxcOIdtoHLo8UjNgOlkg31CsfDfvLes=;
 b=YPtWryj9KQ1/j0lY1BORrtjLiy9w4koWXfUHNhUag0HVLnp2VQcfZhPWdmytOCftdG
 19Bu2be+61HETouIpWNZ59JaIY5O5M/cGZzVfcbux9PvV6V/VPTy1CePXr0soEKWVubD
 mZRIeFQD9+8zeLLF8fsfa2XGHO27lzLtT76os=
X-Google-DKIM-Signature: v=1; a=rsa-sha256; c=relaxed/relaxed;
 d=1e100.net; s=20230601; t=1711153209; x=1711758009;
 h=references:in-reply-to:cc:to:from:subject:message-id:date
 :x-gm-message-state:from:to:cc:subject:date:message-id:reply-to;
 bh=dhXkZQMji91IuxcOIdtoHLo8UjNgOlkg31CsfDfvLes=;
 b=rMbiv9egrzd4I37OHXxwLcoVbr5Nedf2/6NaNsjdfrL8zr3dAguk5AymsOzH7Se9ih
 zNABL1Wh9WtkYvbwkAZstQEfzZ37zBeqUi1FZBpfc1OOCj2fjUBQSUSmrzWY97i0RDd1
 6JM9G055NT0hXM6KbOwuUHikJwBBsodHvM32LqJ4fk8sQRbxm3KvWbdIhtxf8+GPYFr/
 o/OtggKj9psZ9hHgqbVxz1tqdKcwCIEoWBfkvlbb8tg8d8MLFK1N7TpuUHQm3d7Kwnp0
 MONY5PAxvAOCh6t5KM/Z1GZUa+Y9xhpqwk6uaFnJgII4QS4Cd2Ck4RbTaJyBIru8MvBR
 b0cg==
X-Gm-Message-State: AOJu0YwhqjjdgQ6gbjU0QlE6P/RjtJUYw95kMFmu02247ffpgf0FCmzF
 c+LH/I6BGSr0b004wFcB5X0+CPay27O2L6QdcY+u/kISY6DtiidoG6OaornX8DF3DwE0uL+FK91
 ZQNsdk8c86LrmioAwyq41Bhv3nrGxucGqS/bQGULxrWD0rcaTmwHDrWHD
X-Google-Smtp-Source: AGHT+IGdJ9kQqo3/fuwP4bbZUjHeWgng1y6LilsiNvqy27PzIKzeL5SpEgytJT4c+9PNtCOk/yYH9z6Dha1R
X-Received: by 2002:a05:6102:511f:b0:473:241b:f030 with SMTP id
 bm31-20020a056102511f00b00473241bf030mr1532251vsb.22.1711153209784; 
 Fri, 22 Mar 2024 17:20:09 -0700 (PDT)
Received: from postal.iol.unh.edu (postal.iol.unh.edu.
 [2606:4100:3880:1234::84]) by smtp-relay.gmail.com with ESMTPS id
 p16-20020ab05490000000b007dbfb43e977sm178242uaa.10.2024.03.22.17.20.09
 (version=TLS1_2 cipher=ECDHE-ECDSA-AES128-GCM-SHA256 bits=128/128);
 Fri, 22 Mar 2024 17:20:09 -0700 (PDT)
X-Relaying-Domain: iol.unh.edu
Date: Fri, 22 Mar 2024 17:20:09 -0700 (PDT)
Message-ID: <65fe2039.b00a0220.8731e.8cb4SMTPIN_ADDED_MISSING@mx.google.com>
Received: from [172.21.0.8] (unknown [172.18.0.240])
 by postal.iol.unh.edu (Postfix) with ESMTP id 6B0C26052471;
 Fri, 22 Mar 2024 20:20:09 -0400 (EDT)
Subject: |SUCCESS| pw138742 [PATCH] Spelling: Fix spelling mistake.
From: dpdklab@iol.unh.edu
To: Test Report <test-report@dpdk.org>
Cc: dpdk-test-reports@iol.unh.edu
In-Reply-To: <20240321224135.998-1-masoumeh.farhadinia@gmail.com>
References: <20240321224135.998-1-masoumeh.farhadinia@gmail.com>
Content-Type: text/plain
X-BeenThere: test-report@dpdk.org
X-Mailman-Version: 2.1.29
Precedence: list
List-Id: automatic DPDK test reports <test-report.dpdk.org>
List-Unsubscribe: <https://mails.dpdk.org/options/test-report>,
 <mailto:test-report-request@dpdk.org?subject=unsubscribe>
List-Archive: <http://mails.dpdk.org/archives/test-report/>
List-Post: <mailto:test-report@dpdk.org>
List-Help: <mailto:test-report-request@dpdk.org?subject=help>
List-Subscribe: <https://mails.dpdk.org/listinfo/test-report>,
 <mailto:test-report-request@dpdk.org?subject=subscribe>
Errors-To: test-report-bounces@dpdk.org

Test-Label: iol-unit-amd64-testing
Test-Status: SUCCESS
http://dpdk.org/patch/138742

_Testing PASS_

Submitter: None <masoumeh.farhadinia@gmail.com>
Date: Thursday, March 21 2024 22:41:35 
DPDK git baseline: Repo:dpdk
  Branch: master
  CommitID:0219d467bcb1d19b386b5bae8eecd3514ba13fdb

138742 --> testing pass

Test environment and result as below:

+------------------+----------------+
|   Environment    | dpdk_unit_test |
+==================+================+
| Debian Bullseye  | PASS           |
+------------------+----------------+
| CentOS Stream 8  | PASS           |
+------------------+----------------+
| Fedora 37        | PASS           |
+------------------+----------------+
| CentOS Stream 9  | PASS           |
+------------------+----------------+
| Debian 11 (arm)  | PASS           |
+------------------+----------------+
| openSUSE Leap 15 | PASS           |
+------------------+----------------+
| Ubuntu 22.04     | PASS           |
+------------------+----------------+
| Fedora 38        | PASS           |
+------------------+----------------+
| Ubuntu 20.04     | PASS           |
+------------------+----------------+
| RHEL8            | PASS           |
+------------------+----------------+


Debian Bullseye
	Kernel: 5.4.0-167-generic
	Compiler: gcc 10.2.1-6

CentOS Stream 8
	Kernel: 5.4.0-167-generic
	Compiler: gcc 8.5.0 20210514

Fedora 37
	Kernel: Depends on container host system
	Compiler: gcc 12.3.1

CentOS Stream 9
	Kernel: 5.4.0-167-generic
	Compiler: gcc 11.4.1 20230605

Debian 11 (arm)
	Kernel: Container Host Kernel
	Compiler: gcc 10.2.1

openSUSE Leap 15
	Kernel: 5.4.0-167-generic
	Compiler: gcc 7.5.0

Ubuntu 22.04
	Kernel: 5.4.0-167-generic
	Compiler: gcc 11.4.0

Fedora 38
	Kernel: Depends on container host
	Compiler: gcc 13.2.1

Ubuntu 20.04
	Kernel: 5.4.0-167-generic
	Compiler: gcc 9.4.0-1ubuntu1~20.04.1

RHEL8
	Kernel: 5.4.0-167-generic
	Compiler: gcc 8.5.0 20210514 (Red Hat 8.5.0-20)

To view detailed results, visit:
https://lab.dpdk.org/results/dashboard/patchsets/29634/

UNH-IOL DPDK Community Lab

To manage your email subscriptions, visit: 
https://lab.dpdk.org/results/dashboard/preferences/subscriptions/