From mboxrd@z Thu Jan  1 00:00:00 1970
Return-Path: <test-report-bounces@dpdk.org>
Received: from mails.dpdk.org (mails.dpdk.org [217.70.189.124])
	by inbox.dpdk.org (Postfix) with ESMTP id 5F61E43D27
	for <public@inbox.dpdk.org>; Sat, 23 Mar 2024 01:24:34 +0100 (CET)
Received: from mails.dpdk.org (localhost [127.0.0.1])
	by mails.dpdk.org (Postfix) with ESMTP id 157E843350;
	Sat, 23 Mar 2024 01:24:34 +0100 (CET)
Received: from mail-yb1-f226.google.com (mail-yb1-f226.google.com
 [209.85.219.226])
 by mails.dpdk.org (Postfix) with ESMTP id 5DF3E4327F
 for <test-report@dpdk.org>; Sat, 23 Mar 2024 01:23:53 +0100 (CET)
Received: by mail-yb1-f226.google.com with SMTP id
 3f1490d57ef6-dc23bf7e5aaso2709646276.0
 for <test-report@dpdk.org>; Fri, 22 Mar 2024 17:23:53 -0700 (PDT)
DKIM-Signature: v=1; a=rsa-sha256; c=relaxed/relaxed;
 d=iol.unh.edu; s=unh-iol; t=1711153432; x=1711758232; darn=dpdk.org;
 h=references:in-reply-to:cc:to:from:subject:message-id:date:from:to
 :cc:subject:date:message-id:reply-to;
 bh=Q9EbfPILqQWa/jfcxfxNgCu+dxps/8GcSl++9Gurh7I=;
 b=coabXrTCvnUOe+xvC5VA+2xMe4quAniALEQ4LE3l6ab06BEaRQYSFl3QGmNOgmJolb
 EC4ObnlCiZj3bJ9WEmGj8hjNeECQqGHcHxSo5R89NMUhZpTn98Eo3/t3qxfzQ98VLHEz
 690lQaSdVcp/W+QwJxGaL1ezrsm1iQjnnpsHE=
X-Google-DKIM-Signature: v=1; a=rsa-sha256; c=relaxed/relaxed;
 d=1e100.net; s=20230601; t=1711153432; x=1711758232;
 h=references:in-reply-to:cc:to:from:subject:message-id:date
 :x-gm-message-state:from:to:cc:subject:date:message-id:reply-to;
 bh=Q9EbfPILqQWa/jfcxfxNgCu+dxps/8GcSl++9Gurh7I=;
 b=FHfi5yGUKMra0JMCMS7qKPWu+1ISixmzHvL1E3hYMaSblgDPoBzt8Fpkd9luK+QRZc
 F5lQD6NKBIbNYNPJKjs1yEEdrA8YQvG7gMlxUG13y681B+pTIMQnfoDN1Npm/ZLJv5l5
 UF98kPmGksyb3hROBQuT77XxTDw+dYBk31w7vgOjklWFDc+MluD9xMO20ch9oaNiKR1Z
 ulUTqe/EuuSn6yb6PuacFUrthQxMPRab/b5v5AfWCBFGVKcvexIfalfNCfc/dyA0oBrC
 hZ3t9KcpvGsKHxrvCRAihve+hYVOvpVupNmhyZMNlMMap5E9Maojb/HvCiG2N1rPvEnW
 qsPA==
X-Gm-Message-State: AOJu0Yzick9XM8OSNzB8htvJUqJufe+L5joZUnTzvcKZ5M6KaCfPgaxH
 2lF9Dg3nJ+o+VVTiHpPZ3gJWVDXWeIFgQFFqGlKNhOfTE44P6W5m0+UNAlgM+qKD9tTexzeYP7/
 W1qC+uZj5GEIGwa1DgsUAq20nMt1x4mzJlK6zus0j4fp9SVt6lcbFjI2H
X-Google-Smtp-Source: AGHT+IFBM4uZtt3ETWKNv5J5IK9ITPvAQKOvM89pS6eAw9B28vbksrASQnnCheul8ufLq1DQgkivslitbo79
X-Received: by 2002:a25:16c3:0:b0:dd1:7a2c:95c3 with SMTP id
 186-20020a2516c3000000b00dd17a2c95c3mr893122ybw.36.1711153432771; 
 Fri, 22 Mar 2024 17:23:52 -0700 (PDT)
Received: from postal.iol.unh.edu (postal.iol.unh.edu.
 [2606:4100:3880:1234::84]) by smtp-relay.gmail.com with ESMTPS id
 q14-20020a25820e000000b00dc6e93e1e19sm15049ybk.17.2024.03.22.17.23.52
 (version=TLS1_2 cipher=ECDHE-ECDSA-AES128-GCM-SHA256 bits=128/128);
 Fri, 22 Mar 2024 17:23:52 -0700 (PDT)
X-Relaying-Domain: iol.unh.edu
Date: Fri, 22 Mar 2024 17:23:52 -0700 (PDT)
Message-ID: <65fe2118.250a0220.cc908.0c6eSMTPIN_ADDED_MISSING@mx.google.com>
Received: from [172.21.0.6] (unknown [172.18.0.240])
 by postal.iol.unh.edu (Postfix) with ESMTP id 647796052471;
 Fri, 22 Mar 2024 20:23:52 -0400 (EDT)
Subject: |SUCCESS| pw138745 [PATCH] Spelling: Fix Spelling mistake.
From: dpdklab@iol.unh.edu
To: Test Report <test-report@dpdk.org>
Cc: dpdk-test-reports@iol.unh.edu
In-Reply-To: <20240321230529.2677-1-vinh.t.tran10@gmail.com>
References: <20240321230529.2677-1-vinh.t.tran10@gmail.com>
Content-Type: text/plain
X-BeenThere: test-report@dpdk.org
X-Mailman-Version: 2.1.29
Precedence: list
List-Id: automatic DPDK test reports <test-report.dpdk.org>
List-Unsubscribe: <https://mails.dpdk.org/options/test-report>,
 <mailto:test-report-request@dpdk.org?subject=unsubscribe>
List-Archive: <http://mails.dpdk.org/archives/test-report/>
List-Post: <mailto:test-report@dpdk.org>
List-Help: <mailto:test-report-request@dpdk.org?subject=help>
List-Subscribe: <https://mails.dpdk.org/listinfo/test-report>,
 <mailto:test-report-request@dpdk.org?subject=subscribe>
Errors-To: test-report-bounces@dpdk.org

Test-Label: iol-unit-amd64-testing
Test-Status: SUCCESS
http://dpdk.org/patch/138745

_Testing PASS_

Submitter: None <vinh.t.tran10@gmail.com>
Date: Thursday, March 21 2024 23:05:29 
DPDK git baseline: Repo:dpdk
  Branch: master
  CommitID:0219d467bcb1d19b386b5bae8eecd3514ba13fdb

138745 --> testing pass

Test environment and result as below:

+---------------------+----------------+
|     Environment     | dpdk_unit_test |
+=====================+================+
| CentOS Stream 8     | PASS           |
+---------------------+----------------+
| CentOS Stream 9     | PASS           |
+---------------------+----------------+
| Debian Bullseye     | PASS           |
+---------------------+----------------+
| Debian 11 (arm)     | PASS           |
+---------------------+----------------+
| Fedora 38           | PASS           |
+---------------------+----------------+
| Fedora 37           | PASS           |
+---------------------+----------------+
| RHEL8               | PASS           |
+---------------------+----------------+
| openSUSE Leap 15    | PASS           |
+---------------------+----------------+
| Ubuntu 22.04        | PASS           |
+---------------------+----------------+
| Ubuntu 20.04        | PASS           |
+---------------------+----------------+
| Windows Server 2019 | PASS           |
+---------------------+----------------+


CentOS Stream 8
	Kernel: 5.4.0-167-generic
	Compiler: gcc 8.5.0 20210514

CentOS Stream 9
	Kernel: 5.4.0-167-generic
	Compiler: gcc 11.4.1 20230605

Debian Bullseye
	Kernel: 5.4.0-167-generic
	Compiler: gcc 10.2.1-6

Debian 11 (arm)
	Kernel: Container Host Kernel
	Compiler: gcc 10.2.1

Fedora 38
	Kernel: Depends on container host
	Compiler: gcc 13.2.1

Fedora 37
	Kernel: Depends on container host system
	Compiler: gcc 12.3.1

RHEL8
	Kernel: 5.4.0-167-generic
	Compiler: gcc 8.5.0 20210514 (Red Hat 8.5.0-20)

openSUSE Leap 15
	Kernel: 5.4.0-167-generic
	Compiler: gcc 7.5.0

Ubuntu 22.04
	Kernel: 5.4.0-167-generic
	Compiler: gcc 11.4.0

Ubuntu 20.04
	Kernel: 5.4.0-167-generic
	Compiler: gcc 9.4.0-1ubuntu1~20.04.1

Windows Server 2019
	Kernel: 10.0.17763
	Compiler: clang 14.0 and gcc 8.1.0 (MinGW)

To view detailed results, visit:
https://lab.dpdk.org/results/dashboard/patchsets/29637/

UNH-IOL DPDK Community Lab

To manage your email subscriptions, visit: 
https://lab.dpdk.org/results/dashboard/preferences/subscriptions/