From mboxrd@z Thu Jan  1 00:00:00 1970
Return-Path: <test-report-bounces@dpdk.org>
Received: from mails.dpdk.org (mails.dpdk.org [217.70.189.124])
	by inbox.dpdk.org (Postfix) with ESMTP id 08EB043D27
	for <public@inbox.dpdk.org>; Sat, 23 Mar 2024 01:24:35 +0100 (CET)
Received: from mails.dpdk.org (localhost [127.0.0.1])
	by mails.dpdk.org (Postfix) with ESMTP id 4471F432E0;
	Sat, 23 Mar 2024 01:24:34 +0100 (CET)
Received: from mail-ot1-f100.google.com (mail-ot1-f100.google.com
 [209.85.210.100])
 by mails.dpdk.org (Postfix) with ESMTP id E296E42EE2
 for <test-report@dpdk.org>; Sat, 23 Mar 2024 01:23:54 +0100 (CET)
Received: by mail-ot1-f100.google.com with SMTP id
 46e09a7af769-6e674136ba4so1585115a34.2
 for <test-report@dpdk.org>; Fri, 22 Mar 2024 17:23:54 -0700 (PDT)
DKIM-Signature: v=1; a=rsa-sha256; c=relaxed/relaxed;
 d=iol.unh.edu; s=unh-iol; t=1711153434; x=1711758234; darn=dpdk.org;
 h=references:in-reply-to:cc:to:from:subject:message-id:date:from:to
 :cc:subject:date:message-id:reply-to;
 bh=zMfUsdYa+Y9Vwr6e/0q85IYz1XCz5E1Xp4x1mvefb38=;
 b=fg/zzMANWwZWrzunx3F8BQ02WdsWgfowBA/tAd5N9JWcArnFrr3jqo6t+tUqjCLB7a
 YyvsUqlhzWxG8GfkCd0q5fO1EmdyIRdTl/qbDsaBl2fQ4ubo8H2V29X6yUZ2IqiaGbI7
 Rdf4tmM5UQVLiAW/m7fAWyncpmurtJ7z6zscM=
X-Google-DKIM-Signature: v=1; a=rsa-sha256; c=relaxed/relaxed;
 d=1e100.net; s=20230601; t=1711153434; x=1711758234;
 h=references:in-reply-to:cc:to:from:subject:message-id:date
 :x-gm-message-state:from:to:cc:subject:date:message-id:reply-to;
 bh=zMfUsdYa+Y9Vwr6e/0q85IYz1XCz5E1Xp4x1mvefb38=;
 b=o9DVVlzW/xTiN8BiA95LjK4/1vD/8CX7+3Fs7dhzJPb92nAZHPTOtDHVgz6waIdhmK
 FBC2+/Yyw3zoveGuCTb+IkdARPHqgfj+lEIaVZZBnah+dZfA33Xk3AMYVXUNCpTfmraW
 BtsvRRDlwM8IV66cDGdAf716xbPj8SlevFIy4Y+RBZHWAYqK7s1Dt4WET7C8sb9fg482
 W+bItypv+cd6X1ERpJQztiKJx3NKwYi8mXIwVFDGKXdmn7nRYVtJXAxDLNKWdZrV5kA7
 /ReiCKptwLkP11yfBeZSyb3wzwJzewuLflWY32aQmkpdAsEPLtN9/LtYi0yILC2N9FbP
 5YBQ==
X-Gm-Message-State: AOJu0YysOAsVEX44hLYTIeXz6hKd52l42wiJnwvpO2Y/jEbTGXb+VUv1
 JtAFKz2uTK9XPzsQ/PWMwagBwnIi3sZJlrPIxPsRoRpR8tG8zI5UOPpzRdwL57h8fvf0oG6iVg9
 suu4b6IMVngNEgrBp5VuQlstnh7Vox8rx6m6poXeq
X-Google-Smtp-Source: AGHT+IFJp3a2WCT39/ANVZ/TFlgRyc4EOum7NGomJK+8loYhNFb1HhAL1Ef5DmNYsezRV4KEvl/vtemMrJD9
X-Received: by 2002:a9d:69d0:0:b0:6e5:3c63:789a with SMTP id
 v16-20020a9d69d0000000b006e53c63789amr635267oto.28.1711153434283; 
 Fri, 22 Mar 2024 17:23:54 -0700 (PDT)
Received: from postal.iol.unh.edu (postal.iol.unh.edu. [132.177.123.84])
 by smtp-relay.gmail.com with ESMTPS id
 bs14-20020a05620a470e00b0078a3a36fc48sm17631qkb.9.2024.03.22.17.23.54
 (version=TLS1_2 cipher=ECDHE-ECDSA-AES128-GCM-SHA256 bits=128/128);
 Fri, 22 Mar 2024 17:23:54 -0700 (PDT)
X-Relaying-Domain: iol.unh.edu
Date: Fri, 22 Mar 2024 17:23:54 -0700 (PDT)
Message-ID: <65fe211a.050a0220.9c808.0a29SMTPIN_ADDED_MISSING@mx.google.com>
Received: from [172.21.0.8] (unknown [172.18.0.240])
 by postal.iol.unh.edu (Postfix) with ESMTP id F05136052471;
 Fri, 22 Mar 2024 20:23:53 -0400 (EDT)
Subject: |SUCCESS| pw138741 [PATCH] Spelling : Fix spelling mistake.
From: dpdklab@iol.unh.edu
To: Test Report <test-report@dpdk.org>
Cc: dpdk-test-reports@iol.unh.edu
In-Reply-To: <PH7PR20MB546848979319542BEB6BB722E8322@PH7PR20MB5468.namprd20.prod.outlook.com>
References: <PH7PR20MB546848979319542BEB6BB722E8322@PH7PR20MB5468.namprd20.prod.outlook.com>
Content-Type: text/plain
X-BeenThere: test-report@dpdk.org
X-Mailman-Version: 2.1.29
Precedence: list
List-Id: automatic DPDK test reports <test-report.dpdk.org>
List-Unsubscribe: <https://mails.dpdk.org/options/test-report>,
 <mailto:test-report-request@dpdk.org?subject=unsubscribe>
List-Archive: <http://mails.dpdk.org/archives/test-report/>
List-Post: <mailto:test-report@dpdk.org>
List-Help: <mailto:test-report-request@dpdk.org?subject=help>
List-Subscribe: <https://mails.dpdk.org/listinfo/test-report>,
 <mailto:test-report-request@dpdk.org?subject=subscribe>
Errors-To: test-report-bounces@dpdk.org

Test-Label: iol-unit-amd64-testing
Test-Status: SUCCESS
http://dpdk.org/patch/138741

_Testing PASS_

Submitter: Fidel Castro <fidelcastro.s@hotmail.com>
Date: Thursday, March 21 2024 22:35:52 
DPDK git baseline: Repo:dpdk
  Branch: master
  CommitID:0219d467bcb1d19b386b5bae8eecd3514ba13fdb

138741 --> testing pass

Test environment and result as below:

+------------------+----------------+
|   Environment    | dpdk_unit_test |
+==================+================+
| CentOS Stream 8  | PASS           |
+------------------+----------------+
| CentOS Stream 9  | PASS           |
+------------------+----------------+
| Debian Bullseye  | PASS           |
+------------------+----------------+
| Debian 11 (arm)  | PASS           |
+------------------+----------------+
| Fedora 37        | PASS           |
+------------------+----------------+
| Fedora 38        | PASS           |
+------------------+----------------+
| openSUSE Leap 15 | PASS           |
+------------------+----------------+
| RHEL8            | PASS           |
+------------------+----------------+
| Ubuntu 20.04     | PASS           |
+------------------+----------------+
| Ubuntu 22.04     | PASS           |
+------------------+----------------+


CentOS Stream 8
	Kernel: 5.4.0-167-generic
	Compiler: gcc 8.5.0 20210514

CentOS Stream 9
	Kernel: 5.4.0-167-generic
	Compiler: gcc 11.4.1 20230605

Debian Bullseye
	Kernel: 5.4.0-167-generic
	Compiler: gcc 10.2.1-6

Debian 11 (arm)
	Kernel: Container Host Kernel
	Compiler: gcc 10.2.1

Fedora 37
	Kernel: Depends on container host system
	Compiler: gcc 12.3.1

Fedora 38
	Kernel: Depends on container host
	Compiler: gcc 13.2.1

openSUSE Leap 15
	Kernel: 5.4.0-167-generic
	Compiler: gcc 7.5.0

RHEL8
	Kernel: 5.4.0-167-generic
	Compiler: gcc 8.5.0 20210514 (Red Hat 8.5.0-20)

Ubuntu 20.04
	Kernel: 5.4.0-167-generic
	Compiler: gcc 9.4.0-1ubuntu1~20.04.1

Ubuntu 22.04
	Kernel: 5.4.0-167-generic
	Compiler: gcc 11.4.0

To view detailed results, visit:
https://lab.dpdk.org/results/dashboard/patchsets/29633/

UNH-IOL DPDK Community Lab

To manage your email subscriptions, visit: 
https://lab.dpdk.org/results/dashboard/preferences/subscriptions/