From mboxrd@z Thu Jan  1 00:00:00 1970
Return-Path: <test-report-bounces@dpdk.org>
Received: from mails.dpdk.org (mails.dpdk.org [217.70.189.124])
	by inbox.dpdk.org (Postfix) with ESMTP id 31C5E43D27
	for <public@inbox.dpdk.org>; Sat, 23 Mar 2024 01:47:49 +0100 (CET)
Received: from mails.dpdk.org (localhost [127.0.0.1])
	by mails.dpdk.org (Postfix) with ESMTP id 2B1B342FC7;
	Sat, 23 Mar 2024 01:47:49 +0100 (CET)
Received: from mail-pg1-f228.google.com (mail-pg1-f228.google.com
 [209.85.215.228])
 by mails.dpdk.org (Postfix) with ESMTP id 00AF842F83
 for <test-report@dpdk.org>; Sat, 23 Mar 2024 01:46:58 +0100 (CET)
Received: by mail-pg1-f228.google.com with SMTP id
 41be03b00d2f7-5cfd95130c6so1541504a12.1
 for <test-report@dpdk.org>; Fri, 22 Mar 2024 17:46:58 -0700 (PDT)
DKIM-Signature: v=1; a=rsa-sha256; c=relaxed/relaxed;
 d=iol.unh.edu; s=unh-iol; t=1711154818; x=1711759618; darn=dpdk.org;
 h=references:in-reply-to:cc:to:from:subject:message-id:date:from:to
 :cc:subject:date:message-id:reply-to;
 bh=n8KFDLvBKZUGUNy4OUEamOt89LQsSsHaUFnG/cw5r1E=;
 b=WjTr0I5p3zFtsJoc0+Y9m9ZHImm17avJ4pxbYLsCez1s39oNWvrJoW2Jyb54W73N7N
 /Z38SkyDwqh68LiLM6iEgl5W7rKdsq4k1JyvgFMmVzS6lY+zlu5tgkH3YoCx4jOabhSc
 4qUoP/wRURfGkdYZodoTvlGaPblYEx76YRRhw=
X-Google-DKIM-Signature: v=1; a=rsa-sha256; c=relaxed/relaxed;
 d=1e100.net; s=20230601; t=1711154818; x=1711759618;
 h=references:in-reply-to:cc:to:from:subject:message-id:date
 :x-gm-message-state:from:to:cc:subject:date:message-id:reply-to;
 bh=n8KFDLvBKZUGUNy4OUEamOt89LQsSsHaUFnG/cw5r1E=;
 b=Ro4htI+MOWcBpDN6KBkbOPOjbKenFAOZBngC5mOReq5ZGnnJ6soVLnBIcqqD+u2Vj9
 qtTsV1b6HZt4JunwaYSWVHB3Icn1xh+li/IT2o7jmDiPzySiJg15pYYHU2D1DYRCGiRL
 +37gZKSKWRMkpRYNoZ21cR1HQKsKNxew7R4EvnEYG/GYTfEcdMcmCedG02JTknal2pSI
 OLygY1bOK72BBWsq8JsHKtn0e/Y1LH88+Vyb7DTtGFOYsDA29fhYXUxSbch025z6VhWi
 jkMfJdjiX/IbSrLNR0kmtj2NF66QDz8nK3zz9VNqTaHTW02w4uzCtMLh7n56zOjmUuHg
 IuOw==
X-Gm-Message-State: AOJu0Yyb6qYsj+avp34sLT4MCqWlFy7naFaH2O8G5N4pEXvjQ+Vu7iSR
 wc3sskFR8giPKG7tiWpIV6hR+58MD0P7PxoUDtqgg1puXQbVknZ+XX53OuUZXiTmkTef0gCrao9
 V1m+98fJYBgG/RJhg5paqMkkKq3f6TXcZ+w5T11eZ
X-Google-Smtp-Source: AGHT+IEU5TY6YaS0NvN7Cze/3y9GY+4G0ycaYG4JU3+YaWt3VEYMVjW/5yBb2zyBjDM3xgOiCwcKmXQBK+Mq
X-Received: by 2002:a05:6a21:a586:b0:1a3:5289:801c with SMTP id
 gd6-20020a056a21a58600b001a35289801cmr1443334pzc.5.1711154818153; 
 Fri, 22 Mar 2024 17:46:58 -0700 (PDT)
Received: from postal.iol.unh.edu (postal.iol.unh.edu. [132.177.123.84])
 by smtp-relay.gmail.com with ESMTPS id
 m12-20020a170902768c00b001e036912da1sm19450pll.86.2024.03.22.17.46.58
 (version=TLS1_2 cipher=ECDHE-ECDSA-AES128-GCM-SHA256 bits=128/128);
 Fri, 22 Mar 2024 17:46:58 -0700 (PDT)
X-Relaying-Domain: iol.unh.edu
Date: Fri, 22 Mar 2024 17:46:58 -0700 (PDT)
Message-ID: <65fe2682.170a0220.9bd6.1575SMTPIN_ADDED_MISSING@mx.google.com>
Received: from [172.21.0.7] (unknown [172.18.0.240])
 by postal.iol.unh.edu (Postfix) with ESMTP id 422516052471;
 Fri, 22 Mar 2024 20:46:57 -0400 (EDT)
Subject: |SUCCESS| pw138751 [PATCH] [v2] graph: expose node context as pointe
From: dpdklab@iol.unh.edu
To: Test Report <test-report@dpdk.org>
Cc: dpdk-test-reports@iol.unh.edu
In-Reply-To: <20240322163130.671185-2-rjarry@redhat.com>
References: <20240322163130.671185-2-rjarry@redhat.com>
Content-Type: text/plain
X-BeenThere: test-report@dpdk.org
X-Mailman-Version: 2.1.29
Precedence: list
List-Id: automatic DPDK test reports <test-report.dpdk.org>
List-Unsubscribe: <https://mails.dpdk.org/options/test-report>,
 <mailto:test-report-request@dpdk.org?subject=unsubscribe>
List-Archive: <http://mails.dpdk.org/archives/test-report/>
List-Post: <mailto:test-report@dpdk.org>
List-Help: <mailto:test-report-request@dpdk.org?subject=help>
List-Subscribe: <https://mails.dpdk.org/listinfo/test-report>,
 <mailto:test-report-request@dpdk.org?subject=subscribe>
Errors-To: test-report-bounces@dpdk.org

Test-Label: iol-abi-testing
Test-Status: SUCCESS
http://dpdk.org/patch/138751

_Testing PASS_

Submitter: Robin Jarry <rjarry@redhat.com>
Date: Friday, March 22 2024 16:31:31 
DPDK git baseline: Repo:dpdk
  Branch: master
  CommitID:0219d467bcb1d19b386b5bae8eecd3514ba13fdb

138751 --> testing pass

Test environment and result as below:

+-----------------+----------+
|   Environment   | abi_test |
+=================+==========+
| CentOS Stream 9 | PASS     |
+-----------------+----------+
| CentOS Stream 8 | PASS     |
+-----------------+----------+
| Fedora 37       | PASS     |
+-----------------+----------+
| Fedora 38       | PASS     |
+-----------------+----------+


CentOS Stream 9
	Kernel: 5.4.0-167-generic
	Compiler: gcc 11.4.1 20230605

CentOS Stream 8
	Kernel: 5.4.0-167-generic
	Compiler: gcc 8.5.0 20210514

Fedora 37
	Kernel: Depends on container host system
	Compiler: gcc 12.3.1

Fedora 38
	Kernel: Depends on container host
	Compiler: gcc 13.2.1

To view detailed results, visit:
https://lab.dpdk.org/results/dashboard/patchsets/29642/

UNH-IOL DPDK Community Lab

To manage your email subscriptions, visit: 
https://lab.dpdk.org/results/dashboard/preferences/subscriptions/