From mboxrd@z Thu Jan  1 00:00:00 1970
Return-Path: <test-report-bounces@dpdk.org>
Received: from mails.dpdk.org (mails.dpdk.org [217.70.189.124])
	by inbox.dpdk.org (Postfix) with ESMTP id 92C2B43D27
	for <public@inbox.dpdk.org>; Sat, 23 Mar 2024 01:47:49 +0100 (CET)
Received: from mails.dpdk.org (localhost [127.0.0.1])
	by mails.dpdk.org (Postfix) with ESMTP id 8BB8743334;
	Sat, 23 Mar 2024 01:47:49 +0100 (CET)
Received: from mail-io1-f100.google.com (mail-io1-f100.google.com
 [209.85.166.100])
 by mails.dpdk.org (Postfix) with ESMTP id 9E2C742F83
 for <test-report@dpdk.org>; Sat, 23 Mar 2024 01:47:33 +0100 (CET)
Received: by mail-io1-f100.google.com with SMTP id
 ca18e2360f4ac-7c7476a11e0so131550539f.3
 for <test-report@dpdk.org>; Fri, 22 Mar 2024 17:47:33 -0700 (PDT)
DKIM-Signature: v=1; a=rsa-sha256; c=relaxed/relaxed;
 d=iol.unh.edu; s=unh-iol; t=1711154853; x=1711759653; darn=dpdk.org;
 h=references:in-reply-to:cc:to:from:subject:message-id:date:from:to
 :cc:subject:date:message-id:reply-to;
 bh=54MZLm7lhS+427MrMgVPCgj36gNHjH0UQ2dHhArrzxM=;
 b=HHIwEEEJ7hxcYXl+y23vdxtwqIFzEvxY7X5ejGOKJzV+OtfBBkWQwRjiWgZZn6hXbm
 kaNCDstCb/j51+4FCWPdfcWByDEioD7DbjpWKB3wq3nnbdjzCJ/2TkFFUa2CaoKkbJzn
 zGuy5Su4RCuOfk9ivE61+iyir+1ToHoEXyD0g=
X-Google-DKIM-Signature: v=1; a=rsa-sha256; c=relaxed/relaxed;
 d=1e100.net; s=20230601; t=1711154853; x=1711759653;
 h=references:in-reply-to:cc:to:from:subject:message-id:date
 :x-gm-message-state:from:to:cc:subject:date:message-id:reply-to;
 bh=54MZLm7lhS+427MrMgVPCgj36gNHjH0UQ2dHhArrzxM=;
 b=pw7IzAhl9Rlrjgp6xkyDrnlQXQjHA5qahGwvUbFx9jLTLAqSXGVU2efy8Atp/0XZsy
 jBYM3L6ehV4GUQSBdu4BWCYlHaWfpKISokBrXi4Qqn9VHVhBSw78ndUJ37pFsO06qSgk
 oBor2U46DbGuwazq2XutCtLP9hJ0yPvF9up78OPf0oiHXd9GY7zumSy65dSIb1IVzzPh
 DnnJUVh8zRMpZCtxw2EQBpZ0m1J0oSaja5EjsXstBKhkVkCPlgSFi4So2rh/HHb1T69J
 Q2vVvqhEMLCwluIqf7xQjX2oPlvf+ss/hOWFTXLXYSM8FTewrrE5NeJe8UvaEvk5Qjet
 Qzlw==
X-Gm-Message-State: AOJu0YxlsO6V4029WEsyWdUWf7yKCuQUQJcXBx+4TT+jjtfCVo3Z4d9x
 Yi5g2SMAdy+FspBoyqR/mZgd/LVwkLUelLsuwVToUxv9dNv2Hh2DxyxvrTJ/oYMIuvEierVgzqg
 839r43fJue3vpejriMGz3AurM7FrIH7CRmvdx6TyL
X-Google-Smtp-Source: AGHT+IGGj6E4aVTI2Y8lk0CW47vlXhFe4v7mZhHjGkFRdvSBLp+ReB2sfnBGa7ChiZsHWpzBAthsCfotf4uV
X-Received: by 2002:a6b:c5c6:0:b0:7cb:fdd7:8de with SMTP id
 v189-20020a6bc5c6000000b007cbfdd708demr1167976iof.0.1711154852991; 
 Fri, 22 Mar 2024 17:47:32 -0700 (PDT)
Received: from postal.iol.unh.edu (postal.iol.unh.edu. [132.177.123.84])
 by smtp-relay.gmail.com with ESMTPS id
 s20-20020a056602169400b007cc058ebae9sm115040iow.13.2024.03.22.17.47.32
 (version=TLS1_2 cipher=ECDHE-ECDSA-AES128-GCM-SHA256 bits=128/128);
 Fri, 22 Mar 2024 17:47:32 -0700 (PDT)
X-Relaying-Domain: iol.unh.edu
Date: Fri, 22 Mar 2024 17:47:32 -0700 (PDT)
Message-ID: <65fe26a4.050a0220.4c72e.56cdSMTPIN_ADDED_MISSING@mx.google.com>
Received: from [172.21.0.7] (unknown [172.18.0.240])
 by postal.iol.unh.edu (Postfix) with ESMTP id 772C06052471;
 Fri, 22 Mar 2024 20:47:32 -0400 (EDT)
Subject: |SUCCESS| pw138752-138753 [PATCH] [RFC,2/2] testpmd: Add speed lanes
From: dpdklab@iol.unh.edu
To: Test Report <test-report@dpdk.org>
Cc: dpdk-test-reports@iol.unh.edu
In-Reply-To: <20240322222543.23548-3-damodharam.ammepalli@broadcom.com>
References: <20240322222543.23548-3-damodharam.ammepalli@broadcom.com>
Content-Type: text/plain
X-BeenThere: test-report@dpdk.org
X-Mailman-Version: 2.1.29
Precedence: list
List-Id: automatic DPDK test reports <test-report.dpdk.org>
List-Unsubscribe: <https://mails.dpdk.org/options/test-report>,
 <mailto:test-report-request@dpdk.org?subject=unsubscribe>
List-Archive: <http://mails.dpdk.org/archives/test-report/>
List-Post: <mailto:test-report@dpdk.org>
List-Help: <mailto:test-report-request@dpdk.org?subject=help>
List-Subscribe: <https://mails.dpdk.org/listinfo/test-report>,
 <mailto:test-report-request@dpdk.org?subject=subscribe>
Errors-To: test-report-bounces@dpdk.org

Test-Label: iol-abi-testing
Test-Status: SUCCESS
http://dpdk.org/patch/138753

_Testing PASS_

Submitter: Damodharam Ammepalli <damodharam.ammepalli@broadcom.com>
Date: Friday, March 22 2024 22:25:43 
DPDK git baseline: Repo:dpdk
  Branch: master
  CommitID:0d7f7a7171484a12f6059f71a2e1a82c5bfaaa89

138752-138753 --> testing pass

Test environment and result as below:

+-----------------+----------+
|   Environment   | abi_test |
+=================+==========+
| CentOS Stream 9 | PASS     |
+-----------------+----------+
| CentOS Stream 8 | PASS     |
+-----------------+----------+
| Fedora 37       | PASS     |
+-----------------+----------+
| Debian 11 (arm) | PASS     |
+-----------------+----------+
| Ubuntu 22.04    | PASS     |
+-----------------+----------+
| Debian Bullseye | PASS     |
+-----------------+----------+
| RHEL8           | PASS     |
+-----------------+----------+
| Fedora 38       | PASS     |
+-----------------+----------+


CentOS Stream 9
	Kernel: 5.4.0-167-generic
	Compiler: gcc 11.4.1 20230605

CentOS Stream 8
	Kernel: 5.4.0-167-generic
	Compiler: gcc 8.5.0 20210514

Fedora 37
	Kernel: Depends on container host system
	Compiler: gcc 12.3.1

Debian 11 (arm)
	Kernel: Container Host Kernel
	Compiler: gcc 10.2.1

Ubuntu 22.04
	Kernel: 5.4.0-167-generic
	Compiler: gcc 11.4.0

Debian Bullseye
	Kernel: 5.4.0-167-generic
	Compiler: gcc 10.2.1-6

RHEL8
	Kernel: 5.4.0-167-generic
	Compiler: gcc 8.5.0 20210514 (Red Hat 8.5.0-20)

Fedora 38
	Kernel: Depends on container host
	Compiler: clang 16.0.6

To view detailed results, visit:
https://lab.dpdk.org/results/dashboard/patchsets/29643/

UNH-IOL DPDK Community Lab

To manage your email subscriptions, visit: 
https://lab.dpdk.org/results/dashboard/preferences/subscriptions/