From mboxrd@z Thu Jan  1 00:00:00 1970
Return-Path: <test-report-bounces@dpdk.org>
Received: from mails.dpdk.org (mails.dpdk.org [217.70.189.124])
	by inbox.dpdk.org (Postfix) with ESMTP id 46B4643D27
	for <public@inbox.dpdk.org>; Sat, 23 Mar 2024 01:49:03 +0100 (CET)
Received: from mails.dpdk.org (localhost [127.0.0.1])
	by mails.dpdk.org (Postfix) with ESMTP id 3CC7C42FC7;
	Sat, 23 Mar 2024 01:49:03 +0100 (CET)
Received: from mail-pl1-f226.google.com (mail-pl1-f226.google.com
 [209.85.214.226])
 by mails.dpdk.org (Postfix) with ESMTP id 2665142F83
 for <test-report@dpdk.org>; Sat, 23 Mar 2024 01:48:42 +0100 (CET)
Received: by mail-pl1-f226.google.com with SMTP id
 d9443c01a7336-1e07cd7b798so16365975ad.2
 for <test-report@dpdk.org>; Fri, 22 Mar 2024 17:48:42 -0700 (PDT)
DKIM-Signature: v=1; a=rsa-sha256; c=relaxed/relaxed;
 d=iol.unh.edu; s=unh-iol; t=1711154921; x=1711759721; darn=dpdk.org;
 h=references:in-reply-to:cc:to:from:subject:message-id:date:from:to
 :cc:subject:date:message-id:reply-to;
 bh=XIrkOtL2p8qfu/BV/vlhqfK93ya5MrI2z9bw7y0iALk=;
 b=glfA1acYCkYQFcv7EmNzezozHfstKptSIigEkq5Oji8w53us7uWKbnOnLTsP+cKxhQ
 v95il4FGPJbuxofAi3OgAL1BMEBCuTjnecRoh8gExN34ftUcG9qDo6+r7pIP+XDEc+ES
 V9RUS2aozDmZ1F/GbTrUYcvpjAsKp/CLzO78M=
X-Google-DKIM-Signature: v=1; a=rsa-sha256; c=relaxed/relaxed;
 d=1e100.net; s=20230601; t=1711154921; x=1711759721;
 h=references:in-reply-to:cc:to:from:subject:message-id:date
 :x-gm-message-state:from:to:cc:subject:date:message-id:reply-to;
 bh=XIrkOtL2p8qfu/BV/vlhqfK93ya5MrI2z9bw7y0iALk=;
 b=RGB31mHdZKtwcZK+qq7SRgKvxWqqfsX4+rIZsT1I8JOw2KOFB00iqU6SHi/dLuk2IV
 iy6vUXa4nvXJTPwfHkl4gIjBe/1SNLiRm5eLOPBMmS4jqzRkP2WVbNRA5UuWu21xbRlW
 p1yj6y+bHyTZolGUWA8oxugqIPtbXgvVHZ+GSlHgsMdAUQEfr0kSXj+RPFBoEvMfX6HI
 /xS6n3rCOzPxsU5iN8tgI5OHNJYJiJPoT02Ox2KPX2AZ6kz1OOyFLITD20VhO0CrucIs
 UTM+5v2mN9sLzyFjTfxa1XRhv4Hrpr8ky+/kFNSnXkzy8HdY8oHYfH6vESTfydlKrviO
 cipA==
X-Gm-Message-State: AOJu0Yxe8Q4bgksUKWGo8fKANwLn51KpOzslbeV+o5UqtQ5pAxI18Ahj
 sGkB2TtnmkrSrKplOoIM9UawziUi/wiSWmHCH3Gwu8ZZULK0vn2GpmoGKC+4anr8na/MV89hJTT
 AWre8ZQtNqsoAWgvkg9Ku9eX6ZSBq+LwcDl7ckMEpdz53bLYD/rIRF3n8
X-Google-Smtp-Source: AGHT+IG5ostuyXz4l/vYzjrdpHWxvNrKjaMiN2u3mcwpJ1+FQKzl7wLkmBE/ihLNwozip8FZRUbRlriQTus1
X-Received: by 2002:a17:902:da88:b0:1de:e473:55f1 with SMTP id
 j8-20020a170902da8800b001dee47355f1mr1625481plx.29.1711154921380; 
 Fri, 22 Mar 2024 17:48:41 -0700 (PDT)
Received: from postal.iol.unh.edu (postal.iol.unh.edu.
 [2606:4100:3880:1234::84]) by smtp-relay.gmail.com with ESMTPS id
 w7-20020a1709029a8700b001e071a0fd1asm19402plp.5.2024.03.22.17.48.41
 (version=TLS1_2 cipher=ECDHE-ECDSA-AES128-GCM-SHA256 bits=128/128);
 Fri, 22 Mar 2024 17:48:41 -0700 (PDT)
X-Relaying-Domain: iol.unh.edu
Date: Fri, 22 Mar 2024 17:48:41 -0700 (PDT)
Message-ID: <65fe26e9.170a0220.492d2.16a9SMTPIN_ADDED_MISSING@mx.google.com>
Received: from [172.21.0.7] (unknown [172.18.0.240])
 by postal.iol.unh.edu (Postfix) with ESMTP id 763D66052471;
 Fri, 22 Mar 2024 20:48:40 -0400 (EDT)
Subject: |SUCCESS| pw138751 [PATCH] [v2] graph: expose node context as pointe
From: dpdklab@iol.unh.edu
To: Test Report <test-report@dpdk.org>
Cc: dpdk-test-reports@iol.unh.edu
In-Reply-To: <20240322163130.671185-2-rjarry@redhat.com>
References: <20240322163130.671185-2-rjarry@redhat.com>
Content-Type: text/plain
X-BeenThere: test-report@dpdk.org
X-Mailman-Version: 2.1.29
Precedence: list
List-Id: automatic DPDK test reports <test-report.dpdk.org>
List-Unsubscribe: <https://mails.dpdk.org/options/test-report>,
 <mailto:test-report-request@dpdk.org?subject=unsubscribe>
List-Archive: <http://mails.dpdk.org/archives/test-report/>
List-Post: <mailto:test-report@dpdk.org>
List-Help: <mailto:test-report-request@dpdk.org?subject=help>
List-Subscribe: <https://mails.dpdk.org/listinfo/test-report>,
 <mailto:test-report-request@dpdk.org?subject=subscribe>
Errors-To: test-report-bounces@dpdk.org

Test-Label: iol-abi-testing
Test-Status: SUCCESS
http://dpdk.org/patch/138751

_Testing PASS_

Submitter: Robin Jarry <rjarry@redhat.com>
Date: Friday, March 22 2024 16:31:31 
DPDK git baseline: Repo:dpdk
  Branch: master
  CommitID:0219d467bcb1d19b386b5bae8eecd3514ba13fdb

138751 --> testing pass

Test environment and result as below:

+-----------------+----------+
|   Environment   | abi_test |
+=================+==========+
| CentOS Stream 9 | PASS     |
+-----------------+----------+
| CentOS Stream 8 | PASS     |
+-----------------+----------+
| Fedora 37       | PASS     |
+-----------------+----------+
| Fedora 38       | PASS     |
+-----------------+----------+
| Ubuntu 22.04    | PASS     |
+-----------------+----------+
| Debian Bullseye | PASS     |
+-----------------+----------+
| RHEL8           | PASS     |
+-----------------+----------+


CentOS Stream 9
	Kernel: 5.4.0-167-generic
	Compiler: gcc 11.4.1 20230605

CentOS Stream 8
	Kernel: 5.4.0-167-generic
	Compiler: gcc 8.5.0 20210514

Fedora 37
	Kernel: Depends on container host system
	Compiler: gcc 12.3.1

Fedora 38
	Kernel: Depends on container host
	Compiler: gcc 13.2.1

Ubuntu 22.04
	Kernel: 5.4.0-167-generic
	Compiler: gcc 11.4.0

Debian Bullseye
	Kernel: 5.4.0-167-generic
	Compiler: gcc 10.2.1-6

RHEL8
	Kernel: 5.4.0-167-generic
	Compiler: gcc 8.5.0 20210514 (Red Hat 8.5.0-20)

To view detailed results, visit:
https://lab.dpdk.org/results/dashboard/patchsets/29642/

UNH-IOL DPDK Community Lab

To manage your email subscriptions, visit: 
https://lab.dpdk.org/results/dashboard/preferences/subscriptions/