From mboxrd@z Thu Jan  1 00:00:00 1970
Return-Path: <test-report-bounces@dpdk.org>
Received: from mails.dpdk.org (mails.dpdk.org [217.70.189.124])
	by inbox.dpdk.org (Postfix) with ESMTP id C031D43D27
	for <public@inbox.dpdk.org>; Sat, 23 Mar 2024 01:58:54 +0100 (CET)
Received: from mails.dpdk.org (localhost [127.0.0.1])
	by mails.dpdk.org (Postfix) with ESMTP id BBB1C42F1B;
	Sat, 23 Mar 2024 01:58:54 +0100 (CET)
Received: from mail-qv1-f98.google.com (mail-qv1-f98.google.com
 [209.85.219.98]) by mails.dpdk.org (Postfix) with ESMTP id 3543B40279
 for <test-report@dpdk.org>; Sat, 23 Mar 2024 01:58:48 +0100 (CET)
Received: by mail-qv1-f98.google.com with SMTP id
 6a1803df08f44-690de619293so17711846d6.0
 for <test-report@dpdk.org>; Fri, 22 Mar 2024 17:58:48 -0700 (PDT)
DKIM-Signature: v=1; a=rsa-sha256; c=relaxed/relaxed;
 d=iol.unh.edu; s=unh-iol; t=1711155527; x=1711760327; darn=dpdk.org;
 h=references:in-reply-to:cc:to:from:subject:message-id:date:from:to
 :cc:subject:date:message-id:reply-to;
 bh=vBr/vUFP+gbs2KUs6kIBsxMO/oJfxuAxXMldZLJDRRo=;
 b=cGbrobTG5XytaABdasmgfBZJT2Q0sUL3MraA78/tCgNpn2fGv7E5LVUt5ez96jQgyY
 r8SlYO7O9rvZqm9l9eUnhM95xOFcy2/nEq2UoiPa5NTnXFfcsAEY6SmsUfbQErmwnWB6
 Na6XzIE1F4QieAuEWdCqNIejatSpHuyRND2ZM=
X-Google-DKIM-Signature: v=1; a=rsa-sha256; c=relaxed/relaxed;
 d=1e100.net; s=20230601; t=1711155527; x=1711760327;
 h=references:in-reply-to:cc:to:from:subject:message-id:date
 :x-gm-message-state:from:to:cc:subject:date:message-id:reply-to;
 bh=vBr/vUFP+gbs2KUs6kIBsxMO/oJfxuAxXMldZLJDRRo=;
 b=J9LQvC6CWnQ2d8tGuQGcgUVZEJcyB8J/xSLq5x2E6dWCIVyMN7BhNkXIghh+Cv9pqD
 o9gvnFLSevGUjywG8sn3IWLxdwSj7tlp9Ux8e7yNspJuvE8PM7VI/iSUhjLh77u0vtK5
 gZMSwAtjs2dPq9SZYX3xk1c4CORHEnVctO5pWZuXGcLXTExdmjywMyfNIU6hq1AFKxFj
 UBHdDRNgYNrsRhOZwrNFx5kD+sBqtkv1OLEB5RNOdAN6st4TB/RIQYcdMRm5Vcm+7rCg
 GocwfsLHOBOYeNUpX/29r/xkLQjo8c0CT7CHWBvqCwbNiI7/3L3b0WFjAPWyy27vocus
 zODA==
X-Gm-Message-State: AOJu0Yy0S53nIu+puyCCMRJbzKJDW/d36cBETpp5wrAG4l+PslNJfi6Q
 ggZj9sSKmKNd/We1mzhLA6Y7KN1CDMAeKQNtbGV0YQaalNbzWDklpd65WkZY2BJOfmDWu9qrVDE
 xDwGFri0B75h64I/NI8/+mc2CyK0IqQfYY4PVPzOw
X-Google-Smtp-Source: AGHT+IGoW6Iz5U4jC0WRqiW+b0f8e4RZTc4rukADY4fpR9C9y/c3k2r3zNY3cwuMWChmDV4HoIk8EmJPfvbq
X-Received: by 2002:a05:6214:20e2:b0:696:724f:81aa with SMTP id
 2-20020a05621420e200b00696724f81aamr1161463qvk.5.1711155527676; 
 Fri, 22 Mar 2024 17:58:47 -0700 (PDT)
Received: from postal.iol.unh.edu (postal.iol.unh.edu. [132.177.123.84])
 by smtp-relay.gmail.com with ESMTPS id
 z14-20020a056214040e00b0068ce579c96fsm229882qvx.54.2024.03.22.17.58.47
 (version=TLS1_2 cipher=ECDHE-ECDSA-AES128-GCM-SHA256 bits=128/128);
 Fri, 22 Mar 2024 17:58:47 -0700 (PDT)
X-Relaying-Domain: iol.unh.edu
Date: Fri, 22 Mar 2024 17:58:47 -0700 (PDT)
Message-ID: <65fe2947.050a0220.d26f2.c212SMTPIN_ADDED_MISSING@mx.google.com>
Received: from [172.21.0.6] (unknown [172.18.0.240])
 by postal.iol.unh.edu (Postfix) with ESMTP id 60EEA6052471;
 Fri, 22 Mar 2024 20:58:47 -0400 (EDT)
Subject: |SUCCESS| pw138752-138753 [PATCH] [RFC,2/2] testpmd: Add speed lanes
From: dpdklab@iol.unh.edu
To: Test Report <test-report@dpdk.org>
Cc: dpdk-test-reports@iol.unh.edu
In-Reply-To: <20240322222543.23548-3-damodharam.ammepalli@broadcom.com>
References: <20240322222543.23548-3-damodharam.ammepalli@broadcom.com>
Content-Type: text/plain
X-BeenThere: test-report@dpdk.org
X-Mailman-Version: 2.1.29
Precedence: list
List-Id: automatic DPDK test reports <test-report.dpdk.org>
List-Unsubscribe: <https://mails.dpdk.org/options/test-report>,
 <mailto:test-report-request@dpdk.org?subject=unsubscribe>
List-Archive: <http://mails.dpdk.org/archives/test-report/>
List-Post: <mailto:test-report@dpdk.org>
List-Help: <mailto:test-report-request@dpdk.org?subject=help>
List-Subscribe: <https://mails.dpdk.org/listinfo/test-report>,
 <mailto:test-report-request@dpdk.org?subject=subscribe>
Errors-To: test-report-bounces@dpdk.org

Test-Label: iol-abi-testing
Test-Status: SUCCESS
http://dpdk.org/patch/138753

_Testing PASS_

Submitter: Damodharam Ammepalli <damodharam.ammepalli@broadcom.com>
Date: Friday, March 22 2024 22:25:43 
DPDK git baseline: Repo:dpdk
  Branch: master
  CommitID:0d7f7a7171484a12f6059f71a2e1a82c5bfaaa89

138752-138753 --> testing pass

Test environment and result as below:

+------------------+----------+
|   Environment    | abi_test |
+==================+==========+
| CentOS Stream 9  | PASS     |
+------------------+----------+
| CentOS Stream 8  | PASS     |
+------------------+----------+
| Fedora 37        | PASS     |
+------------------+----------+
| Debian 11 (arm)  | PASS     |
+------------------+----------+
| Ubuntu 22.04     | PASS     |
+------------------+----------+
| Debian Bullseye  | PASS     |
+------------------+----------+
| RHEL8            | PASS     |
+------------------+----------+
| Fedora 38        | PASS     |
+------------------+----------+
| openSUSE Leap 15 | PASS     |
+------------------+----------+


CentOS Stream 9
	Kernel: 5.4.0-167-generic
	Compiler: gcc 11.4.1 20230605

CentOS Stream 8
	Kernel: 5.4.0-167-generic
	Compiler: gcc 8.5.0 20210514

Fedora 37
	Kernel: Depends on container host system
	Compiler: gcc 12.3.1

Debian 11 (arm)
	Kernel: Container Host Kernel
	Compiler: gcc 10.2.1

Ubuntu 22.04
	Kernel: 5.4.0-167-generic
	Compiler: gcc 11.4.0

Debian Bullseye
	Kernel: 5.4.0-167-generic
	Compiler: gcc 10.2.1-6

RHEL8
	Kernel: 5.4.0-167-generic
	Compiler: gcc 8.5.0 20210514 (Red Hat 8.5.0-20)

Fedora 38
	Kernel: Depends on container host
	Compiler: clang 16.0.6

openSUSE Leap 15
	Kernel: 5.4.0-167-generic
	Compiler: gcc 7.5.0

To view detailed results, visit:
https://lab.dpdk.org/results/dashboard/patchsets/29643/

UNH-IOL DPDK Community Lab

To manage your email subscriptions, visit: 
https://lab.dpdk.org/results/dashboard/preferences/subscriptions/