From mboxrd@z Thu Jan  1 00:00:00 1970
Return-Path: <test-report-bounces@dpdk.org>
Received: from mails.dpdk.org (mails.dpdk.org [217.70.189.124])
	by inbox.dpdk.org (Postfix) with ESMTP id 4A11843D28
	for <public@inbox.dpdk.org>; Sat, 23 Mar 2024 02:14:39 +0100 (CET)
Received: from mails.dpdk.org (localhost [127.0.0.1])
	by mails.dpdk.org (Postfix) with ESMTP id 25467402DC;
	Sat, 23 Mar 2024 02:14:39 +0100 (CET)
Received: from mail-qt1-f228.google.com (mail-qt1-f228.google.com
 [209.85.160.228])
 by mails.dpdk.org (Postfix) with ESMTP id 3307D40279
 for <test-report@dpdk.org>; Sat, 23 Mar 2024 02:14:37 +0100 (CET)
Received: by mail-qt1-f228.google.com with SMTP id
 d75a77b69052e-430dbcfc2afso19622341cf.0
 for <test-report@dpdk.org>; Fri, 22 Mar 2024 18:14:37 -0700 (PDT)
DKIM-Signature: v=1; a=rsa-sha256; c=relaxed/relaxed;
 d=iol.unh.edu; s=unh-iol; t=1711156476; x=1711761276; darn=dpdk.org;
 h=references:in-reply-to:cc:to:from:subject:message-id:date:from:to
 :cc:subject:date:message-id:reply-to;
 bh=Pgm6E1rUTK/ruEm3pdApqu8pJwQPr+91rt3JOm+Q0OA=;
 b=RiRDqUeUHPoIKugCOJsL/dftMiSf6h/mUzRf1FVvFyMMmehvSCEmP+MUykN/AcIlMJ
 BAdn6IDtVjJ0OIHrgvgsl4lTuxBwoWV8owGR7xktA9ClSVXMthnPgyu6EN8xjad7t8iN
 /6RXDRyZrJk+Q59ibgCWwA6gT7PXfNgCaTdb0=
X-Google-DKIM-Signature: v=1; a=rsa-sha256; c=relaxed/relaxed;
 d=1e100.net; s=20230601; t=1711156476; x=1711761276;
 h=references:in-reply-to:cc:to:from:subject:message-id:date
 :x-gm-message-state:from:to:cc:subject:date:message-id:reply-to;
 bh=Pgm6E1rUTK/ruEm3pdApqu8pJwQPr+91rt3JOm+Q0OA=;
 b=R4YMacWgBT3GKIyjqr0nYG9wTpUXN5KJha86E6iaBGuP7gK8fCjlKAtmREZdPcCjWv
 z2UbdtTiQBTTozfyz4obburxRCw+w21RLO4x9xCRiWSU/7M7fgPRrkZBLLFcOjEIMXlF
 w3EhWSopRBhr0oBK2y7sB4Ot+P8JUMsMEJ+ZNPNfs1NXfjoMzpezBWONhEPeo0kj8xne
 CVinJBbqGnQp7k8q2L+TjiteHVRnNxi/enHH29O4aOTXLY2lKhvlD1FV0/OoHiTb0XCu
 pJkzuc7H/lDHrTpmifovbkWM0WPDHwmi2QchNfLuE7znKctlgC8JJt1pgrNCrSLXXQ4z
 4RlQ==
X-Gm-Message-State: AOJu0Yw/Vj3uRp31RKlrQ1Y9J7cJHwHnhA39gLpkjNvgFbfBYIIiVA6k
 KptV2DH+2SOZHSE5Cb1TMC07AC68hrkNnCfnOJRFg9wHL1bXP2+vnYT0B8nzGtuSO0IjNZGdjK6
 bIxXkPP/M+9Pv4BztNVWtwxkhU9TYm1ydaG2o2ZqxGqWASPvkZ3GZ6fOo
X-Google-Smtp-Source: AGHT+IGHTANFsDW/MkWXJe0YcjJR8B3xnTEW1gk5k/b/tqcshF0CZE+sP0xU03Yw+fnZCJ2gO26SbKWulNEa
X-Received: by 2002:a05:622a:2b4f:b0:431:3e97:cbaa with SMTP id
 hb15-20020a05622a2b4f00b004313e97cbaamr629815qtb.7.1711156476605; 
 Fri, 22 Mar 2024 18:14:36 -0700 (PDT)
Received: from postal.iol.unh.edu (postal.iol.unh.edu.
 [2606:4100:3880:1234::84]) by smtp-relay.gmail.com with ESMTPS id
 ay3-20020a05622a228300b00430a74cbfe9sm47128qtb.19.2024.03.22.18.14.36
 (version=TLS1_2 cipher=ECDHE-ECDSA-AES128-GCM-SHA256 bits=128/128);
 Fri, 22 Mar 2024 18:14:36 -0700 (PDT)
X-Relaying-Domain: iol.unh.edu
Date: Fri, 22 Mar 2024 18:14:36 -0700 (PDT)
Message-ID: <65fe2cfc.050a0220.1cec9.3509SMTPIN_ADDED_MISSING@mx.google.com>
Received: from [172.17.0.7] (unknown [172.18.0.217])
 by postal.iol.unh.edu (Postfix) with ESMTP id 490FC6052471;
 Fri, 22 Mar 2024 21:14:36 -0400 (EDT)
Subject: |SUCCESS| pw138741 [PATCH] Spelling : Fix spelling mistake.
From: dpdklab@iol.unh.edu
To: Test Report <test-report@dpdk.org>
Cc: dpdk-test-reports@iol.unh.edu
In-Reply-To: <PH7PR20MB546848979319542BEB6BB722E8322@PH7PR20MB5468.namprd20.prod.outlook.com>
References: <PH7PR20MB546848979319542BEB6BB722E8322@PH7PR20MB5468.namprd20.prod.outlook.com>
Content-Type: text/plain
X-BeenThere: test-report@dpdk.org
X-Mailman-Version: 2.1.29
Precedence: list
List-Id: automatic DPDK test reports <test-report.dpdk.org>
List-Unsubscribe: <https://mails.dpdk.org/options/test-report>,
 <mailto:test-report-request@dpdk.org?subject=unsubscribe>
List-Archive: <http://mails.dpdk.org/archives/test-report/>
List-Post: <mailto:test-report@dpdk.org>
List-Help: <mailto:test-report-request@dpdk.org?subject=help>
List-Subscribe: <https://mails.dpdk.org/listinfo/test-report>,
 <mailto:test-report-request@dpdk.org?subject=subscribe>
Errors-To: test-report-bounces@dpdk.org

Test-Label: iol-compile-arm64-testing
Test-Status: SUCCESS
http://dpdk.org/patch/138741

_Testing PASS_

Submitter: Fidel Castro <fidelcastro.s@hotmail.com>
Date: Thursday, March 21 2024 22:35:52 
DPDK git baseline: Repo:dpdk
  Branch: master
  CommitID:0219d467bcb1d19b386b5bae8eecd3514ba13fdb

138741 --> testing pass

Test environment and result as below:

+----------------------------------------+--------------------+
|              Environment               | dpdk_meson_compile |
+========================================+====================+
| Ubuntu 20.04 ARM SVE                   | PASS               |
+----------------------------------------+--------------------+
| Debian 12 with MUSDK                   | PASS               |
+----------------------------------------+--------------------+
| Ubuntu 20.04 ARM GCC Cross Compile     | PASS               |
+----------------------------------------+--------------------+
| Ubuntu 20.04 ARM Clang Cross Compile   | PASS               |
+----------------------------------------+--------------------+
| Fedora 37 (ARM)                        | PASS               |
+----------------------------------------+--------------------+
| Ubuntu 20.04 aarch32 GCC Cross Compile | PASS               |
+----------------------------------------+--------------------+
| Fedora 38 (ARM)                        | PASS               |
+----------------------------------------+--------------------+
| Ubuntu 20.04 (ARM)                     | PASS               |
+----------------------------------------+--------------------+
| Debian 11 (Buster) (ARM)               | PASS               |
+----------------------------------------+--------------------+
| Debian 12 (arm)                        | PASS               |
+----------------------------------------+--------------------+
| CentOS Stream 9 (ARM)                  | PASS               |
+----------------------------------------+--------------------+
| Fedora 38 (ARM Clang)                  | PASS               |
+----------------------------------------+--------------------+


Ubuntu 20.04 ARM SVE
	Kernel: 5.4.0-167-generic
	Compiler: gcc (Ubuntu 10.5.0-1ubuntu1~20.04) 10.5.0

Debian 12 with MUSDK
	Kernel: Container Host Kernel
	Compiler: gcc 12.2.0

Ubuntu 20.04 ARM GCC Cross Compile
	Kernel: 5.4.0-167-generic
	Compiler: aarch64-linux-gnu-gcc (Ubuntu 9.4.0-1ubuntu1~20.04.2) 9.4.0

Ubuntu 20.04 ARM Clang Cross Compile
	Kernel: 5.4.0-72-generic
	Compiler: clang 10.0.0-4ubuntu1

Fedora 37 (ARM)
	Kernel: Depends on container host
	Compiler: gcc 12.3.1

Ubuntu 20.04 aarch32 GCC Cross Compile
	Kernel: 5.4.0-167-generic
	Compiler: gcc 9.4.0

Fedora 38 (ARM)
	Kernel: Depends on container host
	Compiler: gcc 13.2.1

Ubuntu 20.04 (ARM)
	Kernel: Container Host Kernel
	Compiler: gcc 9.4.0

Debian 11 (Buster) (ARM)
	Kernel: Container Host Kernel
	Compiler: gcc 10.2.1

Debian 12 (arm)
	Kernel: Container Host Kernel
	Compiler: gcc 12.2.0

CentOS Stream 9 (ARM)
	Kernel: Container Host Kernel
	Compiler: gcc 11.4.1

Fedora 38 (ARM Clang)
	Kernel: Depends on container host
	Compiler: clang 16.0.6

To view detailed results, visit:
https://lab.dpdk.org/results/dashboard/patchsets/29633/

UNH-IOL DPDK Community Lab

To manage your email subscriptions, visit: 
https://lab.dpdk.org/results/dashboard/preferences/subscriptions/