From mboxrd@z Thu Jan  1 00:00:00 1970
Return-Path: <test-report-bounces@dpdk.org>
Received: from mails.dpdk.org (mails.dpdk.org [217.70.189.124])
	by inbox.dpdk.org (Postfix) with ESMTP id 330CF43D28
	for <public@inbox.dpdk.org>; Sat, 23 Mar 2024 02:27:11 +0100 (CET)
Received: from mails.dpdk.org (localhost [127.0.0.1])
	by mails.dpdk.org (Postfix) with ESMTP id 2DFD34328D;
	Sat, 23 Mar 2024 02:27:11 +0100 (CET)
Received: from mail-il1-f228.google.com (mail-il1-f228.google.com
 [209.85.166.228])
 by mails.dpdk.org (Postfix) with ESMTP id A9888402D4
 for <test-report@dpdk.org>; Sat, 23 Mar 2024 02:27:09 +0100 (CET)
Received: by mail-il1-f228.google.com with SMTP id
 e9e14a558f8ab-366c26bd8cbso12018405ab.3
 for <test-report@dpdk.org>; Fri, 22 Mar 2024 18:27:09 -0700 (PDT)
DKIM-Signature: v=1; a=rsa-sha256; c=relaxed/relaxed;
 d=iol.unh.edu; s=unh-iol; t=1711157229; x=1711762029; darn=dpdk.org;
 h=references:in-reply-to:cc:to:from:subject:message-id:date:from:to
 :cc:subject:date:message-id:reply-to;
 bh=IJEle0CZGDvPORpZGB0p2SFeW8mIVTWgSwe4bX6utr4=;
 b=ecNdzbNcZbxLIfi2Gyq8CRwD/dJkcK/IBQsuHoHgiLBspThJkVTBHqbAPthKhAj6d5
 Gu2aU97wQSbFe+ljAN9CWujLgmvPorLeCDDkSB0+gXrGD3rOm14Z1u5ajMciYixMZyfD
 uTd/XQwI+G9wNt9Rb+StCh4DRiwMHlad1xnxU=
X-Google-DKIM-Signature: v=1; a=rsa-sha256; c=relaxed/relaxed;
 d=1e100.net; s=20230601; t=1711157229; x=1711762029;
 h=references:in-reply-to:cc:to:from:subject:message-id:date
 :x-gm-message-state:from:to:cc:subject:date:message-id:reply-to;
 bh=IJEle0CZGDvPORpZGB0p2SFeW8mIVTWgSwe4bX6utr4=;
 b=C155buV2uFFflT1kKLWWJGc772xNn+yTzlcoaKZ+bYYtByHCYmJVlV509f47kj8TzS
 hYQJS4qGvWHEB6O6kwNZC53tYIwdlurI5Y8Uef+90NVFRs/gRQwd+Rrg2kdhs2NPpoA9
 ek6QjZYmslpkRQTQ8jmZ/LxS8BsgWW89Uncuz1m5QmCMQaYuGIe1YHQPMEbAz1omK1PJ
 ps2wr8saoR6iBB6Znj72RgMWqQTg357OD/XP82+RpNy8AZheJwPC58ccz78H2eA/t+Fb
 KKjYLknnMSlQPp3cy7fo1Q9yRsSQg0le81y2jjbjYUpyRGhGAvcbuFRxGPhzxZbJIXqq
 umvA==
X-Gm-Message-State: AOJu0YwkpA0lRBkYvqlogOEFlYv/wLWxwMslbS5j60iYPjVnJbol56Gz
 Al1gKIuTzNLzJlUiUyDHK37MNFIi8wx09md2+O/zuLNp1KH8ppU0J0W8bGfLvn5y3OJTvO73eFT
 8EST3KyH373jmzdHuPmoXCca6+2k0SC99aEzqeN2s7o8GdP8vKn4+WmDE
X-Google-Smtp-Source: AGHT+IH7v0B38ox/da7mrF+3H7/rjDPuvRbxTtRCMjIOnr0tms4TyYpn/3MhJARDZ48I5Ou5YJdjzdL20CMj
X-Received: by 2002:a92:cf09:0:b0:368:4f1e:a4fa with SMTP id
 c9-20020a92cf09000000b003684f1ea4famr1269977ilo.7.1711157229109; 
 Fri, 22 Mar 2024 18:27:09 -0700 (PDT)
Received: from postal.iol.unh.edu (postal.iol.unh.edu.
 [2606:4100:3880:1234::84]) by smtp-relay.gmail.com with ESMTPS id
 i6-20020a056e0212c600b003654284f367sm154533ilm.8.2024.03.22.18.27.09
 (version=TLS1_2 cipher=ECDHE-ECDSA-AES128-GCM-SHA256 bits=128/128);
 Fri, 22 Mar 2024 18:27:09 -0700 (PDT)
X-Relaying-Domain: iol.unh.edu
Date: Fri, 22 Mar 2024 18:27:09 -0700 (PDT)
Message-ID: <65fe2fed.050a0220.ab6db.8d9eSMTPIN_ADDED_MISSING@mx.google.com>
Received: from [172.17.0.9] (unknown [172.18.0.217])
 by postal.iol.unh.edu (Postfix) with ESMTP id 53FB96052471;
 Fri, 22 Mar 2024 21:27:08 -0400 (EDT)
Subject: |SUCCESS| pw138743 [PATCH] Spelling: Fixed a spelling.
From: dpdklab@iol.unh.edu
To: Test Report <test-report@dpdk.org>
Cc: dpdk-test-reports@iol.unh.edu
In-Reply-To: <20240321230225.3483-1-embm29@gmail.com>
References: <20240321230225.3483-1-embm29@gmail.com>
Content-Type: text/plain
X-BeenThere: test-report@dpdk.org
X-Mailman-Version: 2.1.29
Precedence: list
List-Id: automatic DPDK test reports <test-report.dpdk.org>
List-Unsubscribe: <https://mails.dpdk.org/options/test-report>,
 <mailto:test-report-request@dpdk.org?subject=unsubscribe>
List-Archive: <http://mails.dpdk.org/archives/test-report/>
List-Post: <mailto:test-report@dpdk.org>
List-Help: <mailto:test-report-request@dpdk.org?subject=help>
List-Subscribe: <https://mails.dpdk.org/listinfo/test-report>,
 <mailto:test-report-request@dpdk.org?subject=subscribe>
Errors-To: test-report-bounces@dpdk.org

Test-Label: iol-unit-amd64-testing
Test-Status: SUCCESS
http://dpdk.org/patch/138743

_Testing PASS_

Submitter: EmiAoki <embm29@gmail.com>
Date: Thursday, March 21 2024 23:02:25 
DPDK git baseline: Repo:dpdk
  Branch: master
  CommitID:0219d467bcb1d19b386b5bae8eecd3514ba13fdb

138743 --> testing pass

Test environment and result as below:

+---------------------+----------------+
|     Environment     | dpdk_unit_test |
+=====================+================+
| CentOS Stream 8     | PASS           |
+---------------------+----------------+
| CentOS Stream 9     | PASS           |
+---------------------+----------------+
| Debian Bullseye     | PASS           |
+---------------------+----------------+
| Debian 11 (arm)     | PASS           |
+---------------------+----------------+
| Fedora 37           | PASS           |
+---------------------+----------------+
| Fedora 38           | PASS           |
+---------------------+----------------+
| Ubuntu 20.04        | PASS           |
+---------------------+----------------+
| openSUSE Leap 15    | PASS           |
+---------------------+----------------+
| Ubuntu 22.04        | PASS           |
+---------------------+----------------+
| RHEL8               | PASS           |
+---------------------+----------------+
| Windows Server 2019 | PASS           |
+---------------------+----------------+


CentOS Stream 8
	Kernel: 5.4.0-167-generic
	Compiler: gcc 8.5.0 20210514

CentOS Stream 9
	Kernel: 5.4.0-167-generic
	Compiler: gcc 11.4.1 20230605

Debian Bullseye
	Kernel: 5.4.0-167-generic
	Compiler: gcc 10.2.1-6

Debian 11 (arm)
	Kernel: Container Host Kernel
	Compiler: gcc 10.2.1

Fedora 37
	Kernel: Depends on container host system
	Compiler: gcc 12.3.1

Fedora 38
	Kernel: Depends on container host
	Compiler: gcc 13.2.1

Ubuntu 20.04
	Kernel: 5.4.0-167-generic
	Compiler: gcc 9.4.0-1ubuntu1~20.04.1

openSUSE Leap 15
	Kernel: 5.4.0-167-generic
	Compiler: gcc 7.5.0

Ubuntu 22.04
	Kernel: 5.4.0-167-generic
	Compiler: gcc 11.4.0

RHEL8
	Kernel: 5.4.0-167-generic
	Compiler: gcc 8.5.0 20210514 (Red Hat 8.5.0-20)

Windows Server 2019
	Kernel: 10.0.17763
	Compiler: clang 14.0 and gcc 8.1.0 (MinGW)

To view detailed results, visit:
https://lab.dpdk.org/results/dashboard/patchsets/29635/

UNH-IOL DPDK Community Lab

To manage your email subscriptions, visit: 
https://lab.dpdk.org/results/dashboard/preferences/subscriptions/