From mboxrd@z Thu Jan  1 00:00:00 1970
Return-Path: <test-report-bounces@dpdk.org>
Received: from mails.dpdk.org (mails.dpdk.org [217.70.189.124])
	by inbox.dpdk.org (Postfix) with ESMTP id 27A9E43D28
	for <public@inbox.dpdk.org>; Sat, 23 Mar 2024 02:37:07 +0100 (CET)
Received: from mails.dpdk.org (localhost [127.0.0.1])
	by mails.dpdk.org (Postfix) with ESMTP id 2232843350;
	Sat, 23 Mar 2024 02:37:07 +0100 (CET)
Received: from mail-ua1-f97.google.com (mail-ua1-f97.google.com
 [209.85.222.97]) by mails.dpdk.org (Postfix) with ESMTP id B2E44402D4
 for <test-report@dpdk.org>; Sat, 23 Mar 2024 02:37:02 +0100 (CET)
Received: by mail-ua1-f97.google.com with SMTP id
 a1e0cc1a2514c-7e046990b6aso1157711241.1
 for <test-report@dpdk.org>; Fri, 22 Mar 2024 18:37:02 -0700 (PDT)
DKIM-Signature: v=1; a=rsa-sha256; c=relaxed/relaxed;
 d=iol.unh.edu; s=unh-iol; t=1711157822; x=1711762622; darn=dpdk.org;
 h=references:in-reply-to:cc:to:from:subject:message-id:date:from:to
 :cc:subject:date:message-id:reply-to;
 bh=jF8OtLNK3RqZB+DMbWY9QqABEUunDl+0sORsLj/qm3M=;
 b=d1iC95dMIymGtDhxJfnE9rNs1oE9uu0yFEflBKT0LGZBtLu3xBWeYt0TiuWjyM/Adc
 WoLTmCUT5Xx47B5pmZRiJGXELy/YuyrkOFtGK82ttzsEHNuGY8uJ8ZxzWT3YdN+dg4ug
 kFj3jp9uWMGuBE02uGUB5NHg1pa9Uf8WqW7Y4=
X-Google-DKIM-Signature: v=1; a=rsa-sha256; c=relaxed/relaxed;
 d=1e100.net; s=20230601; t=1711157822; x=1711762622;
 h=references:in-reply-to:cc:to:from:subject:message-id:date
 :x-gm-message-state:from:to:cc:subject:date:message-id:reply-to;
 bh=jF8OtLNK3RqZB+DMbWY9QqABEUunDl+0sORsLj/qm3M=;
 b=wUk/iz5nNyFMVqsIWX7vmsVuAfHVrJ11zjwsjw9vHFS6t2nz70sAwM9O5+r/90LTxO
 Noh8jRb67QQjvBR0IpKhzv0/R1k7Bft1GQL+WXz2eG1/UGm74FB3xYoOxiJoHR73R3mO
 Rv7jn6SCnjXXquxPcHbWIb1BDKJSLwpZs9pICudfueTybjFmIHRBhnwgubBfw53VKynx
 G0xFFfhC0XnY2L/EoPusG9ngKtqtv5P8wDy78dNUKVOjxG7FagajVfMrIKmdvkvXBfCJ
 /zVZa7/X17Dn9ctQC/NwT5MuUWeSmzzaRoVVS44WUB6oAilbGraKUhBM08erTgeKZVoS
 x3uA==
X-Gm-Message-State: AOJu0YxBftdF7A2eZw/6tzxpapoQyvu/wi2HXX6FDWlaP3PcG6/l6SnJ
 9tfuXfS5r7cof5Xxh9kHAFiSAbZgeH7KEeqMngoLB8itTwi4C7auEct7ToXg+xedVl1C7mBKvj/
 hihsa6nzYkvjFrtsQkVkPA0/brI+dboglPZGmpEUS
X-Google-Smtp-Source: AGHT+IEB1rz0izQb1grrzt43R2bp90l0gMpbHSTkE2RcmopNI2BUdQqmWqo/HxmLZKlRhPywnLU7FEojLZnz
X-Received: by 2002:a05:6122:d21:b0:4c0:254f:75d5 with SMTP id
 az33-20020a0561220d2100b004c0254f75d5mr1587079vkb.10.1711157822093; 
 Fri, 22 Mar 2024 18:37:02 -0700 (PDT)
Received: from postal.iol.unh.edu (postal.iol.unh.edu. [132.177.123.84])
 by smtp-relay.gmail.com with ESMTPS id
 5-20020a0562140d0500b0068f451382a5sm239475qvh.8.2024.03.22.18.37.02
 (version=TLS1_2 cipher=ECDHE-ECDSA-AES128-GCM-SHA256 bits=128/128);
 Fri, 22 Mar 2024 18:37:02 -0700 (PDT)
X-Relaying-Domain: iol.unh.edu
Date: Fri, 22 Mar 2024 18:37:02 -0700 (PDT)
Message-ID: <65fe323e.050a0220.ae4c1.da50SMTPIN_ADDED_MISSING@mx.google.com>
Received: from [172.21.0.6] (unknown [172.18.0.240])
 by postal.iol.unh.edu (Postfix) with ESMTP id C3CC56052471;
 Fri, 22 Mar 2024 21:37:01 -0400 (EDT)
Subject: |SUCCESS| pw138751 [PATCH] [v2] graph: expose node context as pointe
From: dpdklab@iol.unh.edu
To: Test Report <test-report@dpdk.org>
Cc: dpdk-test-reports@iol.unh.edu
In-Reply-To: <20240322163130.671185-2-rjarry@redhat.com>
References: <20240322163130.671185-2-rjarry@redhat.com>
Content-Type: text/plain
X-BeenThere: test-report@dpdk.org
X-Mailman-Version: 2.1.29
Precedence: list
List-Id: automatic DPDK test reports <test-report.dpdk.org>
List-Unsubscribe: <https://mails.dpdk.org/options/test-report>,
 <mailto:test-report-request@dpdk.org?subject=unsubscribe>
List-Archive: <http://mails.dpdk.org/archives/test-report/>
List-Post: <mailto:test-report@dpdk.org>
List-Help: <mailto:test-report-request@dpdk.org?subject=help>
List-Subscribe: <https://mails.dpdk.org/listinfo/test-report>,
 <mailto:test-report-request@dpdk.org?subject=subscribe>
Errors-To: test-report-bounces@dpdk.org

Test-Label: iol-compile-amd64-testing
Test-Status: SUCCESS
http://dpdk.org/patch/138751

_Testing PASS_

Submitter: Robin Jarry <rjarry@redhat.com>
Date: Friday, March 22 2024 16:31:31 
DPDK git baseline: Repo:dpdk
  Branch: master
  CommitID:0219d467bcb1d19b386b5bae8eecd3514ba13fdb

138751 --> testing pass

Test environment and result as below:

+---------------------+--------------------+----------------------+-------------------+
|     Environment     | dpdk_meson_compile | dpdk_mingw64_compile | dpdk_msvc_compile |
+=====================+====================+======================+===================+
| FreeBSD 13.2        | PASS               | SKIPPED              | SKIPPED           |
+---------------------+--------------------+----------------------+-------------------+
| Windows Server 2019 | PASS               | PASS                 | SKIPPED           |
+---------------------+--------------------+----------------------+-------------------+
| Windows Server 2022 | PASS               | PASS                 | PASS              |
+---------------------+--------------------+----------------------+-------------------+
| Debian 11 (arm)     | PASS               | SKIPPED              | SKIPPED           |
+---------------------+--------------------+----------------------+-------------------+
| CentOS Stream 9     | PASS               | SKIPPED              | SKIPPED           |
+---------------------+--------------------+----------------------+-------------------+
| CentOS Stream 8     | PASS               | SKIPPED              | SKIPPED           |
+---------------------+--------------------+----------------------+-------------------+
| Debian Bullseye     | PASS               | SKIPPED              | SKIPPED           |
+---------------------+--------------------+----------------------+-------------------+
| Fedora 37           | PASS               | SKIPPED              | SKIPPED           |
+---------------------+--------------------+----------------------+-------------------+
| Fedora 38           | PASS               | SKIPPED              | SKIPPED           |
+---------------------+--------------------+----------------------+-------------------+
| openSUSE Leap 15    | PASS               | SKIPPED              | SKIPPED           |
+---------------------+--------------------+----------------------+-------------------+
| Ubuntu 20.04        | PASS               | SKIPPED              | SKIPPED           |
+---------------------+--------------------+----------------------+-------------------+
| RHEL8               | PASS               | SKIPPED              | SKIPPED           |
+---------------------+--------------------+----------------------+-------------------+
| Ubuntu 22.04        | PASS               | SKIPPED              | SKIPPED           |
+---------------------+--------------------+----------------------+-------------------+
| Alpine              | PASS               | SKIPPED              | SKIPPED           |
+---------------------+--------------------+----------------------+-------------------+


FreeBSD 13.2
	Kernel: 13.2
	Compiler: clang 14.0.5

Windows Server 2019
	Kernel: 10.0.17763
	Compiler: clang 14.0 and gcc 8.1.0 (MinGW)

Windows Server 2022
	Kernel: 10.0.20348.2031
	Compiler: clang 15.0.7, gcc 8.1.0 (MinGW), and MSVC VS 17.9

Debian 11 (arm)
	Kernel: Container Host Kernel
	Compiler: gcc 10.2.1

CentOS Stream 9
	Kernel: 5.4.0-167-generic
	Compiler: gcc 11.4.1 20230605

CentOS Stream 8
	Kernel: 5.4.0-167-generic
	Compiler: gcc 8.5.0 20210514

Debian Bullseye
	Kernel: 5.4.0-167-generic
	Compiler: gcc 10.2.1-6

Fedora 37
	Kernel: Depends on container host system
	Compiler: gcc 12.3.1

Fedora 38
	Kernel: Depends on container host
	Compiler: gcc 13.2.1

openSUSE Leap 15
	Kernel: 5.4.0-167-generic
	Compiler: gcc 7.5.0

Ubuntu 20.04
	Kernel: 5.4.0-167-generic
	Compiler: gcc 9.4.0-1ubuntu1~20.04.1

RHEL8
	Kernel: 5.4.0-167-generic
	Compiler: gcc 8.5.0 20210514 (Red Hat 8.5.0-20)

Ubuntu 22.04
	Kernel: 5.4.0-167-generic
	Compiler: gcc 11.4.0

Alpine
	Kernel: 5.4.0-167-generic
	Compiler: gcc (Alpine 12.2.1_git20220924-r10) 12.2.1 20220924

To view detailed results, visit:
https://lab.dpdk.org/results/dashboard/patchsets/29642/

UNH-IOL DPDK Community Lab

To manage your email subscriptions, visit: 
https://lab.dpdk.org/results/dashboard/preferences/subscriptions/