From mboxrd@z Thu Jan  1 00:00:00 1970
Return-Path: <test-report-bounces@dpdk.org>
Received: from mails.dpdk.org (mails.dpdk.org [217.70.189.124])
	by inbox.dpdk.org (Postfix) with ESMTP id BF83543D28
	for <public@inbox.dpdk.org>; Sat, 23 Mar 2024 02:45:56 +0100 (CET)
Received: from mails.dpdk.org (localhost [127.0.0.1])
	by mails.dpdk.org (Postfix) with ESMTP id BA51B40A76;
	Sat, 23 Mar 2024 02:45:56 +0100 (CET)
Received: from mail-ot1-f100.google.com (mail-ot1-f100.google.com
 [209.85.210.100])
 by mails.dpdk.org (Postfix) with ESMTP id 0D738402D4
 for <test-report@dpdk.org>; Sat, 23 Mar 2024 02:45:56 +0100 (CET)
Received: by mail-ot1-f100.google.com with SMTP id
 46e09a7af769-6e2c45b81d8so1110190a34.0
 for <test-report@dpdk.org>; Fri, 22 Mar 2024 18:45:55 -0700 (PDT)
DKIM-Signature: v=1; a=rsa-sha256; c=relaxed/relaxed;
 d=iol.unh.edu; s=unh-iol; t=1711158355; x=1711763155; darn=dpdk.org;
 h=references:in-reply-to:cc:to:from:subject:message-id:date:from:to
 :cc:subject:date:message-id:reply-to;
 bh=fhbe8iO4fIJcsnhQBXfiepCgCF8cCqpX8EuMhcTN5GY=;
 b=cT/4rV+NK8x1Xf1uUlKhp41eRAjX6i8MhH/6+BKincl8BRIUWwPZQyoAAampRYw4Fv
 LSNjOMMgab0ICGcU9CeorBUQMVfKCIjRIt0zc0H+ubuB2/SDzZdsThYDRRiFO20LAYs6
 EGdNMpMXIt6rsJ5ZMVQ0rr0p8pDOxJ+wJQvNg=
X-Google-DKIM-Signature: v=1; a=rsa-sha256; c=relaxed/relaxed;
 d=1e100.net; s=20230601; t=1711158355; x=1711763155;
 h=references:in-reply-to:cc:to:from:subject:message-id:date
 :x-gm-message-state:from:to:cc:subject:date:message-id:reply-to;
 bh=fhbe8iO4fIJcsnhQBXfiepCgCF8cCqpX8EuMhcTN5GY=;
 b=bDiD+Ir9ZVW1NzPK+VrVzxNamckhuiHA+YePSZaDy3D8geNdlAO5j25AWPM/1ZfptY
 JIep0xE9ya2vTlMhpR7yOLWs33W4ewRy96NXb81Wo85fRCjsp69ipGGW+y+X1hTJMj2I
 v3exzJSEdAcHEWTssnvlIQ7cpvFqZPgZSA9G3aAjyv9gIrU7kT+Fhz0ArAo2jp/kAMlc
 qEJdk8gVlTjwi8sbn2UuUbr4+XdniGKLeMFQIh2ojLiqjJ7d9tMggJNTdHlN3SL53dGl
 GuqMUDhwgk3f6QUOsBvOOkSRMljLw8SkVNSMaTMctivo2OYoV+4uiEChyv7Gg7vcaYM1
 en6w==
X-Gm-Message-State: AOJu0Yw4rh+cp+ev54/GqbmFNpJhKu5T51qkGEj9gFkFvGeOPdBKamjc
 2mXVvT4s2x7kEk+CQiylP4P7zTmE9a6YLD0lQxXI5JuHmcUSeR/2a2yj6uosjioaWxRWEICA7lT
 K7/eiN7yVdy6WtvqwCX9H5YDiyJUNK9BPMQrcC9lU
X-Google-Smtp-Source: AGHT+IG6o/eQFILDbeQzYIu926tE6vL9wsw9hz0weUwRKuxDzTyYDUMnl3vy7ehAkAj/oN52es/Hw9/1haNr
X-Received: by 2002:a05:6830:1d58:b0:6e6:9738:1d8b with SMTP id
 p24-20020a0568301d5800b006e697381d8bmr242963oth.18.1711158355466; 
 Fri, 22 Mar 2024 18:45:55 -0700 (PDT)
Received: from postal.iol.unh.edu (postal.iol.unh.edu. [132.177.123.84])
 by smtp-relay.gmail.com with ESMTPS id
 e195-20020a4a55cc000000b005a1682d683esm220028oob.22.2024.03.22.18.45.55
 (version=TLS1_2 cipher=ECDHE-ECDSA-AES128-GCM-SHA256 bits=128/128);
 Fri, 22 Mar 2024 18:45:55 -0700 (PDT)
X-Relaying-Domain: iol.unh.edu
Date: Fri, 22 Mar 2024 18:45:55 -0700 (PDT)
Message-ID: <65fe3453.4a0a0220.62bb3.c959SMTPIN_ADDED_MISSING@mx.google.com>
Received: from [172.21.0.6] (unknown [172.18.0.240])
 by postal.iol.unh.edu (Postfix) with ESMTP id EFAAF6052471;
 Fri, 22 Mar 2024 21:45:54 -0400 (EDT)
Subject: |SUCCESS| pw138751 [PATCH] [v2] graph: expose node context as pointe
From: dpdklab@iol.unh.edu
To: Test Report <test-report@dpdk.org>
Cc: dpdk-test-reports@iol.unh.edu
In-Reply-To: <20240322163130.671185-2-rjarry@redhat.com>
References: <20240322163130.671185-2-rjarry@redhat.com>
Content-Type: text/plain
X-BeenThere: test-report@dpdk.org
X-Mailman-Version: 2.1.29
Precedence: list
List-Id: automatic DPDK test reports <test-report.dpdk.org>
List-Unsubscribe: <https://mails.dpdk.org/options/test-report>,
 <mailto:test-report-request@dpdk.org?subject=unsubscribe>
List-Archive: <http://mails.dpdk.org/archives/test-report/>
List-Post: <mailto:test-report@dpdk.org>
List-Help: <mailto:test-report-request@dpdk.org?subject=help>
List-Subscribe: <https://mails.dpdk.org/listinfo/test-report>,
 <mailto:test-report-request@dpdk.org?subject=subscribe>
Errors-To: test-report-bounces@dpdk.org

Test-Label: iol-compile-arm64-testing
Test-Status: SUCCESS
http://dpdk.org/patch/138751

_Testing PASS_

Submitter: Robin Jarry <rjarry@redhat.com>
Date: Friday, March 22 2024 16:31:31 
DPDK git baseline: Repo:dpdk
  Branch: master
  CommitID:0219d467bcb1d19b386b5bae8eecd3514ba13fdb

138751 --> testing pass

Test environment and result as below:

+------------------------------------+--------------------+
|            Environment             | dpdk_meson_compile |
+====================================+====================+
| Ubuntu 20.04 ARM SVE               | PASS               |
+------------------------------------+--------------------+
| Ubuntu 20.04 ARM GCC Cross Compile | PASS               |
+------------------------------------+--------------------+
| Debian 12 with MUSDK               | PASS               |
+------------------------------------+--------------------+
| Fedora 37 (ARM)                    | PASS               |
+------------------------------------+--------------------+
| Ubuntu 20.04 (ARM)                 | PASS               |
+------------------------------------+--------------------+
| Fedora 38 (ARM)                    | PASS               |
+------------------------------------+--------------------+


Ubuntu 20.04 ARM SVE
	Kernel: 5.4.0-167-generic
	Compiler: gcc (Ubuntu 10.5.0-1ubuntu1~20.04) 10.5.0

Ubuntu 20.04 ARM GCC Cross Compile
	Kernel: 5.4.0-167-generic
	Compiler: aarch64-linux-gnu-gcc (Ubuntu 9.4.0-1ubuntu1~20.04.2) 9.4.0

Debian 12 with MUSDK
	Kernel: Container Host Kernel
	Compiler: gcc 12.2.0

Fedora 37 (ARM)
	Kernel: Depends on container host
	Compiler: gcc 12.3.1

Ubuntu 20.04 (ARM)
	Kernel: Container Host Kernel
	Compiler: gcc 9.4.0

Fedora 38 (ARM)
	Kernel: Depends on container host
	Compiler: gcc 13.2.1

To view detailed results, visit:
https://lab.dpdk.org/results/dashboard/patchsets/29642/

UNH-IOL DPDK Community Lab

To manage your email subscriptions, visit: 
https://lab.dpdk.org/results/dashboard/preferences/subscriptions/