From mboxrd@z Thu Jan  1 00:00:00 1970
Return-Path: <test-report-bounces@dpdk.org>
Received: from mails.dpdk.org (mails.dpdk.org [217.70.189.124])
	by inbox.dpdk.org (Postfix) with ESMTP id 51ECC43D28
	for <public@inbox.dpdk.org>; Sat, 23 Mar 2024 02:46:56 +0100 (CET)
Received: from mails.dpdk.org (localhost [127.0.0.1])
	by mails.dpdk.org (Postfix) with ESMTP id 1DA4343355;
	Sat, 23 Mar 2024 02:46:56 +0100 (CET)
Received: from mail-qt1-f228.google.com (mail-qt1-f228.google.com
 [209.85.160.228])
 by mails.dpdk.org (Postfix) with ESMTP id 8B1AB43358
 for <test-report@dpdk.org>; Sat, 23 Mar 2024 02:46:54 +0100 (CET)
Received: by mail-qt1-f228.google.com with SMTP id
 d75a77b69052e-42e29149883so10822451cf.2
 for <test-report@dpdk.org>; Fri, 22 Mar 2024 18:46:54 -0700 (PDT)
DKIM-Signature: v=1; a=rsa-sha256; c=relaxed/relaxed;
 d=iol.unh.edu; s=unh-iol; t=1711158414; x=1711763214; darn=dpdk.org;
 h=references:in-reply-to:cc:to:from:subject:message-id:date:from:to
 :cc:subject:date:message-id:reply-to;
 bh=rZFPimc6AB2JmATTqjFQrOf9E6hA3ezrse+/8++8iV4=;
 b=d7evi1T/h80MlFzIy4jVTEs/m6KwownfeVhpx63AYcVI8anwFVcbKAUyWulsupBv6N
 14YgN0JH1+mPdNTmx8GbRx/UwwTNIgSaRuEJqv48hTI4ruEa2Kh57mKYk+fhgskkEQMS
 mu3XXwG04fCr+PpQ2selT2Uz02/XVzLaoJbDw=
X-Google-DKIM-Signature: v=1; a=rsa-sha256; c=relaxed/relaxed;
 d=1e100.net; s=20230601; t=1711158414; x=1711763214;
 h=references:in-reply-to:cc:to:from:subject:message-id:date
 :x-gm-message-state:from:to:cc:subject:date:message-id:reply-to;
 bh=rZFPimc6AB2JmATTqjFQrOf9E6hA3ezrse+/8++8iV4=;
 b=tuzybWu12vxf/VKfWUGV9p8fmVV/aQaIU4D54f1Y+TFN+h7y5yYiwd8pRrKC4R+I+f
 LD2RPcsQcHPbT8spAKXS3sO0c/cPj6STRoGL/oVhZWxU2WSGN68qMvat73k++dQG91Qs
 lHRftVdBB4NatxKPdxZ30o7IdxxVeXtXSbebtDHgCk/RfzlQZ6VkxHU7x29BHAX+i75l
 qKoCcsaWTGZWjazTSUPunxWr6AVkkmmqLjcnZlibOr1J6oFkjEr+8OyQ7fgGoWRv58iD
 Kd2oAeHRiCishQ5p9nFtlit7e+nnHtAiCONMDZalIbGp3c8S68u/x88jViKaWW/eQLpU
 j2/Q==
X-Gm-Message-State: AOJu0YwvqFCQRCVbqgH26jl3f3gyFGh+10BkIGOITDzqMbPyKa4Y1J/X
 UKaPFKL3SYAHgY3YWE/BXZ3D6cbz5dK7aIotPgOv7TFsVPafyotxsHOL4RpggRSlqtEMzZxssp/
 jl7SsEIzKn9tvajhl+j20dFO025FzAT3eJhxmaGN3
X-Google-Smtp-Source: AGHT+IHPf/1MOB4aR75udLhZsQUU2MCiHOkw3OJtxMxMVEETXh1wgZHBrayonfSnbzBNOkqidtvRMAqwKEpj
X-Received: by 2002:ac8:5bc5:0:b0:430:a20e:270f with SMTP id
 b5-20020ac85bc5000000b00430a20e270fmr1310265qtb.40.1711158414025; 
 Fri, 22 Mar 2024 18:46:54 -0700 (PDT)
Received: from postal.iol.unh.edu (postal.iol.unh.edu. [132.177.123.84])
 by smtp-relay.gmail.com with ESMTPS id
 i12-20020a05622a08cc00b00430d8e36096sm60433qte.6.2024.03.22.18.46.53
 (version=TLS1_2 cipher=ECDHE-ECDSA-AES128-GCM-SHA256 bits=128/128);
 Fri, 22 Mar 2024 18:46:54 -0700 (PDT)
X-Relaying-Domain: iol.unh.edu
Date: Fri, 22 Mar 2024 18:46:54 -0700 (PDT)
Message-ID: <65fe348e.050a0220.439cd.3b38SMTPIN_ADDED_MISSING@mx.google.com>
Received: from [172.21.0.6] (unknown [172.18.0.240])
 by postal.iol.unh.edu (Postfix) with ESMTP id B3A1B6052471;
 Fri, 22 Mar 2024 21:46:53 -0400 (EDT)
Subject: |SUCCESS| pw138751 [PATCH] [v2] graph: expose node context as pointe
From: dpdklab@iol.unh.edu
To: Test Report <test-report@dpdk.org>
Cc: dpdk-test-reports@iol.unh.edu
In-Reply-To: <20240322163130.671185-2-rjarry@redhat.com>
References: <20240322163130.671185-2-rjarry@redhat.com>
Content-Type: text/plain
X-BeenThere: test-report@dpdk.org
X-Mailman-Version: 2.1.29
Precedence: list
List-Id: automatic DPDK test reports <test-report.dpdk.org>
List-Unsubscribe: <https://mails.dpdk.org/options/test-report>,
 <mailto:test-report-request@dpdk.org?subject=unsubscribe>
List-Archive: <http://mails.dpdk.org/archives/test-report/>
List-Post: <mailto:test-report@dpdk.org>
List-Help: <mailto:test-report-request@dpdk.org?subject=help>
List-Subscribe: <https://mails.dpdk.org/listinfo/test-report>,
 <mailto:test-report-request@dpdk.org?subject=subscribe>
Errors-To: test-report-bounces@dpdk.org

Test-Label: iol-compile-arm64-testing
Test-Status: SUCCESS
http://dpdk.org/patch/138751

_Testing PASS_

Submitter: Robin Jarry <rjarry@redhat.com>
Date: Friday, March 22 2024 16:31:31 
DPDK git baseline: Repo:dpdk
  Branch: master
  CommitID:0219d467bcb1d19b386b5bae8eecd3514ba13fdb

138751 --> testing pass

Test environment and result as below:

+------------------------------------+--------------------+
|            Environment             | dpdk_meson_compile |
+====================================+====================+
| Ubuntu 20.04 ARM SVE               | PASS               |
+------------------------------------+--------------------+
| Ubuntu 20.04 ARM GCC Cross Compile | PASS               |
+------------------------------------+--------------------+
| Debian 12 with MUSDK               | PASS               |
+------------------------------------+--------------------+
| Fedora 37 (ARM)                    | PASS               |
+------------------------------------+--------------------+
| Ubuntu 20.04 (ARM)                 | PASS               |
+------------------------------------+--------------------+
| Fedora 38 (ARM)                    | PASS               |
+------------------------------------+--------------------+
| Debian 11 (Buster) (ARM)           | PASS               |
+------------------------------------+--------------------+
| Debian 12 (arm)                    | PASS               |
+------------------------------------+--------------------+


Ubuntu 20.04 ARM SVE
	Kernel: 5.4.0-167-generic
	Compiler: gcc (Ubuntu 10.5.0-1ubuntu1~20.04) 10.5.0

Ubuntu 20.04 ARM GCC Cross Compile
	Kernel: 5.4.0-167-generic
	Compiler: aarch64-linux-gnu-gcc (Ubuntu 9.4.0-1ubuntu1~20.04.2) 9.4.0

Debian 12 with MUSDK
	Kernel: Container Host Kernel
	Compiler: gcc 12.2.0

Fedora 37 (ARM)
	Kernel: Depends on container host
	Compiler: gcc 12.3.1

Ubuntu 20.04 (ARM)
	Kernel: Container Host Kernel
	Compiler: gcc 9.4.0

Fedora 38 (ARM)
	Kernel: Depends on container host
	Compiler: gcc 13.2.1

Debian 11 (Buster) (ARM)
	Kernel: Container Host Kernel
	Compiler: gcc 10.2.1

Debian 12 (arm)
	Kernel: Container Host Kernel
	Compiler: gcc 12.2.0

To view detailed results, visit:
https://lab.dpdk.org/results/dashboard/patchsets/29642/

UNH-IOL DPDK Community Lab

To manage your email subscriptions, visit: 
https://lab.dpdk.org/results/dashboard/preferences/subscriptions/