From mboxrd@z Thu Jan  1 00:00:00 1970
Return-Path: <test-report-bounces@dpdk.org>
Received: from mails.dpdk.org (mails.dpdk.org [217.70.189.124])
	by inbox.dpdk.org (Postfix) with ESMTP id 16E5E43D28
	for <public@inbox.dpdk.org>; Sat, 23 Mar 2024 03:29:38 +0100 (CET)
Received: from mails.dpdk.org (localhost [127.0.0.1])
	by mails.dpdk.org (Postfix) with ESMTP id E3405402E4;
	Sat, 23 Mar 2024 03:29:37 +0100 (CET)
Received: from mail-il1-f225.google.com (mail-il1-f225.google.com
 [209.85.166.225])
 by mails.dpdk.org (Postfix) with ESMTP id CC27E402D4
 for <test-report@dpdk.org>; Sat, 23 Mar 2024 03:29:35 +0100 (CET)
Received: by mail-il1-f225.google.com with SMTP id
 e9e14a558f8ab-366aee15850so12994695ab.2
 for <test-report@dpdk.org>; Fri, 22 Mar 2024 19:29:35 -0700 (PDT)
DKIM-Signature: v=1; a=rsa-sha256; c=relaxed/relaxed;
 d=iol.unh.edu; s=unh-iol; t=1711160975; x=1711765775; darn=dpdk.org;
 h=references:in-reply-to:cc:to:from:subject:message-id:date:from:to
 :cc:subject:date:message-id:reply-to;
 bh=1+BkpAtnuepwZx2w11DncnwTKSBNC/UvWVBHLlSGOls=;
 b=Sdtzwnd8YM3LVSTWXcJi51PPTXi3EsZFtywla06NOrwUC80tfDmzxfQlqf5pdOo8qw
 Qs/+x3uWLwtg+KcHIXzxMoSQXxrjf/bFowctpzfhGgoZa0MfrqbbZb/NuFhQTGHWoZba
 N9iw97JGHEgsjXGiOLXNpZdw5wBjYwuCTzuuA=
X-Google-DKIM-Signature: v=1; a=rsa-sha256; c=relaxed/relaxed;
 d=1e100.net; s=20230601; t=1711160975; x=1711765775;
 h=references:in-reply-to:cc:to:from:subject:message-id:date
 :x-gm-message-state:from:to:cc:subject:date:message-id:reply-to;
 bh=1+BkpAtnuepwZx2w11DncnwTKSBNC/UvWVBHLlSGOls=;
 b=jtD23F5d7BGqJql8/YRpL+xqC0yVyUqZ26WHG2Gpw2fo3DMECpU1vSCba9dxdIQCCE
 fPfiiZ2M3MwsXQe30leNA4gCTowdQwv3HK3gS677PvNRZ/7x3G7wyYEXNITJAbYzyfI8
 1mDpzPiBO0TRjTH+RPCvjraJ0vMN81OcQ3Uy8N7QK6B9RBSP56LYfrWO3x3zbC2wPITx
 l0mfTfEK10p4HeY3guzV0TrYYz/+vDNyko1L7/lGFF4dmRZ8C4IXrWXFSPzcTV71Kspu
 iCkTEb0qpO7mP937U3e99d/49XErUUZamNyViFRPxe/GE6wO8JCkX03lg0LWMNy0T10c
 5uzQ==
X-Gm-Message-State: AOJu0YwOLAx/tOivBrYKC8r8v/BVbjqGXpedkeXKYWuiWJ9lUC3SSasy
 2WW1vYQ+pZ/gGnwx7ywiytVfvrG7TDqoQPNZHHhc+sCtGNv2vGlBsGTTzBzt6Bm0CU3MrycgWAj
 5ZnbeJrOaiNEUsnbn4wNr6uDvayjno0oFCFpYtqVFpOHYux0PweAF/mv1
X-Google-Smtp-Source: AGHT+IFtKLIpD9X9VO7RkmAhOJHDkzKpAOMTMMWUPwAkxzWxRzvG1bmJuIS1NpBSXYG32Gq/zznSqGQb+fDM
X-Received: by 2002:a92:d350:0:b0:367:82bf:f7ed with SMTP id
 a16-20020a92d350000000b0036782bff7edmr1304411ilh.29.1711160975149; 
 Fri, 22 Mar 2024 19:29:35 -0700 (PDT)
Received: from postal.iol.unh.edu (postal.iol.unh.edu.
 [2606:4100:3880:1234::84]) by smtp-relay.gmail.com with ESMTPS id
 o17-20020a92c691000000b00363db34daa6sm175200ilg.27.2024.03.22.19.29.35
 (version=TLS1_2 cipher=ECDHE-ECDSA-AES128-GCM-SHA256 bits=128/128);
 Fri, 22 Mar 2024 19:29:35 -0700 (PDT)
X-Relaying-Domain: iol.unh.edu
Date: Fri, 22 Mar 2024 19:29:35 -0700 (PDT)
Message-ID: <65fe3e8f.920a0220.1a96b.9c46SMTPIN_ADDED_MISSING@mx.google.com>
Received: from [172.17.0.7] (unknown [172.18.0.217])
 by postal.iol.unh.edu (Postfix) with ESMTP id 95A716052471;
 Fri, 22 Mar 2024 22:29:34 -0400 (EDT)
Subject: |SUCCESS| pw138752-138753 [PATCH] [RFC,2/2] testpmd: Add speed lanes
From: dpdklab@iol.unh.edu
To: Test Report <test-report@dpdk.org>
Cc: dpdk-test-reports@iol.unh.edu
In-Reply-To: <20240322222543.23548-3-damodharam.ammepalli@broadcom.com>
References: <20240322222543.23548-3-damodharam.ammepalli@broadcom.com>
Content-Type: text/plain
X-BeenThere: test-report@dpdk.org
X-Mailman-Version: 2.1.29
Precedence: list
List-Id: automatic DPDK test reports <test-report.dpdk.org>
List-Unsubscribe: <https://mails.dpdk.org/options/test-report>,
 <mailto:test-report-request@dpdk.org?subject=unsubscribe>
List-Archive: <http://mails.dpdk.org/archives/test-report/>
List-Post: <mailto:test-report@dpdk.org>
List-Help: <mailto:test-report-request@dpdk.org?subject=help>
List-Subscribe: <https://mails.dpdk.org/listinfo/test-report>,
 <mailto:test-report-request@dpdk.org?subject=subscribe>
Errors-To: test-report-bounces@dpdk.org

Test-Label: iol-compile-arm64-testing
Test-Status: SUCCESS
http://dpdk.org/patch/138753

_Testing PASS_

Submitter: Damodharam Ammepalli <damodharam.ammepalli@broadcom.com>
Date: Friday, March 22 2024 22:25:43 
DPDK git baseline: Repo:dpdk
  Branch: master
  CommitID:0d7f7a7171484a12f6059f71a2e1a82c5bfaaa89

138752-138753 --> testing pass

Test environment and result as below:

+----------------------------------------+--------------------+
|              Environment               | dpdk_meson_compile |
+========================================+====================+
| Ubuntu 20.04 ARM SVE                   | PASS               |
+----------------------------------------+--------------------+
| Debian 12 with MUSDK                   | PASS               |
+----------------------------------------+--------------------+
| Ubuntu 20.04 aarch32 GCC Cross Compile | PASS               |
+----------------------------------------+--------------------+
| Ubuntu 20.04 ARM GCC Cross Compile     | PASS               |
+----------------------------------------+--------------------+
| Ubuntu 20.04 ARM Clang Cross Compile   | PASS               |
+----------------------------------------+--------------------+
| Fedora 37 (ARM)                        | PASS               |
+----------------------------------------+--------------------+
| Ubuntu 20.04 (ARM)                     | PASS               |
+----------------------------------------+--------------------+
| Fedora 38 (ARM)                        | PASS               |
+----------------------------------------+--------------------+
| Debian 11 (Buster) (ARM)               | PASS               |
+----------------------------------------+--------------------+


Ubuntu 20.04 ARM SVE
	Kernel: 5.4.0-167-generic
	Compiler: gcc (Ubuntu 10.5.0-1ubuntu1~20.04) 10.5.0

Debian 12 with MUSDK
	Kernel: Container Host Kernel
	Compiler: gcc 12.2.0

Ubuntu 20.04 aarch32 GCC Cross Compile
	Kernel: 5.4.0-167-generic
	Compiler: gcc 9.4.0

Ubuntu 20.04 ARM GCC Cross Compile
	Kernel: 5.4.0-167-generic
	Compiler: aarch64-linux-gnu-gcc (Ubuntu 9.4.0-1ubuntu1~20.04.2) 9.4.0

Ubuntu 20.04 ARM Clang Cross Compile
	Kernel: 5.4.0-72-generic
	Compiler: clang 10.0.0-4ubuntu1

Fedora 37 (ARM)
	Kernel: Depends on container host
	Compiler: gcc 12.3.1

Ubuntu 20.04 (ARM)
	Kernel: Container Host Kernel
	Compiler: gcc 9.4.0

Fedora 38 (ARM)
	Kernel: Depends on container host
	Compiler: gcc 13.2.1

Debian 11 (Buster) (ARM)
	Kernel: Container Host Kernel
	Compiler: gcc 10.2.1

To view detailed results, visit:
https://lab.dpdk.org/results/dashboard/patchsets/29643/

UNH-IOL DPDK Community Lab

To manage your email subscriptions, visit: 
https://lab.dpdk.org/results/dashboard/preferences/subscriptions/