From mboxrd@z Thu Jan  1 00:00:00 1970
Return-Path: <test-report-bounces@dpdk.org>
Received: from mails.dpdk.org (mails.dpdk.org [217.70.189.124])
	by inbox.dpdk.org (Postfix) with ESMTP id EF1B643D00
	for <public@inbox.dpdk.org>; Sun, 24 Mar 2024 04:30:44 +0100 (CET)
Received: from mails.dpdk.org (localhost [127.0.0.1])
	by mails.dpdk.org (Postfix) with ESMTP id E5A11402AD;
	Sun, 24 Mar 2024 04:30:44 +0100 (CET)
Received: from mail-pg1-f226.google.com (mail-pg1-f226.google.com
 [209.85.215.226])
 by mails.dpdk.org (Postfix) with ESMTP id 0D390402AB
 for <test-report@dpdk.org>; Sun, 24 Mar 2024 04:30:43 +0100 (CET)
Received: by mail-pg1-f226.google.com with SMTP id
 41be03b00d2f7-5dbcfa0eb5dso2455166a12.3
 for <test-report@dpdk.org>; Sat, 23 Mar 2024 20:30:42 -0700 (PDT)
DKIM-Signature: v=1; a=rsa-sha256; c=relaxed/relaxed;
 d=iol.unh.edu; s=unh-iol; t=1711251042; x=1711855842; darn=dpdk.org;
 h=references:in-reply-to:cc:to:from:subject:message-id:date:from:to
 :cc:subject:date:message-id:reply-to;
 bh=CYpt1lRsNXAaUSJJdr4FNJO0AdIsv1j3dntPz4tjApY=;
 b=ROwZPiSccSuvmZHNk9iIlw1+W6Ts+jDohqFmvRPc9l+0SspWmpCxMC3BC+ZKdBb+y9
 wFLeMOkMLwp4mgbFrb33YMcDpdofd27pHyT/gIOMh5k9C3vXz7k/J4eA7egjQNMq4QbO
 3hzDew/idXYV8uIjDD8agLEaaLIPq73FEU70Q=
X-Google-DKIM-Signature: v=1; a=rsa-sha256; c=relaxed/relaxed;
 d=1e100.net; s=20230601; t=1711251042; x=1711855842;
 h=references:in-reply-to:cc:to:from:subject:message-id:date
 :x-gm-message-state:from:to:cc:subject:date:message-id:reply-to;
 bh=CYpt1lRsNXAaUSJJdr4FNJO0AdIsv1j3dntPz4tjApY=;
 b=XHZffKqor7SZ581sjsWYGfrFvRrTYHQeb1qaQqPJ/Bhyp3VL79720/SAGMyVcIeGZK
 UtUJv67cLJZ0D7iGtMwfrNF3N+lHsHg6HQCfqNhzysjX4Fi9OWG1UrUiwME66Vyh8dc9
 yaZ93loO622F+aTtMH7YVuRN/RZRz934QnQo2vVds2lBMzyJbs33GOHrAudIr3TS5oUg
 klEB+rTrOUuo/xTJ7Qw7scLPYIvIBw1GS6J5aiWsp9zHbaeSAZZ2ns1W6KJje4Yh/+0O
 o2Zc5lLiz70xMDAfFw1qokizG6dQH8GLf69r4W871S9h4z0pcglZxkeX96ssj7B5Hzu1
 STCA==
X-Gm-Message-State: AOJu0Yy4QPN7EXI5ImeuavuCtFkLbBsBF64/Tu29KfDdZPpDh5QBmfZT
 vcHJepp8t0GgOcluRiSZLcRLk2ydS3mDorYpGuggSt9YQeNDxlYu/L9lnxcxA/L1rRlsMMAaQVr
 UFyl6R5Ie3UUEP1r9g67Fupcwv5M1jUjy+LfJosbl
X-Google-Smtp-Source: AGHT+IH7IQFa2nMb6va9uz8/Ny+ClX2mMeWVzQLfMoyaIT7mkm3G9cB5h5f1voaaliKQ/oNpjvTCAKrcpLwi
X-Received: by 2002:a17:90a:bc01:b0:29d:9c46:a6aa with SMTP id
 w1-20020a17090abc0100b0029d9c46a6aamr2646007pjr.17.1711251042212; 
 Sat, 23 Mar 2024 20:30:42 -0700 (PDT)
Received: from postal.iol.unh.edu (postal.iol.unh.edu. [132.177.123.84])
 by smtp-relay.gmail.com with ESMTPS id
 d4-20020a17090ab30400b002a01f8059a1sm250906pjr.9.2024.03.23.20.30.42
 (version=TLS1_2 cipher=ECDHE-ECDSA-AES128-GCM-SHA256 bits=128/128);
 Sat, 23 Mar 2024 20:30:42 -0700 (PDT)
X-Relaying-Domain: iol.unh.edu
Date: Sat, 23 Mar 2024 20:30:42 -0700 (PDT)
Message-ID: <65ff9e62.170a0220.fa49b.e981SMTPIN_ADDED_MISSING@mx.google.com>
Received: from [172.21.0.6] (unknown [172.18.0.240])
 by postal.iol.unh.edu (Postfix) with ESMTP id 4D3836052471;
 Sat, 23 Mar 2024 23:30:41 -0400 (EDT)
Subject: |SUCCESS| pw138754-138762 [PATCH] [v11,9/9] log: colorize log output
From: dpdklab@iol.unh.edu
To: Test Report <test-report@dpdk.org>
Cc: dpdk-test-reports@iol.unh.edu
In-Reply-To: <20240324024109.306614-10-stephen@networkplumber.org>
References: <20240324024109.306614-10-stephen@networkplumber.org>
Content-Type: text/plain
X-BeenThere: test-report@dpdk.org
X-Mailman-Version: 2.1.29
Precedence: list
List-Id: automatic DPDK test reports <test-report.dpdk.org>
List-Unsubscribe: <https://mails.dpdk.org/options/test-report>,
 <mailto:test-report-request@dpdk.org?subject=unsubscribe>
List-Archive: <http://mails.dpdk.org/archives/test-report/>
List-Post: <mailto:test-report@dpdk.org>
List-Help: <mailto:test-report-request@dpdk.org?subject=help>
List-Subscribe: <https://mails.dpdk.org/listinfo/test-report>,
 <mailto:test-report-request@dpdk.org?subject=subscribe>
Errors-To: test-report-bounces@dpdk.org

Test-Label: iol-abi-testing
Test-Status: SUCCESS
http://dpdk.org/patch/138762

_Testing PASS_

Submitter: Stephen Hemminger <stephen@networkplumber.org>
Date: Sunday, March 24 2024 02:33:31 
DPDK git baseline: Repo:dpdk
  Branch: master
  CommitID:0219d467bcb1d19b386b5bae8eecd3514ba13fdb

138754-138762 --> testing pass

Test environment and result as below:

+-----------------+----------+
|   Environment   | abi_test |
+=================+==========+
| Fedora 37       | PASS     |
+-----------------+----------+
| Debian Bullseye | PASS     |
+-----------------+----------+
| Ubuntu 22.04    | PASS     |
+-----------------+----------+
| Fedora 38       | PASS     |
+-----------------+----------+


Fedora 37
	Kernel: Depends on container host system
	Compiler: gcc 12.3.1

Debian Bullseye
	Kernel: 5.4.0-167-generic
	Compiler: gcc 10.2.1-6

Ubuntu 22.04
	Kernel: 5.4.0-167-generic
	Compiler: gcc 11.4.0

Fedora 38
	Kernel: Depends on container host
	Compiler: gcc 13.2.1

To view detailed results, visit:
https://lab.dpdk.org/results/dashboard/patchsets/29644/

UNH-IOL DPDK Community Lab

To manage your email subscriptions, visit: 
https://lab.dpdk.org/results/dashboard/preferences/subscriptions/