From mboxrd@z Thu Jan  1 00:00:00 1970
Return-Path: <test-report-bounces@dpdk.org>
Received: from mails.dpdk.org (mails.dpdk.org [217.70.189.124])
	by inbox.dpdk.org (Postfix) with ESMTP id B2D7E43D47
	for <public@inbox.dpdk.org>; Mon, 25 Mar 2024 12:07:17 +0100 (CET)
Received: from mails.dpdk.org (localhost [127.0.0.1])
	by mails.dpdk.org (Postfix) with ESMTP id AEAC440271;
	Mon, 25 Mar 2024 12:07:17 +0100 (CET)
Received: from mail-io1-f97.google.com (mail-io1-f97.google.com
 [209.85.166.97]) by mails.dpdk.org (Postfix) with ESMTP id 5D1E340270
 for <test-report@dpdk.org>; Mon, 25 Mar 2024 12:07:10 +0100 (CET)
Received: by mail-io1-f97.google.com with SMTP id
 ca18e2360f4ac-7cde3cbf03aso191963739f.1
 for <test-report@dpdk.org>; Mon, 25 Mar 2024 04:07:10 -0700 (PDT)
DKIM-Signature: v=1; a=rsa-sha256; c=relaxed/relaxed;
 d=iol.unh.edu; s=unh-iol; t=1711364829; x=1711969629; darn=dpdk.org;
 h=references:in-reply-to:cc:to:from:subject:message-id:date:from:to
 :cc:subject:date:message-id:reply-to;
 bh=UTJtBxj9pnhkh9V9QuifQ6ogsyHAdCZjZKkEwKuxjzg=;
 b=Jnc4klgqk+N5tCBs9XJdNWZ5ogTmKSEBGbqCrzMs81/HAfd0Qa3+Eb+TnLGRae6OWe
 cuiCN1veAk7S5DKfreusz6LzEpvj9jLRVU6+g/mF01XESNgLDeuUNME3/iBkdH93KTCF
 sPBdIn1/VT4VAlpGIiJzaUn+hfpTidTbt0CJs=
X-Google-DKIM-Signature: v=1; a=rsa-sha256; c=relaxed/relaxed;
 d=1e100.net; s=20230601; t=1711364829; x=1711969629;
 h=references:in-reply-to:cc:to:from:subject:message-id:date
 :x-gm-message-state:from:to:cc:subject:date:message-id:reply-to;
 bh=UTJtBxj9pnhkh9V9QuifQ6ogsyHAdCZjZKkEwKuxjzg=;
 b=X1zRQxW6GadHH3yDCUNwjZpghbavzsF/1g3UqMt1MYpA6t9FDzi1CBRmHD6+Mtpj9q
 uLDfVPsNZ9uGVahKOKdkg0czuIsWcJR02/Fwi++ln3C/cSGu13vJ7rY1QiWobHfPgQnR
 W7vktN9DdB0tBV8VmFoKZA02ToijWAiOnAF91GUMArzWehm51Jq+JwL7JDxWgHFMBT8L
 uP454tgbE2JNkTIgaM+OLUS+eUYP+8VMAg68Dcu3eL8VdnFuY2lK5hyBSUC2dVtpeJoz
 Ch8tgxLDbpmCyMmKyo8im0jvt/piANtOKXjavlkh1p6YmTZczX+IRdHBV0aCTMqs9Yum
 wEPQ==
X-Gm-Message-State: AOJu0Yz+bgF38+6aWygBOw779bLFFKJNK+9M2UeViPchFrld0n0bPJNh
 43KolBSc75FpG65Ri8RyTdHK4NQ/LFsgpHomUnQYRg9O3/t9Ri/j+f6K2qbnWJMA+HBR+1tZfSg
 vjuL+tUFlNEOoELU5nq2iWmEPxrt1j6I8DbE/Xqj0
X-Google-Smtp-Source: AGHT+IFyeRldpTBAyzdwix804TnwQffXqYLu5Cb/mwJioboQU9/SD+ihkBQ5aNjtA9nkw6YPlw47xeo1WABx
X-Received: by 2002:a05:6602:4009:b0:7d0:3d18:1df with SMTP id
 bk9-20020a056602400900b007d03d1801dfmr8353096iob.15.1711364829765; 
 Mon, 25 Mar 2024 04:07:09 -0700 (PDT)
Received: from postal.iol.unh.edu (postal.iol.unh.edu. [132.177.123.84])
 by smtp-relay.gmail.com with ESMTPS id
 ce23-20020a05660242d700b007cc08387f36sm295609iob.2.2024.03.25.04.07.09
 (version=TLS1_2 cipher=ECDHE-ECDSA-AES128-GCM-SHA256 bits=128/128);
 Mon, 25 Mar 2024 04:07:09 -0700 (PDT)
X-Relaying-Domain: iol.unh.edu
Date: Mon, 25 Mar 2024 04:07:09 -0700 (PDT)
Message-ID: <66015add.050a0220.28869.058aSMTPIN_ADDED_MISSING@mx.google.com>
Received: from [172.17.0.8] (unknown [172.18.0.217])
 by postal.iol.unh.edu (Postfix) with ESMTP id 3D1006052471;
 Mon, 25 Mar 2024 07:07:09 -0400 (EDT)
Subject: |SUCCESS| pw138765 [PATCH] [v3] graph: expose node context as pointe
From: dpdklab@iol.unh.edu
To: Test Report <test-report@dpdk.org>
Cc: dpdk-test-reports@iol.unh.edu
In-Reply-To: <20240325100500.694748-2-rjarry@redhat.com>
References: <20240325100500.694748-2-rjarry@redhat.com>
Content-Type: text/plain
X-BeenThere: test-report@dpdk.org
X-Mailman-Version: 2.1.29
Precedence: list
List-Id: automatic DPDK test reports <test-report.dpdk.org>
List-Unsubscribe: <https://mails.dpdk.org/options/test-report>,
 <mailto:test-report-request@dpdk.org?subject=unsubscribe>
List-Archive: <http://mails.dpdk.org/archives/test-report/>
List-Post: <mailto:test-report@dpdk.org>
List-Help: <mailto:test-report-request@dpdk.org?subject=help>
List-Subscribe: <https://mails.dpdk.org/listinfo/test-report>,
 <mailto:test-report-request@dpdk.org?subject=subscribe>
Errors-To: test-report-bounces@dpdk.org

Test-Label: iol-compile-amd64-testing
Test-Status: SUCCESS
http://dpdk.org/patch/138765

_Testing PASS_

Submitter: Robin Jarry <rjarry@redhat.com>
Date: Monday, March 25 2024 10:05:01 
DPDK git baseline: Repo:dpdk
  Branch: master
  CommitID:0b82b5139fefe6eb5ec1a0b489fd193e8a99ab73

138765 --> testing pass

Test environment and result as below:

+---------------------+--------------------+----------------------+-------------------+
|     Environment     | dpdk_meson_compile | dpdk_mingw64_compile | dpdk_msvc_compile |
+=====================+====================+======================+===================+
| Windows Server 2019 | PASS               | PASS                 | SKIPPED           |
+---------------------+--------------------+----------------------+-------------------+
| FreeBSD 13.2        | PASS               | SKIPPED              | SKIPPED           |
+---------------------+--------------------+----------------------+-------------------+
| Windows Server 2022 | PASS               | PASS                 | PASS              |
+---------------------+--------------------+----------------------+-------------------+
| CentOS Stream 9     | PASS               | SKIPPED              | SKIPPED           |
+---------------------+--------------------+----------------------+-------------------+
| Debian Bullseye     | PASS               | SKIPPED              | SKIPPED           |
+---------------------+--------------------+----------------------+-------------------+
| Debian 11 (arm)     | PASS               | SKIPPED              | SKIPPED           |
+---------------------+--------------------+----------------------+-------------------+
| Fedora 37           | PASS               | SKIPPED              | SKIPPED           |
+---------------------+--------------------+----------------------+-------------------+
| Fedora 38           | PASS               | SKIPPED              | SKIPPED           |
+---------------------+--------------------+----------------------+-------------------+
| openSUSE Leap 15    | PASS               | SKIPPED              | SKIPPED           |
+---------------------+--------------------+----------------------+-------------------+
| RHEL8               | PASS               | SKIPPED              | SKIPPED           |
+---------------------+--------------------+----------------------+-------------------+
| Ubuntu 22.04        | PASS               | SKIPPED              | SKIPPED           |
+---------------------+--------------------+----------------------+-------------------+
| Ubuntu 20.04        | PASS               | SKIPPED              | SKIPPED           |
+---------------------+--------------------+----------------------+-------------------+
| Alpine              | PASS               | SKIPPED              | SKIPPED           |
+---------------------+--------------------+----------------------+-------------------+
| CentOS Stream 8     | PASS               | SKIPPED              | SKIPPED           |
+---------------------+--------------------+----------------------+-------------------+


Windows Server 2019
	Kernel: 10.0.17763
	Compiler: clang 14.0 and gcc 8.1.0 (MinGW)

FreeBSD 13.2
	Kernel: 13.2
	Compiler: clang 14.0.5

Windows Server 2022
	Kernel: 10.0.20348.2031
	Compiler: clang 15.0.7, gcc 8.1.0 (MinGW), and MSVC VS 17.9

CentOS Stream 9
	Kernel: 5.4.0-167-generic
	Compiler: gcc 11.4.1 20230605

Debian Bullseye
	Kernel: 5.4.0-167-generic
	Compiler: gcc 10.2.1-6

Debian 11 (arm)
	Kernel: Container Host Kernel
	Compiler: gcc 10.2.1

Fedora 37
	Kernel: Depends on container host system
	Compiler: gcc 12.3.1

Fedora 38
	Kernel: Depends on container host
	Compiler: gcc 13.2.1

openSUSE Leap 15
	Kernel: 5.4.0-167-generic
	Compiler: gcc 7.5.0

RHEL8
	Kernel: 5.4.0-167-generic
	Compiler: gcc 8.5.0 20210514 (Red Hat 8.5.0-20)

Ubuntu 22.04
	Kernel: 5.4.0-167-generic
	Compiler: gcc 11.4.0

Ubuntu 20.04
	Kernel: 5.4.0-167-generic
	Compiler: gcc 9.4.0-1ubuntu1~20.04.1

Alpine
	Kernel: 5.4.0-167-generic
	Compiler: gcc (Alpine 12.2.1_git20220924-r10) 12.2.1 20220924

CentOS Stream 8
	Kernel: 5.4.0-167-generic
	Compiler: gcc 8.5.0 20210514

To view detailed results, visit:
https://lab.dpdk.org/results/dashboard/patchsets/29647/

UNH-IOL DPDK Community Lab

To manage your email subscriptions, visit: 
https://lab.dpdk.org/results/dashboard/preferences/subscriptions/