From mboxrd@z Thu Jan  1 00:00:00 1970
Return-Path: <test-report-bounces@dpdk.org>
Received: from mails.dpdk.org (mails.dpdk.org [217.70.189.124])
	by inbox.dpdk.org (Postfix) with ESMTP id A620343D47
	for <public@inbox.dpdk.org>; Mon, 25 Mar 2024 12:09:10 +0100 (CET)
Received: from mails.dpdk.org (localhost [127.0.0.1])
	by mails.dpdk.org (Postfix) with ESMTP id 9ABE3406B8;
	Mon, 25 Mar 2024 12:09:10 +0100 (CET)
Received: from mail-oo1-f99.google.com (mail-oo1-f99.google.com
 [209.85.161.99]) by mails.dpdk.org (Postfix) with ESMTP id 1FFA64068A
 for <test-report@dpdk.org>; Mon, 25 Mar 2024 12:09:09 +0100 (CET)
Received: by mail-oo1-f99.google.com with SMTP id
 006d021491bc7-5a4a102145fso1855473eaf.3
 for <test-report@dpdk.org>; Mon, 25 Mar 2024 04:09:09 -0700 (PDT)
DKIM-Signature: v=1; a=rsa-sha256; c=relaxed/relaxed;
 d=iol.unh.edu; s=unh-iol; t=1711364948; x=1711969748; darn=dpdk.org;
 h=references:in-reply-to:cc:to:from:subject:message-id:date:from:to
 :cc:subject:date:message-id:reply-to;
 bh=UTJtBxj9pnhkh9V9QuifQ6ogsyHAdCZjZKkEwKuxjzg=;
 b=SX3LHx072Y6zReVPSF6bTPA+cLdVDe2AoVPc5ImtqaXo36ZsYHnAekzbuqKV6qj7KX
 T8uRtFmi93DW/1DyXePAu8Yejhn2NG/dxvNed8WRJfWsD+msa9/OLDOUsJcFlsiSDlFV
 7h16+O6qUvjvL0eglC07d+b5o39hClEQmuLx0=
X-Google-DKIM-Signature: v=1; a=rsa-sha256; c=relaxed/relaxed;
 d=1e100.net; s=20230601; t=1711364948; x=1711969748;
 h=references:in-reply-to:cc:to:from:subject:message-id:date
 :x-gm-message-state:from:to:cc:subject:date:message-id:reply-to;
 bh=UTJtBxj9pnhkh9V9QuifQ6ogsyHAdCZjZKkEwKuxjzg=;
 b=MQCJkWHYpRTahwLj6W36+cxZlVH2nKSskJeHcsifC0yUp8ZbtbwbKKtJIZyzlbR7rg
 YXgW2Msbl+67BFrW9j95Xn+H9S/UY1/NkJ3qK3GHI4l4lsSnOjnWtAq5duriTusnDb2X
 wr10IE8Ubb48iRSnVqW7RsEJ6a4i4JR4KAvU/7fwKI6i04hRdMc3qeW8egKYCpcRkyPa
 QACw8qUEuLku5aZanKoCaGOmog3MtqnDb6pIhupaE+7FEefT6xScHj33Cna5mNIZ+td5
 CK/3MErs/fvKg1J+kwoxxOstpQuHaquF6P//7mK70fgmUR4SxNi/dEgXTZX3WYOL+kam
 xDFQ==
X-Gm-Message-State: AOJu0YxJ4SSh98Pv9rSQPm7N0cIAGGz+gr5Z0G624y3GbgZ9XUPPbPkA
 +JvudmV4tNTgHDNExUGeMdyouSGVvQZeSdDMc+CKLk8oDiduAXhv+ExBNxKR5N7aK8V/pediNYj
 +YBQTEG8Y5H/19QOu/LYcMy9396+QctCpUEAqxZWy
X-Google-Smtp-Source: AGHT+IHQ8TZDFp0V/cWW/y/5+mwGKvBEr8NRfhFpE0Px3C/PsKl4lWgJA1jeCk1cSQTIWsjrtbYsBe51BIrz
X-Received: by 2002:a05:6820:1b13:b0:5a4:ae86:118f with SMTP id
 bv19-20020a0568201b1300b005a4ae86118fmr6020313oob.8.1711364948373; 
 Mon, 25 Mar 2024 04:09:08 -0700 (PDT)
Received: from postal.iol.unh.edu (postal.iol.unh.edu. [132.177.123.84])
 by smtp-relay.gmail.com with ESMTPS id
 q185-20020a4a4bc2000000b00594fdbef326sm451831ooa.8.2024.03.25.04.09.08
 (version=TLS1_2 cipher=ECDHE-ECDSA-AES128-GCM-SHA256 bits=128/128);
 Mon, 25 Mar 2024 04:09:08 -0700 (PDT)
X-Relaying-Domain: iol.unh.edu
Date: Mon, 25 Mar 2024 04:09:08 -0700 (PDT)
Message-ID: <66015b54.4a0a0220.c7dfb.9f9fSMTPIN_ADDED_MISSING@mx.google.com>
Received: from [172.17.0.7] (unknown [172.18.0.217])
 by postal.iol.unh.edu (Postfix) with ESMTP id 4434B6052471;
 Mon, 25 Mar 2024 07:09:07 -0400 (EDT)
Subject: |SUCCESS| pw138765 [PATCH] [v3] graph: expose node context as pointe
From: dpdklab@iol.unh.edu
To: Test Report <test-report@dpdk.org>
Cc: dpdk-test-reports@iol.unh.edu
In-Reply-To: <20240325100500.694748-2-rjarry@redhat.com>
References: <20240325100500.694748-2-rjarry@redhat.com>
Content-Type: text/plain
X-BeenThere: test-report@dpdk.org
X-Mailman-Version: 2.1.29
Precedence: list
List-Id: automatic DPDK test reports <test-report.dpdk.org>
List-Unsubscribe: <https://mails.dpdk.org/options/test-report>,
 <mailto:test-report-request@dpdk.org?subject=unsubscribe>
List-Archive: <http://mails.dpdk.org/archives/test-report/>
List-Post: <mailto:test-report@dpdk.org>
List-Help: <mailto:test-report-request@dpdk.org?subject=help>
List-Subscribe: <https://mails.dpdk.org/listinfo/test-report>,
 <mailto:test-report-request@dpdk.org?subject=subscribe>
Errors-To: test-report-bounces@dpdk.org

Test-Label: iol-compile-amd64-testing
Test-Status: SUCCESS
http://dpdk.org/patch/138765

_Testing PASS_

Submitter: Robin Jarry <rjarry@redhat.com>
Date: Monday, March 25 2024 10:05:01 
DPDK git baseline: Repo:dpdk
  Branch: master
  CommitID:0b82b5139fefe6eb5ec1a0b489fd193e8a99ab73

138765 --> testing pass

Test environment and result as below:

+---------------------+--------------------+----------------------+-------------------+
|     Environment     | dpdk_meson_compile | dpdk_mingw64_compile | dpdk_msvc_compile |
+=====================+====================+======================+===================+
| Windows Server 2019 | PASS               | PASS                 | SKIPPED           |
+---------------------+--------------------+----------------------+-------------------+
| FreeBSD 13.2        | PASS               | SKIPPED              | SKIPPED           |
+---------------------+--------------------+----------------------+-------------------+
| Windows Server 2022 | PASS               | PASS                 | PASS              |
+---------------------+--------------------+----------------------+-------------------+
| CentOS Stream 9     | PASS               | SKIPPED              | SKIPPED           |
+---------------------+--------------------+----------------------+-------------------+
| Debian Bullseye     | PASS               | SKIPPED              | SKIPPED           |
+---------------------+--------------------+----------------------+-------------------+
| Debian 11 (arm)     | PASS               | SKIPPED              | SKIPPED           |
+---------------------+--------------------+----------------------+-------------------+
| Fedora 37           | PASS               | SKIPPED              | SKIPPED           |
+---------------------+--------------------+----------------------+-------------------+
| Fedora 38           | PASS               | SKIPPED              | SKIPPED           |
+---------------------+--------------------+----------------------+-------------------+
| openSUSE Leap 15    | PASS               | SKIPPED              | SKIPPED           |
+---------------------+--------------------+----------------------+-------------------+
| RHEL8               | PASS               | SKIPPED              | SKIPPED           |
+---------------------+--------------------+----------------------+-------------------+
| Ubuntu 22.04        | PASS               | SKIPPED              | SKIPPED           |
+---------------------+--------------------+----------------------+-------------------+
| Ubuntu 20.04        | PASS               | SKIPPED              | SKIPPED           |
+---------------------+--------------------+----------------------+-------------------+
| Alpine              | PASS               | SKIPPED              | SKIPPED           |
+---------------------+--------------------+----------------------+-------------------+
| CentOS Stream 8     | PASS               | SKIPPED              | SKIPPED           |
+---------------------+--------------------+----------------------+-------------------+


Windows Server 2019
	Kernel: 10.0.17763
	Compiler: clang 14.0 and gcc 8.1.0 (MinGW)

FreeBSD 13.2
	Kernel: 13.2
	Compiler: clang 14.0.5

Windows Server 2022
	Kernel: 10.0.20348.2031
	Compiler: clang 15.0.7, gcc 8.1.0 (MinGW), and MSVC VS 17.9

CentOS Stream 9
	Kernel: 5.4.0-167-generic
	Compiler: gcc 11.4.1 20230605

Debian Bullseye
	Kernel: 5.4.0-167-generic
	Compiler: gcc 10.2.1-6

Debian 11 (arm)
	Kernel: Container Host Kernel
	Compiler: gcc 10.2.1

Fedora 37
	Kernel: Depends on container host system
	Compiler: gcc 12.3.1

Fedora 38
	Kernel: Depends on container host
	Compiler: gcc 13.2.1

openSUSE Leap 15
	Kernel: 5.4.0-167-generic
	Compiler: gcc 7.5.0

RHEL8
	Kernel: 5.4.0-167-generic
	Compiler: gcc 8.5.0 20210514 (Red Hat 8.5.0-20)

Ubuntu 22.04
	Kernel: 5.4.0-167-generic
	Compiler: gcc 11.4.0

Ubuntu 20.04
	Kernel: 5.4.0-167-generic
	Compiler: gcc 9.4.0-1ubuntu1~20.04.1

Alpine
	Kernel: 5.4.0-167-generic
	Compiler: gcc (Alpine 12.2.1_git20220924-r10) 12.2.1 20220924

CentOS Stream 8
	Kernel: 5.4.0-167-generic
	Compiler: gcc 8.5.0 20210514

To view detailed results, visit:
https://lab.dpdk.org/results/dashboard/patchsets/29647/

UNH-IOL DPDK Community Lab

To manage your email subscriptions, visit: 
https://lab.dpdk.org/results/dashboard/preferences/subscriptions/