From mboxrd@z Thu Jan  1 00:00:00 1970
Return-Path: <test-report-bounces@dpdk.org>
Received: from mails.dpdk.org (mails.dpdk.org [217.70.189.124])
	by inbox.dpdk.org (Postfix) with ESMTP id A8E0E43D47
	for <public@inbox.dpdk.org>; Mon, 25 Mar 2024 12:17:05 +0100 (CET)
Received: from mails.dpdk.org (localhost [127.0.0.1])
	by mails.dpdk.org (Postfix) with ESMTP id A2E1240271;
	Mon, 25 Mar 2024 12:17:05 +0100 (CET)
Received: from mail-pj1-f98.google.com (mail-pj1-f98.google.com
 [209.85.216.98]) by mails.dpdk.org (Postfix) with ESMTP id 6EACC40270
 for <test-report@dpdk.org>; Mon, 25 Mar 2024 12:16:39 +0100 (CET)
Received: by mail-pj1-f98.google.com with SMTP id
 98e67ed59e1d1-29deb7e2f7aso3003036a91.1
 for <test-report@dpdk.org>; Mon, 25 Mar 2024 04:16:39 -0700 (PDT)
DKIM-Signature: v=1; a=rsa-sha256; c=relaxed/relaxed;
 d=iol.unh.edu; s=unh-iol; t=1711365398; x=1711970198; darn=dpdk.org;
 h=references:in-reply-to:cc:to:from:subject:message-id:date:from:to
 :cc:subject:date:message-id:reply-to;
 bh=UTJtBxj9pnhkh9V9QuifQ6ogsyHAdCZjZKkEwKuxjzg=;
 b=LNkhx/qxVnZQsT83BllJxH4Ztp6F6ceBuIzeb884whu6yvfawWa7iTX1CZnNvydMM/
 FjLHetrxo8LrfquthI7MOQRxOGsZmXfRHG8Yv2cbnlEvuAOOhFaOvnsKymzrIENJlIc9
 w7czpn98Lz8Ix4K3r71+rVitzCIa/fj8DN6Rc=
X-Google-DKIM-Signature: v=1; a=rsa-sha256; c=relaxed/relaxed;
 d=1e100.net; s=20230601; t=1711365398; x=1711970198;
 h=references:in-reply-to:cc:to:from:subject:message-id:date
 :x-gm-message-state:from:to:cc:subject:date:message-id:reply-to;
 bh=UTJtBxj9pnhkh9V9QuifQ6ogsyHAdCZjZKkEwKuxjzg=;
 b=IuE6f+WPSTKe0UMHqd6Qdsh48DvLewYU+WMYHhODo5KFgFk59TWVJV/V1N7wNlUMOv
 dCqqWFoOFufYuOGcH3zc/B8GRU1RW6C3gBIP4SWQ0rh2b7Yqcsq9RMFOVruAQBROzWhS
 8WiZTYq5Cd2UfD6nxUzqIgxr2f06vhAplW7a2ycnbjF1PCpdjPnra7OZ6SqhINoWq6J3
 6x0Hu/0KzD92tQaas1uuvQ13iUxxsx2oq9ZJsPRwRmDXKSeaNaNodICTcWcldzu4L6gE
 DZwKw2e100R0jxYfpFv9SV5MWYRWQxpZ0+cAAIruXgx4slAsN9ILqrXQa1/JXgROhr7K
 AyXA==
X-Gm-Message-State: AOJu0YwkkunOpX9pxToXMoM3LSKhzueRjRp3YabN4dMnFayUVTbG097d
 n1GkSjBENn7B3vxPUIQMCEkCQffZqTdxOzHDQEqNmuMQFqupIDUS31phAEf/jGk6FAtk/Gsz0AB
 gCJrs3HWW5ANtxNGBwrWMgdN4mi+7GvIXGdo5GLe1sfoyAYqk/YkWwIc+
X-Google-Smtp-Source: AGHT+IGVyeef3iIaNmumb+8fPOO+2VTZbxN6SQ7xOgvDpdjc6XTCz0Sxapy9uCNghRxhVPcUJtfZeBz6rFHc
X-Received: by 2002:a17:90a:dc04:b0:29d:e75b:e73a with SMTP id
 i4-20020a17090adc0400b0029de75be73amr4032002pjv.49.1711365398634; 
 Mon, 25 Mar 2024 04:16:38 -0700 (PDT)
Received: from postal.iol.unh.edu (postal.iol.unh.edu.
 [2606:4100:3880:1234::84]) by smtp-relay.gmail.com with ESMTPS id
 kx6-20020a17090b228600b0029b9f27d474sm326072pjb.8.2024.03.25.04.16.38
 (version=TLS1_2 cipher=ECDHE-ECDSA-AES128-GCM-SHA256 bits=128/128);
 Mon, 25 Mar 2024 04:16:38 -0700 (PDT)
X-Relaying-Domain: iol.unh.edu
Date: Mon, 25 Mar 2024 04:16:38 -0700 (PDT)
Message-ID: <66015d16.170a0220.1d305.4dccSMTPIN_ADDED_MISSING@mx.google.com>
Received: from [172.21.0.6] (unknown [172.18.0.240])
 by postal.iol.unh.edu (Postfix) with ESMTP id 1E3C06052471;
 Mon, 25 Mar 2024 07:16:38 -0400 (EDT)
Subject: |SUCCESS| pw138765 [PATCH] [v3] graph: expose node context as pointe
From: dpdklab@iol.unh.edu
To: Test Report <test-report@dpdk.org>
Cc: dpdk-test-reports@iol.unh.edu
In-Reply-To: <20240325100500.694748-2-rjarry@redhat.com>
References: <20240325100500.694748-2-rjarry@redhat.com>
Content-Type: text/plain
X-BeenThere: test-report@dpdk.org
X-Mailman-Version: 2.1.29
Precedence: list
List-Id: automatic DPDK test reports <test-report.dpdk.org>
List-Unsubscribe: <https://mails.dpdk.org/options/test-report>,
 <mailto:test-report-request@dpdk.org?subject=unsubscribe>
List-Archive: <http://mails.dpdk.org/archives/test-report/>
List-Post: <mailto:test-report@dpdk.org>
List-Help: <mailto:test-report-request@dpdk.org?subject=help>
List-Subscribe: <https://mails.dpdk.org/listinfo/test-report>,
 <mailto:test-report-request@dpdk.org?subject=subscribe>
Errors-To: test-report-bounces@dpdk.org

Test-Label: iol-compile-amd64-testing
Test-Status: SUCCESS
http://dpdk.org/patch/138765

_Testing PASS_

Submitter: Robin Jarry <rjarry@redhat.com>
Date: Monday, March 25 2024 10:05:01 
DPDK git baseline: Repo:dpdk
  Branch: master
  CommitID:0b82b5139fefe6eb5ec1a0b489fd193e8a99ab73

138765 --> testing pass

Test environment and result as below:

+---------------------+--------------------+----------------------+-------------------+
|     Environment     | dpdk_meson_compile | dpdk_mingw64_compile | dpdk_msvc_compile |
+=====================+====================+======================+===================+
| Windows Server 2019 | PASS               | PASS                 | SKIPPED           |
+---------------------+--------------------+----------------------+-------------------+
| FreeBSD 13.2        | PASS               | SKIPPED              | SKIPPED           |
+---------------------+--------------------+----------------------+-------------------+
| Windows Server 2022 | PASS               | PASS                 | PASS              |
+---------------------+--------------------+----------------------+-------------------+
| CentOS Stream 9     | PASS               | SKIPPED              | SKIPPED           |
+---------------------+--------------------+----------------------+-------------------+
| Debian Bullseye     | PASS               | SKIPPED              | SKIPPED           |
+---------------------+--------------------+----------------------+-------------------+
| Debian 11 (arm)     | PASS               | SKIPPED              | SKIPPED           |
+---------------------+--------------------+----------------------+-------------------+
| Fedora 37           | PASS               | SKIPPED              | SKIPPED           |
+---------------------+--------------------+----------------------+-------------------+
| Fedora 38           | PASS               | SKIPPED              | SKIPPED           |
+---------------------+--------------------+----------------------+-------------------+
| openSUSE Leap 15    | PASS               | SKIPPED              | SKIPPED           |
+---------------------+--------------------+----------------------+-------------------+
| RHEL8               | PASS               | SKIPPED              | SKIPPED           |
+---------------------+--------------------+----------------------+-------------------+
| Ubuntu 22.04        | PASS               | SKIPPED              | SKIPPED           |
+---------------------+--------------------+----------------------+-------------------+
| Ubuntu 20.04        | PASS               | SKIPPED              | SKIPPED           |
+---------------------+--------------------+----------------------+-------------------+
| Alpine              | PASS               | SKIPPED              | SKIPPED           |
+---------------------+--------------------+----------------------+-------------------+
| CentOS Stream 8     | PASS               | SKIPPED              | SKIPPED           |
+---------------------+--------------------+----------------------+-------------------+


Windows Server 2019
	Kernel: 10.0.17763
	Compiler: clang 14.0 and gcc 8.1.0 (MinGW)

FreeBSD 13.2
	Kernel: 13.2
	Compiler: clang 14.0.5

Windows Server 2022
	Kernel: 10.0.20348.2031
	Compiler: clang 15.0.7, gcc 8.1.0 (MinGW), and MSVC VS 17.9

CentOS Stream 9
	Kernel: 5.4.0-167-generic
	Compiler: gcc 11.4.1 20230605

Debian Bullseye
	Kernel: 5.4.0-167-generic
	Compiler: gcc 10.2.1-6

Debian 11 (arm)
	Kernel: Container Host Kernel
	Compiler: gcc 10.2.1

Fedora 37
	Kernel: Depends on container host system
	Compiler: gcc 12.3.1

Fedora 38
	Kernel: Depends on container host
	Compiler: gcc 13.2.1

openSUSE Leap 15
	Kernel: 5.4.0-167-generic
	Compiler: gcc 7.5.0

RHEL8
	Kernel: 5.4.0-167-generic
	Compiler: gcc 8.5.0 20210514 (Red Hat 8.5.0-20)

Ubuntu 22.04
	Kernel: 5.4.0-167-generic
	Compiler: gcc 11.4.0

Ubuntu 20.04
	Kernel: 5.4.0-167-generic
	Compiler: gcc 9.4.0-1ubuntu1~20.04.1

Alpine
	Kernel: 5.4.0-167-generic
	Compiler: gcc (Alpine 12.2.1_git20220924-r10) 12.2.1 20220924

CentOS Stream 8
	Kernel: 5.4.0-167-generic
	Compiler: gcc 8.5.0 20210514

To view detailed results, visit:
https://lab.dpdk.org/results/dashboard/patchsets/29647/

UNH-IOL DPDK Community Lab

To manage your email subscriptions, visit: 
https://lab.dpdk.org/results/dashboard/preferences/subscriptions/