From mboxrd@z Thu Jan  1 00:00:00 1970
Return-Path: <test-report-bounces@dpdk.org>
Received: from mails.dpdk.org (mails.dpdk.org [217.70.189.124])
	by inbox.dpdk.org (Postfix) with ESMTP id 0E80943D47
	for <public@inbox.dpdk.org>; Mon, 25 Mar 2024 12:19:21 +0100 (CET)
Received: from mails.dpdk.org (localhost [127.0.0.1])
	by mails.dpdk.org (Postfix) with ESMTP id 04E1E40A4B;
	Mon, 25 Mar 2024 12:19:21 +0100 (CET)
Received: from mail-qk1-f227.google.com (mail-qk1-f227.google.com
 [209.85.222.227])
 by mails.dpdk.org (Postfix) with ESMTP id 7E34040270
 for <test-report@dpdk.org>; Mon, 25 Mar 2024 12:18:38 +0100 (CET)
Received: by mail-qk1-f227.google.com with SMTP id
 af79cd13be357-789dbd9a6f1so328241785a.1
 for <test-report@dpdk.org>; Mon, 25 Mar 2024 04:18:38 -0700 (PDT)
DKIM-Signature: v=1; a=rsa-sha256; c=relaxed/relaxed;
 d=iol.unh.edu; s=unh-iol; t=1711365518; x=1711970318; darn=dpdk.org;
 h=references:in-reply-to:cc:to:from:subject:message-id:date:from:to
 :cc:subject:date:message-id:reply-to;
 bh=yON7b2xobCKozuh1E2aod0buU1e1NNCqikQ6e10ciuA=;
 b=FpQK5empDRtKpDd/1frMtGZjtPvySPDafleOi/ZF2cc2Nujh9cQk2pz4LUn6C51Lwz
 f52AkYOznu0+6W4pKfu8X7Ay1Y6ZDCbxFIm7KsscZY78zRJ7bzIzTVaH+oyTZpoKzpIY
 KzDWY0OpJl3d7j/7+yFifYTbz32H9VCiAFzv4=
X-Google-DKIM-Signature: v=1; a=rsa-sha256; c=relaxed/relaxed;
 d=1e100.net; s=20230601; t=1711365518; x=1711970318;
 h=references:in-reply-to:cc:to:from:subject:message-id:date
 :x-gm-message-state:from:to:cc:subject:date:message-id:reply-to;
 bh=yON7b2xobCKozuh1E2aod0buU1e1NNCqikQ6e10ciuA=;
 b=BTR9+Xajya32lYADTKm5vM+dx9Zobwq9PFHu2+NsOMVsIFO71dKYPym5xLK7qv5XDY
 /OqfBGKolFDJqH2lMTUrHCnRZqo85j7OMPkkb0Hx0BhRMB0zLVkCZnYcunSQJOYtZNYU
 +WS92fJU7M42NFHEqKZ/0EtgDc4Nqy5plpNG2UwubuIN8UObeO9gDHtdrydxeHdSp1A4
 jiDmYTPfyQmgWxjuJPppZRWXEeTZL/Yu1nQun/ea+6ycJxhF4S5QPDyRM2WgTXy3u1uz
 jts2EkqzUUzF0J0XfFaDKBPc3OxXNLzcAEwJKHoJJ037eNQTV9r3oPGh3FfKIEmyWNLz
 CWog==
X-Gm-Message-State: AOJu0Yy7/ZAjyNCuG6xpck5Nihx+yIbXLTi2cp6uGIJH9nW+Mgj9uaE7
 utawg1ecD+A/gynGq1NrxtGZ3HxtaQaGdN/3A0i17IrAGeNRWt94Hf6NFqULin80Svi3YS/NFsn
 yRY8XJz7vzMjEJWMeEAgTVaCbFBfeHAWh7Ii5och8awEDPPBOcmb0CK8W
X-Google-Smtp-Source: AGHT+IF8cGzjuoQmq7Fd/dAKZco3Qxt06k5rcV72ycsLtO2dzU9fFJ6k/3ElPFLaxCW4vZJFaiGdQk1ge6o9
X-Received: by 2002:a05:6214:d86:b0:696:755f:c0c7 with SMTP id
 e6-20020a0562140d8600b00696755fc0c7mr8747560qve.38.1711365517927; 
 Mon, 25 Mar 2024 04:18:37 -0700 (PDT)
Received: from postal.iol.unh.edu (postal.iol.unh.edu.
 [2606:4100:3880:1234::84]) by smtp-relay.gmail.com with ESMTPS id
 kk30-20020a056214509e00b00696934044c2sm58591qvb.19.2024.03.25.04.18.37
 (version=TLS1_2 cipher=ECDHE-ECDSA-AES128-GCM-SHA256 bits=128/128);
 Mon, 25 Mar 2024 04:18:37 -0700 (PDT)
X-Relaying-Domain: iol.unh.edu
Date: Mon, 25 Mar 2024 04:18:37 -0700 (PDT)
Message-ID: <66015d8d.050a0220.5c770.3a3eSMTPIN_ADDED_MISSING@mx.google.com>
Received: from [172.21.0.8] (unknown [172.18.0.240])
 by postal.iol.unh.edu (Postfix) with ESMTP id 9FE616052471;
 Mon, 25 Mar 2024 07:18:37 -0400 (EDT)
Subject: |SUCCESS| pw138765 [PATCH] [v3] graph: expose node context as pointe
From: dpdklab@iol.unh.edu
To: Test Report <test-report@dpdk.org>
Cc: dpdk-test-reports@iol.unh.edu
In-Reply-To: <20240325100500.694748-2-rjarry@redhat.com>
References: <20240325100500.694748-2-rjarry@redhat.com>
Content-Type: text/plain
X-BeenThere: test-report@dpdk.org
X-Mailman-Version: 2.1.29
Precedence: list
List-Id: automatic DPDK test reports <test-report.dpdk.org>
List-Unsubscribe: <https://mails.dpdk.org/options/test-report>,
 <mailto:test-report-request@dpdk.org?subject=unsubscribe>
List-Archive: <http://mails.dpdk.org/archives/test-report/>
List-Post: <mailto:test-report@dpdk.org>
List-Help: <mailto:test-report-request@dpdk.org?subject=help>
List-Subscribe: <https://mails.dpdk.org/listinfo/test-report>,
 <mailto:test-report-request@dpdk.org?subject=subscribe>
Errors-To: test-report-bounces@dpdk.org

Test-Label: iol-unit-amd64-testing
Test-Status: SUCCESS
http://dpdk.org/patch/138765

_Testing PASS_

Submitter: Robin Jarry <rjarry@redhat.com>
Date: Monday, March 25 2024 10:05:01 
DPDK git baseline: Repo:dpdk
  Branch: master
  CommitID:0b82b5139fefe6eb5ec1a0b489fd193e8a99ab73

138765 --> testing pass

Test environment and result as below:

+---------------------+----------------+
|     Environment     | dpdk_unit_test |
+=====================+================+
| Windows Server 2019 | PASS           |
+---------------------+----------------+
| CentOS Stream 9     | PASS           |
+---------------------+----------------+
| Debian Bullseye     | PASS           |
+---------------------+----------------+
| Fedora 37           | PASS           |
+---------------------+----------------+
| CentOS Stream 8     | PASS           |
+---------------------+----------------+
| Debian 11 (arm)     | PASS           |
+---------------------+----------------+
| RHEL8               | PASS           |
+---------------------+----------------+
| Fedora 38           | PASS           |
+---------------------+----------------+


Windows Server 2019
	Kernel: 10.0.17763
	Compiler: clang 14.0 and gcc 8.1.0 (MinGW)

CentOS Stream 9
	Kernel: 5.4.0-167-generic
	Compiler: gcc 11.4.1 20230605

Debian Bullseye
	Kernel: 5.4.0-167-generic
	Compiler: gcc 10.2.1-6

Fedora 37
	Kernel: Depends on container host system
	Compiler: gcc 12.3.1

CentOS Stream 8
	Kernel: 5.4.0-167-generic
	Compiler: gcc 8.5.0 20210514

Debian 11 (arm)
	Kernel: Container Host Kernel
	Compiler: gcc 10.2.1

RHEL8
	Kernel: 5.4.0-167-generic
	Compiler: gcc 8.5.0 20210514 (Red Hat 8.5.0-20)

Fedora 38
	Kernel: Depends on container host
	Compiler: gcc 13.2.1

To view detailed results, visit:
https://lab.dpdk.org/results/dashboard/patchsets/29647/

UNH-IOL DPDK Community Lab

To manage your email subscriptions, visit: 
https://lab.dpdk.org/results/dashboard/preferences/subscriptions/