From mboxrd@z Thu Jan  1 00:00:00 1970
Return-Path: <test-report-bounces@dpdk.org>
Received: from mails.dpdk.org (mails.dpdk.org [217.70.189.124])
	by inbox.dpdk.org (Postfix) with ESMTP id 6F3C243D47
	for <public@inbox.dpdk.org>; Mon, 25 Mar 2024 12:25:11 +0100 (CET)
Received: from mails.dpdk.org (localhost [127.0.0.1])
	by mails.dpdk.org (Postfix) with ESMTP id 699D340271;
	Mon, 25 Mar 2024 12:25:11 +0100 (CET)
Received: from mail-ot1-f99.google.com (mail-ot1-f99.google.com
 [209.85.210.99]) by mails.dpdk.org (Postfix) with ESMTP id 9139840270
 for <test-report@dpdk.org>; Mon, 25 Mar 2024 12:25:10 +0100 (CET)
Received: by mail-ot1-f99.google.com with SMTP id
 46e09a7af769-6e2c45b81d8so1432551a34.0
 for <test-report@dpdk.org>; Mon, 25 Mar 2024 04:25:10 -0700 (PDT)
DKIM-Signature: v=1; a=rsa-sha256; c=relaxed/relaxed;
 d=iol.unh.edu; s=unh-iol; t=1711365910; x=1711970710; darn=dpdk.org;
 h=references:in-reply-to:cc:to:from:subject:message-id:date:from:to
 :cc:subject:date:message-id:reply-to;
 bh=vD9RchXQYLTclf3JjDgNNs/3wSk98KkvyQRZCKNXttU=;
 b=FFXdXw9Tt6+TnnOVkSs5nBlBHTs8UXRNrFLDkfyi9b0+mW4WxgBWATVBecAM89xxob
 lmrjCP9k+S6e3cpHTmOi9QMdCArq7Em2xJpE/a53U7UeWmgeyHch69GpDZZ5a4Bna4IH
 iGXNozH8nKDkvoGl06Fmv0Y3aKuoEk2A/tVOo=
X-Google-DKIM-Signature: v=1; a=rsa-sha256; c=relaxed/relaxed;
 d=1e100.net; s=20230601; t=1711365910; x=1711970710;
 h=references:in-reply-to:cc:to:from:subject:message-id:date
 :x-gm-message-state:from:to:cc:subject:date:message-id:reply-to;
 bh=vD9RchXQYLTclf3JjDgNNs/3wSk98KkvyQRZCKNXttU=;
 b=Nbn/z7pp5S39MnwYvchMVdiLApXzljYi1FxW05Hi1N/OvzxiSu75AQRQHpn+K2wOr0
 NmjvXky8BbIepcn8CoF2gATcEtFUxPBvK5iToPn3RPorrIwk4zrrpIyqTQJKgzwsejy4
 M6dlj8g3PXsWSpkhqv9WXtyw4HcweIpgMzq3DndE/07wjbyGJEVrDbrezu02FzAzg9I4
 qYHizkUV3aUDb3CSMCinsxRkWdUqX5c6gYkAz7RVbb9IoqUhPtwBBZr5UKtzSz4qf5FN
 rJUUTyrKkVUag5AbuCGxg6OI96cAnRKlzp1b+1LD2qXA60GU04TGVwjfrwMFzYVH7jEo
 SdWQ==
X-Gm-Message-State: AOJu0YwtJT6R+Pt+MZtQiZ7gIRHu4d7rbfPJ6yZL8xfHAiS66ys/2NDl
 y+8/c1UVseZV9MK4BURMi9zGfe0kRhNxfrtQqTTrp958/mi/KpaTeUT1nxDg043r8rbfRk9H+TH
 4QCWfLmTMpRty1SoFTt2ClyV+ELBKU+HESjc/ON0Q
X-Google-Smtp-Source: AGHT+IGE1ldfxy6QmaKpIg36GEzbpFahbuYwx9d4OBSEO/EeZ53BB4kIm3ipTWcqtvVOelL/iGFbMkHCnRMr
X-Received: by 2002:a05:6870:659f:b0:21e:e24e:e77 with SMTP id
 fp31-20020a056870659f00b0021ee24e0e77mr2600073oab.23.1711365909817; 
 Mon, 25 Mar 2024 04:25:09 -0700 (PDT)
Received: from postal.iol.unh.edu (postal.iol.unh.edu. [132.177.123.84])
 by smtp-relay.gmail.com with ESMTPS id
 20-20020a056870005400b00220ee733e12sm138442oaz.29.2024.03.25.04.25.09
 (version=TLS1_2 cipher=ECDHE-ECDSA-AES128-GCM-SHA256 bits=128/128);
 Mon, 25 Mar 2024 04:25:09 -0700 (PDT)
X-Relaying-Domain: iol.unh.edu
Date: Mon, 25 Mar 2024 04:25:09 -0700 (PDT)
Message-ID: <66015f15.050a0220.e313c.835bSMTPIN_ADDED_MISSING@mx.google.com>
Received: from [172.21.0.6] (unknown [172.18.0.240])
 by postal.iol.unh.edu (Postfix) with ESMTP id 63C786052471;
 Mon, 25 Mar 2024 07:25:09 -0400 (EDT)
Subject: |SUCCESS| pw138765 [PATCH] [v3] graph: expose node context as pointe
From: dpdklab@iol.unh.edu
To: Test Report <test-report@dpdk.org>
Cc: dpdk-test-reports@iol.unh.edu
In-Reply-To: <20240325100500.694748-2-rjarry@redhat.com>
References: <20240325100500.694748-2-rjarry@redhat.com>
Content-Type: text/plain
X-BeenThere: test-report@dpdk.org
X-Mailman-Version: 2.1.29
Precedence: list
List-Id: automatic DPDK test reports <test-report.dpdk.org>
List-Unsubscribe: <https://mails.dpdk.org/options/test-report>,
 <mailto:test-report-request@dpdk.org?subject=unsubscribe>
List-Archive: <http://mails.dpdk.org/archives/test-report/>
List-Post: <mailto:test-report@dpdk.org>
List-Help: <mailto:test-report-request@dpdk.org?subject=help>
List-Subscribe: <https://mails.dpdk.org/listinfo/test-report>,
 <mailto:test-report-request@dpdk.org?subject=subscribe>
Errors-To: test-report-bounces@dpdk.org

Test-Label: iol-unit-amd64-testing
Test-Status: SUCCESS
http://dpdk.org/patch/138765

_Testing PASS_

Submitter: Robin Jarry <rjarry@redhat.com>
Date: Monday, March 25 2024 10:05:01 
DPDK git baseline: Repo:dpdk
  Branch: master
  CommitID:0b82b5139fefe6eb5ec1a0b489fd193e8a99ab73

138765 --> testing pass

Test environment and result as below:

+---------------------+----------------+
|     Environment     | dpdk_unit_test |
+=====================+================+
| Windows Server 2019 | PASS           |
+---------------------+----------------+
| CentOS Stream 9     | PASS           |
+---------------------+----------------+
| Debian Bullseye     | PASS           |
+---------------------+----------------+
| Fedora 37           | PASS           |
+---------------------+----------------+
| CentOS Stream 8     | PASS           |
+---------------------+----------------+
| Debian 11 (arm)     | PASS           |
+---------------------+----------------+
| RHEL8               | PASS           |
+---------------------+----------------+
| Fedora 38           | PASS           |
+---------------------+----------------+
| Ubuntu 20.04        | PASS           |
+---------------------+----------------+
| openSUSE Leap 15    | PASS           |
+---------------------+----------------+
| Ubuntu 22.04        | PASS           |
+---------------------+----------------+


Windows Server 2019
	Kernel: 10.0.17763
	Compiler: clang 14.0 and gcc 8.1.0 (MinGW)

CentOS Stream 9
	Kernel: 5.4.0-167-generic
	Compiler: gcc 11.4.1 20230605

Debian Bullseye
	Kernel: 5.4.0-167-generic
	Compiler: gcc 10.2.1-6

Fedora 37
	Kernel: Depends on container host system
	Compiler: gcc 12.3.1

CentOS Stream 8
	Kernel: 5.4.0-167-generic
	Compiler: gcc 8.5.0 20210514

Debian 11 (arm)
	Kernel: Container Host Kernel
	Compiler: gcc 10.2.1

RHEL8
	Kernel: 5.4.0-167-generic
	Compiler: gcc 8.5.0 20210514 (Red Hat 8.5.0-20)

Fedora 38
	Kernel: Depends on container host
	Compiler: gcc 13.2.1

Ubuntu 20.04
	Kernel: 5.4.0-167-generic
	Compiler: gcc 9.4.0-1ubuntu1~20.04.1

openSUSE Leap 15
	Kernel: 5.4.0-167-generic
	Compiler: gcc 7.5.0

Ubuntu 22.04
	Kernel: 5.4.0-167-generic
	Compiler: gcc 11.4.0

To view detailed results, visit:
https://lab.dpdk.org/results/dashboard/patchsets/29647/

UNH-IOL DPDK Community Lab

To manage your email subscriptions, visit: 
https://lab.dpdk.org/results/dashboard/preferences/subscriptions/