From mboxrd@z Thu Jan  1 00:00:00 1970
Return-Path: <test-report-bounces@dpdk.org>
Received: from mails.dpdk.org (mails.dpdk.org [217.70.189.124])
	by inbox.dpdk.org (Postfix) with ESMTP id 8698143D47
	for <public@inbox.dpdk.org>; Mon, 25 Mar 2024 12:52:18 +0100 (CET)
Received: from mails.dpdk.org (localhost [127.0.0.1])
	by mails.dpdk.org (Postfix) with ESMTP id 8049440271;
	Mon, 25 Mar 2024 12:52:18 +0100 (CET)
Received: from mail-ot1-f98.google.com (mail-ot1-f98.google.com
 [209.85.210.98]) by mails.dpdk.org (Postfix) with ESMTP id 6DD9B4021D
 for <test-report@dpdk.org>; Mon, 25 Mar 2024 12:52:15 +0100 (CET)
Received: by mail-ot1-f98.google.com with SMTP id
 46e09a7af769-6e6d063e88bso731646a34.3
 for <test-report@dpdk.org>; Mon, 25 Mar 2024 04:52:15 -0700 (PDT)
DKIM-Signature: v=1; a=rsa-sha256; c=relaxed/relaxed;
 d=iol.unh.edu; s=unh-iol; t=1711367534; x=1711972334; darn=dpdk.org;
 h=references:in-reply-to:cc:to:from:subject:message-id:date:from:to
 :cc:subject:date:message-id:reply-to;
 bh=kfiG8WPAdWK2iw7E7bLUOVipm87J94FUBBwuzjNPUkg=;
 b=Ml87YetIhWuW3oCBjFpdb62yGConBYJL+m6y3lYPwvrX3APrmYn2EpKmgdeRw688pI
 Mbcx19hUT2owQKBTlu5v66v4x9ZK7OvJt2cgCxOgq2CRrBvudCqHZmPYS/wzXznxiNNu
 pmwiscq88SfJiHopuGf0SPOkJrhXJbKUJNT0o=
X-Google-DKIM-Signature: v=1; a=rsa-sha256; c=relaxed/relaxed;
 d=1e100.net; s=20230601; t=1711367534; x=1711972334;
 h=references:in-reply-to:cc:to:from:subject:message-id:date
 :x-gm-message-state:from:to:cc:subject:date:message-id:reply-to;
 bh=kfiG8WPAdWK2iw7E7bLUOVipm87J94FUBBwuzjNPUkg=;
 b=egC0Fo1C2POxR5Q3j3B7qnQhkWcuKFzVTC/0WpapAPkitzkO357yJ2VQyulghlVXW4
 uSQ27eaK4LYFwoPYtiF8uTgmG/HAL0F0wUdjLhBwuSFMn8Wr6SaIg/eHzLNhrmhDB4CW
 NHIUoLsdv1qf5en1UcW6wNUKkBTTb1eLYXp5obxSIzJCccBgIXqaDMrfM8wjln2ZD9sa
 BqMXMW+fjlt5yTQ7YdLbNRH0eK9Q0E3DUq0rPHWsCct1MGNMuKSKtTnGO4K06NccXU10
 k6IUZ6AhvTJ8GrAj36iq5naZVZ+gQW/yQUGX7i6oyqHPlQnSTpEHY/clG7Nw3H0+gs8p
 H7lw==
X-Gm-Message-State: AOJu0Yw+dkR9GlNQZdDcjlrGhX9ayBdl+9o++yeUDomLM+lsyIVUU6uk
 AEepSGCfXnj6ZAnAWmXuOFURUBOZkxezGVSjYLgPsEo1i3EaxB4Ixb78229FIBar5JHjeoH3b4T
 qwmuy0lYPCrWkeq3ryYWD8Tcyme8kSz2j/zvB8yXjfqoj6uQkpSzawJdw
X-Google-Smtp-Source: AGHT+IF/DdpImbngDcv0ZQoQOMctvLy2OhagYoQ3lHWxyCv4vgk++R1QQOPtnV3SfB4eTPTmXuVYWw/Yq/ew
X-Received: by 2002:a05:6870:d147:b0:229:f61d:7e52 with SMTP id
 f7-20020a056870d14700b00229f61d7e52mr8257884oac.34.1711367534744; 
 Mon, 25 Mar 2024 04:52:14 -0700 (PDT)
Received: from postal.iol.unh.edu (postal.iol.unh.edu.
 [2606:4100:3880:1234::84]) by smtp-relay.gmail.com with ESMTPS id
 t17-20020a056a0021d100b006e68bf967a7sm306440pfj.17.2024.03.25.04.52.14
 (version=TLS1_2 cipher=ECDHE-ECDSA-AES128-GCM-SHA256 bits=128/128);
 Mon, 25 Mar 2024 04:52:14 -0700 (PDT)
X-Relaying-Domain: iol.unh.edu
Date: Mon, 25 Mar 2024 04:52:14 -0700 (PDT)
Message-ID: <6601656e.050a0220.ef853.75a4SMTPIN_ADDED_MISSING@mx.google.com>
Received: from [172.21.0.6] (unknown [172.18.0.240])
 by postal.iol.unh.edu (Postfix) with ESMTP id DB0EE6052471;
 Mon, 25 Mar 2024 07:52:13 -0400 (EDT)
Subject: |SUCCESS| pw138764 [PATCH] net/ixgbe: add param check when tx_queue 
From: dpdklab@iol.unh.edu
To: Test Report <test-report@dpdk.org>
Cc: dpdk-test-reports@iol.unh.edu
In-Reply-To: <20240323144842.12331-1-keivinwang@126.com>
References: <20240323144842.12331-1-keivinwang@126.com>
Content-Type: text/plain
X-BeenThere: test-report@dpdk.org
X-Mailman-Version: 2.1.29
Precedence: list
List-Id: automatic DPDK test reports <test-report.dpdk.org>
List-Unsubscribe: <https://mails.dpdk.org/options/test-report>,
 <mailto:test-report-request@dpdk.org?subject=unsubscribe>
List-Archive: <http://mails.dpdk.org/archives/test-report/>
List-Post: <mailto:test-report@dpdk.org>
List-Help: <mailto:test-report-request@dpdk.org?subject=help>
List-Subscribe: <https://mails.dpdk.org/listinfo/test-report>,
 <mailto:test-report-request@dpdk.org?subject=subscribe>
Errors-To: test-report-bounces@dpdk.org

Test-Label: iol-compile-arm64-testing
Test-Status: SUCCESS
http://dpdk.org/patch/138764

_Testing PASS_

Submitter: keivinwang <keivinwang@126.com>
Date: Saturday, March 23 2024 14:48:42 
DPDK git baseline: Repo:dpdk
  Branch: master
  CommitID:2c54ea7a59dfc0a819d3527309c62846fc8853af

138764 --> testing pass

Test environment and result as below:

+--------------------------+--------------------+
|       Environment        | dpdk_meson_compile |
+==========================+====================+
| Ubuntu 20.04 ARM SVE     | PASS               |
+--------------------------+--------------------+
| Debian 12 with MUSDK     | PASS               |
+--------------------------+--------------------+
| Ubuntu 20.04 (ARM)       | PASS               |
+--------------------------+--------------------+
| Fedora 37 (ARM)          | PASS               |
+--------------------------+--------------------+
| Debian 12 (arm)          | PASS               |
+--------------------------+--------------------+
| Fedora 38 (ARM)          | PASS               |
+--------------------------+--------------------+
| CentOS Stream 9 (ARM)    | PASS               |
+--------------------------+--------------------+
| Debian 11 (Buster) (ARM) | PASS               |
+--------------------------+--------------------+


Ubuntu 20.04 ARM SVE
	Kernel: 5.4.0-167-generic
	Compiler: gcc (Ubuntu 10.5.0-1ubuntu1~20.04) 10.5.0

Debian 12 with MUSDK
	Kernel: Container Host Kernel
	Compiler: gcc 12.2.0

Ubuntu 20.04 (ARM)
	Kernel: Container Host Kernel
	Compiler: gcc 9.4.0

Fedora 37 (ARM)
	Kernel: Depends on container host
	Compiler: gcc 12.3.1

Debian 12 (arm)
	Kernel: Container Host Kernel
	Compiler: gcc 12.2.0

Fedora 38 (ARM)
	Kernel: Depends on container host
	Compiler: gcc 13.2.1

CentOS Stream 9 (ARM)
	Kernel: Container Host Kernel
	Compiler: gcc 11.4.1

Debian 11 (Buster) (ARM)
	Kernel: Container Host Kernel
	Compiler: gcc 10.2.1

To view detailed results, visit:
https://lab.dpdk.org/results/dashboard/patchsets/29646/

UNH-IOL DPDK Community Lab

To manage your email subscriptions, visit: 
https://lab.dpdk.org/results/dashboard/preferences/subscriptions/