From mboxrd@z Thu Jan  1 00:00:00 1970
Return-Path: <test-report-bounces@dpdk.org>
Received: from mails.dpdk.org (mails.dpdk.org [217.70.189.124])
	by inbox.dpdk.org (Postfix) with ESMTP id 6EFF443D4C
	for <public@inbox.dpdk.org>; Mon, 25 Mar 2024 22:38:26 +0100 (CET)
Received: from mails.dpdk.org (localhost [127.0.0.1])
	by mails.dpdk.org (Postfix) with ESMTP id 6A89C40270;
	Mon, 25 Mar 2024 22:38:26 +0100 (CET)
Received: from mail-yw1-f226.google.com (mail-yw1-f226.google.com
 [209.85.128.226])
 by mails.dpdk.org (Postfix) with ESMTP id 179474026C
 for <test-report@dpdk.org>; Mon, 25 Mar 2024 22:38:13 +0100 (CET)
Received: by mail-yw1-f226.google.com with SMTP id
 00721157ae682-609f060cbafso60295737b3.0
 for <test-report@dpdk.org>; Mon, 25 Mar 2024 14:38:13 -0700 (PDT)
DKIM-Signature: v=1; a=rsa-sha256; c=relaxed/relaxed;
 d=iol.unh.edu; s=unh-iol; t=1711402692; x=1712007492; darn=dpdk.org;
 h=references:in-reply-to:cc:to:from:subject:message-id:date:from:to
 :cc:subject:date:message-id:reply-to;
 bh=kLFTrU7kjxpryoI3Wgl2e9HaJByU7Csr3n4pgeCBKL4=;
 b=ZgaH8uQb1bg9MmJ0GoPYitnH4TnOZGFofgX5Z5G2T9/2DYspGCtQtx/E2maiM9d0Bh
 tJqMWlo3M+aP2QritL8qcFN+SPy3DXPGpxVEyDlOU8SLydPYeXxdvg73XWJCrFXs1hiD
 cIbDDB0tPl2b0fYRCxtt47zHwisHpXsHCYVno=
X-Google-DKIM-Signature: v=1; a=rsa-sha256; c=relaxed/relaxed;
 d=1e100.net; s=20230601; t=1711402692; x=1712007492;
 h=references:in-reply-to:cc:to:from:subject:message-id:date
 :x-gm-message-state:from:to:cc:subject:date:message-id:reply-to;
 bh=kLFTrU7kjxpryoI3Wgl2e9HaJByU7Csr3n4pgeCBKL4=;
 b=AjLPPttTUECoHP4TAqdeOUDfiKQ/6mgxG6YM7VhtgNZSBfk/83EHlQ+Pd0twMi8W3E
 XIJ9DNZIBK3ZCUqXQuRvJLrR9K9rKDlEv5UyhPc66bSm/AZ4Mbs2EzjerUUeqVeyWbrF
 6espbvD+v4BNcXvMykme6hi3VQ+qT2Smt53edNx+ZM2q1BymGyvyhzfiX9ATIk5pLxeb
 Gam596pITEhx/bIwHZXUYQ37M2o9yrFiXROrFNoMeEfFqmI3Gn9heDi/DwIlOYrNn6kf
 1/yd7SN+otOEhIjtF5Bwm9GjnvpkvedDM0YHFI5NRttz3Qh1VP6tQtkJHIj1XGBzPNfg
 ThpA==
X-Gm-Message-State: AOJu0YzZvAUaSsX3+gbAO4dFhVk6bRuicQOiLiS36UsTiulUA/9S7w5p
 q/dnOwbUOAFZyuuDOeII3CmajWVkg1w7v0dnSLMt2earYkQ8fKb9pLwAlaN/79fvTUkairB051s
 aufrx6Ea9Kg7tTIXAY5xTL1Q33wFoMLfORvt70vtyTH0RTmSPkSudYyg6
X-Google-Smtp-Source: AGHT+IHxu/Hpwpl95FzynZjwEerkz0vRT46fHEOT3rmGzd1EvcP8JVKlf74FnIwaf59/dy7fsIFqeLo0ABOd
X-Received: by 2002:a5b:852:0:b0:dcd:d94:3db5 with SMTP id
 v18-20020a5b0852000000b00dcd0d943db5mr6067368ybq.52.1711402692472; 
 Mon, 25 Mar 2024 14:38:12 -0700 (PDT)
Received: from postal.iol.unh.edu (postal.iol.unh.edu.
 [2606:4100:3880:1234::84]) by smtp-relay.gmail.com with ESMTPS id
 c9-20020ad45ae9000000b0069611eff2b0sm636735qvh.71.2024.03.25.14.38.12
 (version=TLS1_2 cipher=ECDHE-ECDSA-AES128-GCM-SHA256 bits=128/128);
 Mon, 25 Mar 2024 14:38:12 -0700 (PDT)
X-Relaying-Domain: iol.unh.edu
Date: Mon, 25 Mar 2024 14:38:12 -0700 (PDT)
Message-ID: <6601eec4.d40a0220.20784.8267SMTPIN_ADDED_MISSING@mx.google.com>
Received: from [172.21.0.6] (unknown [172.18.0.240])
 by postal.iol.unh.edu (Postfix) with ESMTP id 0F4A36052471;
 Mon, 25 Mar 2024 17:38:12 -0400 (EDT)
Subject: |SUCCESS| pw138771-138784 [PATCH] [v12,14/14] maintainers: add for l
From: dpdklab@iol.unh.edu
To: Test Report <test-report@dpdk.org>
Cc: dpdk-test-reports@iol.unh.edu
In-Reply-To: <20240325205405.669897-15-stephen@networkplumber.org>
References: <20240325205405.669897-15-stephen@networkplumber.org>
Content-Type: text/plain
X-BeenThere: test-report@dpdk.org
X-Mailman-Version: 2.1.29
Precedence: list
List-Id: automatic DPDK test reports <test-report.dpdk.org>
List-Unsubscribe: <https://mails.dpdk.org/options/test-report>,
 <mailto:test-report-request@dpdk.org?subject=unsubscribe>
List-Archive: <http://mails.dpdk.org/archives/test-report/>
List-Post: <mailto:test-report@dpdk.org>
List-Help: <mailto:test-report-request@dpdk.org?subject=help>
List-Subscribe: <https://mails.dpdk.org/listinfo/test-report>,
 <mailto:test-report-request@dpdk.org?subject=subscribe>
Errors-To: test-report-bounces@dpdk.org

Test-Label: iol-abi-testing
Test-Status: SUCCESS
http://dpdk.org/patch/138784

_Testing PASS_

Submitter: Stephen Hemminger <stephen@networkplumber.org>
Date: Monday, March 25 2024 20:47:11 
DPDK git baseline: Repo:dpdk
  Branch: master
  CommitID:0b82b5139fefe6eb5ec1a0b489fd193e8a99ab73

138771-138784 --> testing pass

Test environment and result as below:

+-----------------+----------+
|   Environment   | abi_test |
+=================+==========+
| CentOS Stream 9 | PASS     |
+-----------------+----------+
| Fedora 38       | PASS     |
+-----------------+----------+
| Ubuntu 22.04    | PASS     |
+-----------------+----------+


CentOS Stream 9
	Kernel: 5.4.0-167-generic
	Compiler: gcc 11.4.1 20230605

Fedora 38
	Kernel: Depends on container host
	Compiler: gcc 13.2.1

Ubuntu 22.04
	Kernel: 5.4.0-167-generic
	Compiler: gcc 11.4.0

To view detailed results, visit:
https://lab.dpdk.org/results/dashboard/patchsets/29653/

UNH-IOL DPDK Community Lab

To manage your email subscriptions, visit: 
https://lab.dpdk.org/results/dashboard/preferences/subscriptions/