From mboxrd@z Thu Jan  1 00:00:00 1970
Return-Path: <test-report-bounces@dpdk.org>
Received: from mails.dpdk.org (mails.dpdk.org [217.70.189.124])
	by inbox.dpdk.org (Postfix) with ESMTP id 6F20943D4D
	for <public@inbox.dpdk.org>; Mon, 25 Mar 2024 22:46:51 +0100 (CET)
Received: from mails.dpdk.org (localhost [127.0.0.1])
	by mails.dpdk.org (Postfix) with ESMTP id 9148440DDC;
	Mon, 25 Mar 2024 22:46:50 +0100 (CET)
Received: from mail-pj1-f100.google.com (mail-pj1-f100.google.com
 [209.85.216.100])
 by mails.dpdk.org (Postfix) with ESMTP id 9EE1E4026C
 for <test-report@dpdk.org>; Mon, 25 Mar 2024 22:46:44 +0100 (CET)
Received: by mail-pj1-f100.google.com with SMTP id
 98e67ed59e1d1-29a8911d11cso2553931a91.1
 for <test-report@dpdk.org>; Mon, 25 Mar 2024 14:46:44 -0700 (PDT)
DKIM-Signature: v=1; a=rsa-sha256; c=relaxed/relaxed;
 d=iol.unh.edu; s=unh-iol; t=1711403204; x=1712008004; darn=dpdk.org;
 h=references:in-reply-to:cc:to:from:subject:message-id:date:from:to
 :cc:subject:date:message-id:reply-to;
 bh=SSAV6wsgwSqcYpkGAfKGmrXzAMoc0P6dIYSVrpPi7C0=;
 b=SKQlurpg9fcZ4KfADbZa10Y7qj2wBc+BacdVa+yk8CpTYyqY2otXgN3SZD0pzRVG9H
 LbIQ4R3rZvm9R5T4tTUttcJ1ZEj46whufBnAJXy9g4MlG8RCS1SHVdsKkVVZh6tUfAOD
 KhhqjJ/nzC+vcJwVAhK+6unlz2Mnxoozpbnug=
X-Google-DKIM-Signature: v=1; a=rsa-sha256; c=relaxed/relaxed;
 d=1e100.net; s=20230601; t=1711403204; x=1712008004;
 h=references:in-reply-to:cc:to:from:subject:message-id:date
 :x-gm-message-state:from:to:cc:subject:date:message-id:reply-to;
 bh=SSAV6wsgwSqcYpkGAfKGmrXzAMoc0P6dIYSVrpPi7C0=;
 b=qIKEFciX+aKTQYvyC3vpsV33lG4eShxJskeYCg0hxdl0ckI8xuCo3vf1Nu5mRzfW+u
 dRkVIdhCMnb195+dK4oQND29jLOTy5wbHRc67NfJ7q1bWDr4WMHnx41Ckpj2kjLVC161
 LWdUvJMATWoyYjKR3UWL6P+RfH2MA+2xlGFrQ0Vpu92JhEyMuv86jtiieuSH9NEFXcmw
 Buchg0NdgwWbl2lIpqjdykYi3CA2MtmRtsrx5htem1AiLnEZlmf9Ii9FoHTcb53qGCJb
 bqftM30YelWNLr6NKGhrTHNe4jh9UGOfa/pE6w+OjRgBrPqra9cuLdRiecW0E21wnpGc
 6J9g==
X-Gm-Message-State: AOJu0Yz4Vl+nSWJOZXgK/BbDPl+Eov6tbrV09icR/eZ7xGxHYGfBEw2Y
 aGks64rYIvLrCS/7qAP5+ZEPrN/Qx5ecDaoYEvlvH3kQJtXjxiijNwNRXKUnU5d3AQTku0oDE96
 PRU4AoOqchyP2gS9vWkQ4JpdEgYcNT7sNq3q+F3ZF
X-Google-Smtp-Source: AGHT+IENHgQmWnv8gNYE/fJ4Jlxbqd0ZgqC7Kc+5Uef8NaDxjCL96Lc7R1CoUY4/IzA6kWP5DxDsVlk26iNx
X-Received: by 2002:a17:90a:e002:b0:29d:d77f:812b with SMTP id
 u2-20020a17090ae00200b0029dd77f812bmr947720pjy.19.1711403203820; 
 Mon, 25 Mar 2024 14:46:43 -0700 (PDT)
Received: from postal.iol.unh.edu (postal.iol.unh.edu. [132.177.123.84])
 by smtp-relay.gmail.com with ESMTPS id
 nm20-20020a17090b19d400b0029deb8f01fcsm1045pjb.1.2024.03.25.14.46.43
 (version=TLS1_2 cipher=ECDHE-ECDSA-AES128-GCM-SHA256 bits=128/128);
 Mon, 25 Mar 2024 14:46:43 -0700 (PDT)
X-Relaying-Domain: iol.unh.edu
Date: Mon, 25 Mar 2024 14:46:43 -0700 (PDT)
Message-ID: <6601f0c3.170a0220.cca92.0050SMTPIN_ADDED_MISSING@mx.google.com>
Received: from [172.17.0.6] (unknown [172.18.0.217])
 by postal.iol.unh.edu (Postfix) with ESMTP id E6EEE6052471;
 Mon, 25 Mar 2024 17:46:42 -0400 (EDT)
Subject: |SUCCESS| pw138771-138784 [PATCH] [v12,14/14] maintainers: add for l
From: dpdklab@iol.unh.edu
To: Test Report <test-report@dpdk.org>
Cc: Stephen Hemminger <stephen@networkplumber.org>
In-Reply-To: <20240325205405.669897-15-stephen@networkplumber.org>
References: <20240325205405.669897-15-stephen@networkplumber.org>
Content-Type: text/plain
X-BeenThere: test-report@dpdk.org
X-Mailman-Version: 2.1.29
Precedence: list
List-Id: automatic DPDK test reports <test-report.dpdk.org>
List-Unsubscribe: <https://mails.dpdk.org/options/test-report>,
 <mailto:test-report-request@dpdk.org?subject=unsubscribe>
List-Archive: <http://mails.dpdk.org/archives/test-report/>
List-Post: <mailto:test-report@dpdk.org>
List-Help: <mailto:test-report-request@dpdk.org?subject=help>
List-Subscribe: <https://mails.dpdk.org/listinfo/test-report>,
 <mailto:test-report-request@dpdk.org?subject=subscribe>
Errors-To: test-report-bounces@dpdk.org

Test-Label: iol-abi-testing
Test-Status: SUCCESS
http://dpdk.org/patch/138784

_Testing PASS_

Submitter: Stephen Hemminger <stephen@networkplumber.org>
Date: Monday, March 25 2024 20:47:11 
DPDK git baseline: Repo:dpdk
  Branch: master
  CommitID:0b82b5139fefe6eb5ec1a0b489fd193e8a99ab73

138771-138784 --> testing pass

Test environment and result as below:

+-----------------+----------+
|   Environment   | abi_test |
+=================+==========+
| CentOS Stream 9 | PASS     |
+-----------------+----------+
| Fedora 38       | PASS     |
+-----------------+----------+
| Ubuntu 22.04    | PASS     |
+-----------------+----------+
| Debian Bullseye | PASS     |
+-----------------+----------+


CentOS Stream 9
	Kernel: 5.4.0-167-generic
	Compiler: gcc 11.4.1 20230605

Fedora 38
	Kernel: Depends on container host
	Compiler: gcc 13.2.1

Ubuntu 22.04
	Kernel: 5.4.0-167-generic
	Compiler: gcc 11.4.0

Debian Bullseye
	Kernel: 5.4.0-167-generic
	Compiler: gcc 10.2.1-6

To view detailed results, visit:
https://lab.dpdk.org/results/dashboard/patchsets/29653/

UNH-IOL DPDK Community Lab

To manage your email subscriptions, visit: 
https://lab.dpdk.org/results/dashboard/preferences/subscriptions/