From mboxrd@z Thu Jan  1 00:00:00 1970
Return-Path: <test-report-bounces@dpdk.org>
Received: from mails.dpdk.org (mails.dpdk.org [217.70.189.124])
	by inbox.dpdk.org (Postfix) with ESMTP id A895E43D4E
	for <public@inbox.dpdk.org>; Tue, 26 Mar 2024 03:48:32 +0100 (CET)
Received: from mails.dpdk.org (localhost [127.0.0.1])
	by mails.dpdk.org (Postfix) with ESMTP id 9568940A73;
	Tue, 26 Mar 2024 03:48:32 +0100 (CET)
Received: from mail-io1-f99.google.com (mail-io1-f99.google.com
 [209.85.166.99]) by mails.dpdk.org (Postfix) with ESMTP id 9123D402B5
 for <test-report@dpdk.org>; Tue, 26 Mar 2024 03:48:29 +0100 (CET)
Received: by mail-io1-f99.google.com with SMTP id
 ca18e2360f4ac-7cc864215caso178823239f.3
 for <test-report@dpdk.org>; Mon, 25 Mar 2024 19:48:29 -0700 (PDT)
DKIM-Signature: v=1; a=rsa-sha256; c=relaxed/relaxed;
 d=iol.unh.edu; s=unh-iol; t=1711421309; x=1712026109; darn=dpdk.org;
 h=references:in-reply-to:cc:to:from:subject:message-id:date:from:to
 :cc:subject:date:message-id:reply-to;
 bh=IbDDzA/H3suXGHQ6KLzuxoJx6aOc+eKq1lS8AskhCtU=;
 b=gGoGl7lIJQFScfFWje3h2Ea1aMLLep9Bw3ElN9xQpbeE1/eMlflMLNpRoM5yLMAUG5
 0HaLBUtzNw4hAeJY+oEF8uPN2uOX8ixq9TZ2dZQ4WjQjtRWtUWA8p+tfns4nBW38dUCE
 JhmKDoSxgASjU8OvOdNPffTx7G3qkSOcxH1fA=
X-Google-DKIM-Signature: v=1; a=rsa-sha256; c=relaxed/relaxed;
 d=1e100.net; s=20230601; t=1711421309; x=1712026109;
 h=references:in-reply-to:cc:to:from:subject:message-id:date
 :x-gm-message-state:from:to:cc:subject:date:message-id:reply-to;
 bh=IbDDzA/H3suXGHQ6KLzuxoJx6aOc+eKq1lS8AskhCtU=;
 b=d1aTY0UQofIKp+6NEx/VpiOKsyZVmkujU2B9PofGF10bzHZsm9ToWPPoyBJYMTaY5u
 4ZukyIr8MGZg7dPHu5jVLnqLzprt57rFZ46h7mul+qYX1AHMPx70PMPww/dEek7EtguF
 mYSUxMvN9w0GLM54aWpSav/Epm00DxTlK6Fmpjr2ae7mupW+OjTnY/x+1gV9W3o8blpf
 2LolYXViNb8SYrCxyvaRWBk+UZZh/1tPIYDWW37w43MSfgIOAX9cRTgEMyHMa8dFjzkb
 khXXRqdpy+D5BEQpvJT+1+hrppMeHV9/DLqYLOcHmeCMejms012Tb2iP+GQqQlmA5skD
 9ylg==
X-Gm-Message-State: AOJu0YwF66Mr9wsV8BT3IXP9QDW5Vlh0o4hhO3bvMLrq33wl53SkCHGm
 sQfWK3p0ss2T+Y+9KMg1n57/QzTlNIkL8eolK75bvuB7Ls0mcuowyQL1dmJfUnhoXq3/HkncPpg
 kox0YsFekpulA3cJi1r1f5T9xZIci5RIk4z3pDSTZHV6JRKmzPZNhRJOZ
X-Google-Smtp-Source: AGHT+IHao4qG/lnSEEEKbxByja3hMkZOYXen+vTS2V7sp2IPy09S+ELJUYVl2Q/7mJhWNg+Y8apnAwIvWbj1
X-Received: by 2002:a05:6602:4009:b0:7d0:3d18:1df with SMTP id
 bk9-20020a056602400900b007d03d1801dfmr11090595iob.15.1711421308955; 
 Mon, 25 Mar 2024 19:48:28 -0700 (PDT)
Received: from postal.iol.unh.edu (postal.iol.unh.edu.
 [2606:4100:3880:1234::84]) by smtp-relay.gmail.com with ESMTPS id
 m15-20020a056638260f00b0047d6a2526c4sm59170jat.58.2024.03.25.19.48.28
 (version=TLS1_2 cipher=ECDHE-ECDSA-AES128-GCM-SHA256 bits=128/128);
 Mon, 25 Mar 2024 19:48:28 -0700 (PDT)
X-Relaying-Domain: iol.unh.edu
Date: Mon, 25 Mar 2024 19:48:28 -0700 (PDT)
Message-ID: <6602377c.050a0220.f6cbc.3c78SMTPIN_ADDED_MISSING@mx.google.com>
Received: from [172.21.0.6] (unknown [172.18.0.240])
 by postal.iol.unh.edu (Postfix) with ESMTP id 6DFB36052471;
 Mon, 25 Mar 2024 22:48:28 -0400 (EDT)
Subject: |SUCCESS| pw138785-138795 [PATCH] [v13,11/11] log: add optional supp
From: dpdklab@iol.unh.edu
To: Test Report <test-report@dpdk.org>
Cc: dpdk-test-reports@iol.unh.edu
In-Reply-To: <20240326015827.825648-12-stephen@networkplumber.org>
References: <20240326015827.825648-12-stephen@networkplumber.org>
Content-Type: text/plain
X-BeenThere: test-report@dpdk.org
X-Mailman-Version: 2.1.29
Precedence: list
List-Id: automatic DPDK test reports <test-report.dpdk.org>
List-Unsubscribe: <https://mails.dpdk.org/options/test-report>,
 <mailto:test-report-request@dpdk.org?subject=unsubscribe>
List-Archive: <http://mails.dpdk.org/archives/test-report/>
List-Post: <mailto:test-report@dpdk.org>
List-Help: <mailto:test-report-request@dpdk.org?subject=help>
List-Subscribe: <https://mails.dpdk.org/listinfo/test-report>,
 <mailto:test-report-request@dpdk.org?subject=subscribe>
Errors-To: test-report-bounces@dpdk.org

Test-Label: iol-unit-arm64-testing
Test-Status: SUCCESS
http://dpdk.org/patch/138795

_Testing PASS_

Submitter: Stephen Hemminger <stephen@networkplumber.org>
Date: Tuesday, March 26 2024 01:57:06 
DPDK git baseline: Repo:dpdk
  Branch: master
  CommitID:0b82b5139fefe6eb5ec1a0b489fd193e8a99ab73

138785-138795 --> testing pass

Test environment and result as below:

+--------------------------+----------------+---------------------------+------------------------------+
|       Environment        | dpdk_unit_test | cryptodev_sw_zuc_autotest | cryptodev_sw_snow3g_autotest |
+==========================+================+===========================+==============================+
| Debian 11 (Buster) (ARM) | PASS           | SKIPPED                   | SKIPPED                      |
+--------------------------+----------------+---------------------------+------------------------------+
| Fedora 37 (ARM)          | PASS           | SKIPPED                   | SKIPPED                      |
+--------------------------+----------------+---------------------------+------------------------------+
| Debian 12 (arm)          | PASS           | PASS                      | PASS                         |
+--------------------------+----------------+---------------------------+------------------------------+
| CentOS Stream 9 (ARM)    | PASS           | SKIPPED                   | SKIPPED                      |
+--------------------------+----------------+---------------------------+------------------------------+
| Fedora 38 (ARM)          | PASS           | SKIPPED                   | SKIPPED                      |
+--------------------------+----------------+---------------------------+------------------------------+
| Ubuntu 20.04 (ARM)       | PASS           | SKIPPED                   | SKIPPED                      |
+--------------------------+----------------+---------------------------+------------------------------+


Debian 11 (Buster) (ARM)
	Kernel: Container Host Kernel
	Compiler: gcc 10.2.1

Fedora 37 (ARM)
	Kernel: Depends on container host
	Compiler: gcc 12.3.1

Debian 12 (arm)
	Kernel: Container Host Kernel
	Compiler: gcc 12.2.0

CentOS Stream 9 (ARM)
	Kernel: Container Host Kernel
	Compiler: gcc 11.4.1

Fedora 38 (ARM)
	Kernel: Depends on container host
	Compiler: gcc 13.2.1

Ubuntu 20.04 (ARM)
	Kernel: Container Host Kernel
	Compiler: gcc 9.4.0

To view detailed results, visit:
https://lab.dpdk.org/results/dashboard/patchsets/29654/

UNH-IOL DPDK Community Lab

To manage your email subscriptions, visit: 
https://lab.dpdk.org/results/dashboard/preferences/subscriptions/