From mboxrd@z Thu Jan  1 00:00:00 1970
Return-Path: <test-report-bounces@dpdk.org>
Received: from mails.dpdk.org (mails.dpdk.org [217.70.189.124])
	by inbox.dpdk.org (Postfix) with ESMTP id C9BC743D4F
	for <public@inbox.dpdk.org>; Tue, 26 Mar 2024 04:00:09 +0100 (CET)
Received: from mails.dpdk.org (localhost [127.0.0.1])
	by mails.dpdk.org (Postfix) with ESMTP id ABE2B402C0;
	Tue, 26 Mar 2024 04:00:09 +0100 (CET)
Received: from mail-yw1-f226.google.com (mail-yw1-f226.google.com
 [209.85.128.226])
 by mails.dpdk.org (Postfix) with ESMTP id CFB00402B5
 for <test-report@dpdk.org>; Tue, 26 Mar 2024 04:00:08 +0100 (CET)
Received: by mail-yw1-f226.google.com with SMTP id
 00721157ae682-60a0599f631so44355647b3.2
 for <test-report@dpdk.org>; Mon, 25 Mar 2024 20:00:08 -0700 (PDT)
DKIM-Signature: v=1; a=rsa-sha256; c=relaxed/relaxed;
 d=iol.unh.edu; s=unh-iol; t=1711422008; x=1712026808; darn=dpdk.org;
 h=references:in-reply-to:cc:to:from:subject:message-id:date:from:to
 :cc:subject:date:message-id:reply-to;
 bh=sEeoYEVr/z7yWnFNjDieZNXOHgTO4ZJVxietpjvmV1U=;
 b=N6YaxXOagTZFmS/XO4b6H0otOayNf45GvZMYLUXX6oWzAsUe7i8mRIbEPotwfSd5n4
 Q//PhuEYZZbWoGU8sJFzgXVuxsZn7EJFvziUDEaX2eyd1rN7lKD74fRTblUx19qYNn6G
 ceCH+h5FPR8kIPBmtHeRYDVh87ltGRcXW5ylc=
X-Google-DKIM-Signature: v=1; a=rsa-sha256; c=relaxed/relaxed;
 d=1e100.net; s=20230601; t=1711422008; x=1712026808;
 h=references:in-reply-to:cc:to:from:subject:message-id:date
 :x-gm-message-state:from:to:cc:subject:date:message-id:reply-to;
 bh=sEeoYEVr/z7yWnFNjDieZNXOHgTO4ZJVxietpjvmV1U=;
 b=Z2JKFFXspt1YTtD2qfH52mdz9K5Kgrtiu5YW7HI1hlN+VqFxkSE7LoJfU8ZRrslPwf
 KzSwnJueAwWB/cblRJ/j1mQdikaQz60J1rF8wT+IPa/deBwXmweN/gIAbXa9YYfBiISf
 soOrCSWOuJQDYrdjV2Ce/rWV5OVeeYouMEzqjhVotFE86IPBcC9Aekj4uFMxeQQHRukL
 SF+TfLLRVzTXzUiAu3t4pOYf9bfW7Uk2nYbDWmaCDfiKLGENqFL7u+IAy8MJwoxMxZC+
 0L9fvIfx028GoUb/CJaLrm5arQcxRFjIs3KlR92xKTDU2Z4IovxUtRXfh7rSa6W/kyyK
 q0zg==
X-Gm-Message-State: AOJu0Yz8F4ftWJpruRyygaxPNZ07BTXWJK8Rfa7+N+jUiOShvq1GSL4j
 yB4sGroHw6sJ7ZYKgLr0+DFJjL8KFRA0DrTXBLl7PtOZhUn2SA4DayvdQg4+XqML9cre5ALl+Ey
 92oZ5RsJ6oMOe5K+e4s7f1y092bM1Uo+xd9nDPIrv
X-Google-Smtp-Source: AGHT+IGoIWZY8FwtdFNNZYBeXsIviVeEiHfwzeI0xp5iD4XXCkmBzM0rPfEBBl00rSd1nRLtBl7Wl2SxnK3m
X-Received: by 2002:a0d:f603:0:b0:608:de16:ecb5 with SMTP id
 g3-20020a0df603000000b00608de16ecb5mr7564385ywf.1.1711422008202; 
 Mon, 25 Mar 2024 20:00:08 -0700 (PDT)
Received: from postal.iol.unh.edu (postal.iol.unh.edu. [132.177.123.84])
 by smtp-relay.gmail.com with ESMTPS id
 q7-20020a056638238700b0047c081e8e44sm186497jat.61.2024.03.25.20.00.08
 (version=TLS1_2 cipher=ECDHE-ECDSA-AES128-GCM-SHA256 bits=128/128);
 Mon, 25 Mar 2024 20:00:08 -0700 (PDT)
X-Relaying-Domain: iol.unh.edu
Date: Mon, 25 Mar 2024 20:00:08 -0700 (PDT)
Message-ID: <66023a38.050a0220.6e890.b919SMTPIN_ADDED_MISSING@mx.google.com>
Received: from [172.17.0.6] (unknown [172.18.0.217])
 by postal.iol.unh.edu (Postfix) with ESMTP id 8D5AE6052471;
 Mon, 25 Mar 2024 23:00:07 -0400 (EDT)
Subject: |SUCCESS| pw138785-138795 [PATCH] [v13,11/11] log: add optional supp
From: dpdklab@iol.unh.edu
To: Test Report <test-report@dpdk.org>
Cc: dpdk-test-reports@iol.unh.edu
In-Reply-To: <20240326015827.825648-12-stephen@networkplumber.org>
References: <20240326015827.825648-12-stephen@networkplumber.org>
Content-Type: text/plain
X-BeenThere: test-report@dpdk.org
X-Mailman-Version: 2.1.29
Precedence: list
List-Id: automatic DPDK test reports <test-report.dpdk.org>
List-Unsubscribe: <https://mails.dpdk.org/options/test-report>,
 <mailto:test-report-request@dpdk.org?subject=unsubscribe>
List-Archive: <http://mails.dpdk.org/archives/test-report/>
List-Post: <mailto:test-report@dpdk.org>
List-Help: <mailto:test-report-request@dpdk.org?subject=help>
List-Subscribe: <https://mails.dpdk.org/listinfo/test-report>,
 <mailto:test-report-request@dpdk.org?subject=subscribe>
Errors-To: test-report-bounces@dpdk.org

Test-Label: iol-unit-arm64-testing
Test-Status: SUCCESS
http://dpdk.org/patch/138795

_Testing PASS_

Submitter: Stephen Hemminger <stephen@networkplumber.org>
Date: Tuesday, March 26 2024 01:57:06 
DPDK git baseline: Repo:dpdk
  Branch: master
  CommitID:0b82b5139fefe6eb5ec1a0b489fd193e8a99ab73

138785-138795 --> testing pass

Test environment and result as below:

+--------------------------+----------------+---------------------------+------------------------------+--------------+
|       Environment        | dpdk_unit_test | cryptodev_sw_zuc_autotest | cryptodev_sw_snow3g_autotest | lpm_autotest |
+==========================+================+===========================+==============================+==============+
| Debian 11 (Buster) (ARM) | PASS           | SKIPPED                   | SKIPPED                      | SKIPPED      |
+--------------------------+----------------+---------------------------+------------------------------+--------------+
| Fedora 37 (ARM)          | PASS           | SKIPPED                   | SKIPPED                      | SKIPPED      |
+--------------------------+----------------+---------------------------+------------------------------+--------------+
| Debian 12 (arm)          | PASS           | PASS                      | PASS                         | SKIPPED      |
+--------------------------+----------------+---------------------------+------------------------------+--------------+
| CentOS Stream 9 (ARM)    | PASS           | SKIPPED                   | SKIPPED                      | SKIPPED      |
+--------------------------+----------------+---------------------------+------------------------------+--------------+
| Fedora 38 (ARM)          | PASS           | SKIPPED                   | SKIPPED                      | SKIPPED      |
+--------------------------+----------------+---------------------------+------------------------------+--------------+
| Ubuntu 20.04 (ARM)       | PASS           | SKIPPED                   | SKIPPED                      | SKIPPED      |
+--------------------------+----------------+---------------------------+------------------------------+--------------+
| Fedora 38 (ARM Clang)    | PASS           | SKIPPED                   | SKIPPED                      | SKIPPED      |
+--------------------------+----------------+---------------------------+------------------------------+--------------+
| Ubuntu 20.04 ARM SVE     | SKIPPED        | SKIPPED                   | SKIPPED                      | PASS         |
+--------------------------+----------------+---------------------------+------------------------------+--------------+


Debian 11 (Buster) (ARM)
	Kernel: Container Host Kernel
	Compiler: gcc 10.2.1

Fedora 37 (ARM)
	Kernel: Depends on container host
	Compiler: gcc 12.3.1

Debian 12 (arm)
	Kernel: Container Host Kernel
	Compiler: gcc 12.2.0

CentOS Stream 9 (ARM)
	Kernel: Container Host Kernel
	Compiler: gcc 11.4.1

Fedora 38 (ARM)
	Kernel: Depends on container host
	Compiler: gcc 13.2.1

Ubuntu 20.04 (ARM)
	Kernel: Container Host Kernel
	Compiler: gcc 9.4.0

Fedora 38 (ARM Clang)
	Kernel: Depends on container host
	Compiler: clang 16.0.6

Ubuntu 20.04 ARM SVE
	Kernel: 5.4.0-167-generic
	Compiler: gcc (Ubuntu 10.5.0-1ubuntu1~20.04) 10.5.0

To view detailed results, visit:
https://lab.dpdk.org/results/dashboard/patchsets/29654/

UNH-IOL DPDK Community Lab

To manage your email subscriptions, visit: 
https://lab.dpdk.org/results/dashboard/preferences/subscriptions/