From mboxrd@z Thu Jan  1 00:00:00 1970
Return-Path: <test-report-bounces@dpdk.org>
Received: from mails.dpdk.org (mails.dpdk.org [217.70.189.124])
	by inbox.dpdk.org (Postfix) with ESMTP id 59A9143CF0
	for <public@inbox.dpdk.org>; Tue, 26 Mar 2024 14:33:39 +0100 (CET)
Received: from mails.dpdk.org (localhost [127.0.0.1])
	by mails.dpdk.org (Postfix) with ESMTP id 4EBA440E4A;
	Tue, 26 Mar 2024 14:33:39 +0100 (CET)
Received: from mail-pl1-f226.google.com (mail-pl1-f226.google.com
 [209.85.214.226])
 by mails.dpdk.org (Postfix) with ESMTP id D40C740261
 for <test-report@dpdk.org>; Tue, 26 Mar 2024 14:33:37 +0100 (CET)
Received: by mail-pl1-f226.google.com with SMTP id
 d9443c01a7336-1e0f3052145so5361305ad.2
 for <test-report@dpdk.org>; Tue, 26 Mar 2024 06:33:37 -0700 (PDT)
DKIM-Signature: v=1; a=rsa-sha256; c=relaxed/relaxed;
 d=iol.unh.edu; s=unh-iol; t=1711460017; x=1712064817; darn=dpdk.org;
 h=references:in-reply-to:cc:to:from:subject:message-id:date:from:to
 :cc:subject:date:message-id:reply-to;
 bh=yPI0a7G6MBFc82INvUfsWOTvWsdrk9jFcRP3X/WjIC0=;
 b=JIyYOaf7RZgHRLQCrrS5RvCGLRr245Ku77BomUeXk323VE1u0mDABPT5Tl0baLp/a7
 S2oe9xtA3hOJCECT3munUuaVLCgc3jcF1+DLfMLTTa2cmqa2VLbihPe/wO+yp/vXRJ4k
 ZvpXh+RcYMJPIgNEte9A3jWd8ktnerp/2yOHs=
X-Google-DKIM-Signature: v=1; a=rsa-sha256; c=relaxed/relaxed;
 d=1e100.net; s=20230601; t=1711460017; x=1712064817;
 h=references:in-reply-to:cc:to:from:subject:message-id:date
 :x-gm-message-state:from:to:cc:subject:date:message-id:reply-to;
 bh=yPI0a7G6MBFc82INvUfsWOTvWsdrk9jFcRP3X/WjIC0=;
 b=TCOdpaW6lZfM6VXDa8OdHy2ZRO03DgeeQNiavAz/JSBmwg7gkfsyDjBka0vdpDndSE
 sg03Epou1rA3yVJ+rcfkIjkZ4ixOvbT5ymnBl7Ox+FIxgYXops5cvMluteNCAOqPFU/J
 es5ZEQ6TJZURcytwMjcM0NOVzGCjU/Wigy40PNikf0yINJMgEw2U2kNMhXtzPN3HHfl6
 aQOLtoUHVa0rEebdaoKLNz1IjwnJsLGxPEXMq32DmyHbH9dOQOXS7iukTiehAfmlFzen
 Sm+l3dAvS0IidOS4e4DA22QycWSQyRBouDM1Vy26uhIn19jTz2/MENb6F9V1nEH5Idzj
 oCIw==
X-Gm-Message-State: AOJu0Yw/OdrIjf8OhA3kL+GExFE2B5RkacnDBlGdvqLHIoMz2AQZ29ON
 5WNVAzxNxS5xijK3IuU4IswVEjUCT95TeBxqFv2iuXOx8VfrwzrZcKsfnTauTFe1vzPA4W04keh
 1oJnpQcqQaibSUTM/bR8frHIymzWDUwhGG+gRAKo3S33TEaa1Abr5q6sf
X-Google-Smtp-Source: AGHT+IGtPo7qpmyMt+riMORe+bcW7K84lzX3n9XSFv4mhGvBeGMZjKLw4bTfHfXqNi+1leYCXGK8jcX/HPqe
X-Received: by 2002:a17:903:2281:b0:1e0:9928:5fbe with SMTP id
 b1-20020a170903228100b001e099285fbemr1189725plh.67.1711460016977; 
 Tue, 26 Mar 2024 06:33:36 -0700 (PDT)
Received: from postal.iol.unh.edu (postal.iol.unh.edu.
 [2606:4100:3880:1234::84]) by smtp-relay.gmail.com with ESMTPS id
 kl16-20020a170903075000b001e0f592c02csm33625plb.35.2024.03.26.06.33.36
 (version=TLS1_2 cipher=ECDHE-ECDSA-AES128-GCM-SHA256 bits=128/128);
 Tue, 26 Mar 2024 06:33:36 -0700 (PDT)
X-Relaying-Domain: iol.unh.edu
Date: Tue, 26 Mar 2024 06:33:36 -0700 (PDT)
Message-ID: <6602ceb0.170a0220.69915.4868SMTPIN_ADDED_MISSING@mx.google.com>
Received: from [172.21.0.6] (unknown [172.18.0.240])
 by postal.iol.unh.edu (Postfix) with ESMTP id 307106052471;
 Tue, 26 Mar 2024 09:33:36 -0400 (EDT)
Subject: |SUCCESS| pw138797-138810 [PATCH] [v7,14/14] examples/ipsec-secgw: f
From: dpdklab@iol.unh.edu
To: Test Report <test-report@dpdk.org>
Cc: dpdk-test-reports@iol.unh.edu
In-Reply-To: <20240326125554.138840-15-sivaprasad.tummala@amd.com>
References: <20240326125554.138840-15-sivaprasad.tummala@amd.com>
Content-Type: text/plain
X-BeenThere: test-report@dpdk.org
X-Mailman-Version: 2.1.29
Precedence: list
List-Id: automatic DPDK test reports <test-report.dpdk.org>
List-Unsubscribe: <https://mails.dpdk.org/options/test-report>,
 <mailto:test-report-request@dpdk.org?subject=unsubscribe>
List-Archive: <http://mails.dpdk.org/archives/test-report/>
List-Post: <mailto:test-report@dpdk.org>
List-Help: <mailto:test-report-request@dpdk.org?subject=help>
List-Subscribe: <https://mails.dpdk.org/listinfo/test-report>,
 <mailto:test-report-request@dpdk.org?subject=subscribe>
Errors-To: test-report-bounces@dpdk.org

Test-Label: iol-compile-arm64-testing
Test-Status: SUCCESS
http://dpdk.org/patch/138810

_Testing PASS_

Submitter: Sivaprasad Tummala <Sivaprasad.Tummala@amd.com>
Date: Tuesday, March 26 2024 12:55:53 
DPDK git baseline: Repo:dpdk
  Branch: master
  CommitID:ded4d4765171b88470e59307f10625e942f22fca

138797-138810 --> testing pass

Test environment and result as below:

+----------------------+--------------------+
|     Environment      | dpdk_meson_compile |
+======================+====================+
| Ubuntu 20.04 ARM SVE | PASS               |
+----------------------+--------------------+
| Debian 12 with MUSDK | PASS               |
+----------------------+--------------------+
| Fedora 37 (ARM)      | PASS               |
+----------------------+--------------------+


Ubuntu 20.04 ARM SVE
	Kernel: 5.4.0-167-generic
	Compiler: gcc (Ubuntu 10.5.0-1ubuntu1~20.04) 10.5.0

Debian 12 with MUSDK
	Kernel: Container Host Kernel
	Compiler: gcc 12.2.0

Fedora 37 (ARM)
	Kernel: Depends on container host
	Compiler: gcc 12.3.1

To view detailed results, visit:
https://lab.dpdk.org/results/dashboard/patchsets/29656/

UNH-IOL DPDK Community Lab

To manage your email subscriptions, visit: 
https://lab.dpdk.org/results/dashboard/preferences/subscriptions/