From mboxrd@z Thu Jan  1 00:00:00 1970
Return-Path: <test-report-bounces@dpdk.org>
Received: from mails.dpdk.org (mails.dpdk.org [217.70.189.124])
	by inbox.dpdk.org (Postfix) with ESMTP id C111F43D54
	for <public@inbox.dpdk.org>; Tue, 26 Mar 2024 14:35:05 +0100 (CET)
Received: from mails.dpdk.org (localhost [127.0.0.1])
	by mails.dpdk.org (Postfix) with ESMTP id BB47040265;
	Tue, 26 Mar 2024 14:35:05 +0100 (CET)
Received: from mail-yb1-f225.google.com (mail-yb1-f225.google.com
 [209.85.219.225])
 by mails.dpdk.org (Postfix) with ESMTP id D470240261
 for <test-report@dpdk.org>; Tue, 26 Mar 2024 14:35:03 +0100 (CET)
Received: by mail-yb1-f225.google.com with SMTP id
 3f1490d57ef6-dc25e12cc63so5783456276.0
 for <test-report@dpdk.org>; Tue, 26 Mar 2024 06:35:03 -0700 (PDT)
DKIM-Signature: v=1; a=rsa-sha256; c=relaxed/relaxed;
 d=iol.unh.edu; s=unh-iol; t=1711460103; x=1712064903; darn=dpdk.org;
 h=references:in-reply-to:cc:to:from:subject:message-id:date:from:to
 :cc:subject:date:message-id:reply-to;
 bh=58y66QU/9w5iacUzj0vnfGMID9wmRzc5ZADPoEQqUPU=;
 b=JZ4S5VAxoloMk3tBIGTQfNOJzrE9v+gKKSkiT5FDJrWXO6/cy8QtB2Ctj2rY4kUFu+
 2DVt0boC3Pn39skWoNKQqyBzrWS7P3LIAWsgPMlPjjtMRe63sH0+9Bon8+3+OphECnrf
 UEF0JjGlZDPfkyGhOmHDsP8xC10/2km6AF2DM=
X-Google-DKIM-Signature: v=1; a=rsa-sha256; c=relaxed/relaxed;
 d=1e100.net; s=20230601; t=1711460103; x=1712064903;
 h=references:in-reply-to:cc:to:from:subject:message-id:date
 :x-gm-message-state:from:to:cc:subject:date:message-id:reply-to;
 bh=58y66QU/9w5iacUzj0vnfGMID9wmRzc5ZADPoEQqUPU=;
 b=QQ4s2IAXv1FrOuJyKAOn094N/NzMXccMulOFbIqHZudzVx84+QhdWK0qZ3AlvMySek
 jhMpDIvL7ylJJhCabELy+kskvvNibT+YFk40gB2/3AavR6B1mJ6sUoh+ljM240gRulSK
 pIp/CvPUp6QnY56aTgmaccoM2BE182TAmuEzEidyl1WNT9VJpH7WnI7DPKIyrtObw/a2
 UlyTvYL0lqnzof2d+j7cxxg4DU8ufAL9sbPDYyT4zD5swDECa+0J3GPrFrSqfQumIkpr
 df6pR0HPpCYjkLucVofcLU2kJgG+nQ0EKyXIvABBUgjsk3dK1uMiUzSd1Arix6YpRj+H
 Ij+w==
X-Gm-Message-State: AOJu0YwalarIcH4mNombb5Lf2zUd4hUxu5RrFSHs55UPXQkOvvh5kxk1
 vFLRlgXNlzVEJX0VfatlDfPqot2FJ0rqrA8J8KKTNFJDSTH1Q0m+HQ/+orvj9X5L2A3MO4oApy+
 rmnBW3RZhwE9b5uO8yhXEyJxewFk3ZtVVqd46q3beD9Ll9QcBw470grtn
X-Google-Smtp-Source: AGHT+IHd8uQ7HmEwI9Cq8Hu3l1cVLV9XuFxYlo6AdKj/DBFqLRlUYpbjhLq12eIB7XVU0/pglV9YlpD0KRn0
X-Received: by 2002:a25:b86:0:b0:dcc:97c:5754 with SMTP id
 128-20020a250b86000000b00dcc097c5754mr795834ybl.5.1711460103254; 
 Tue, 26 Mar 2024 06:35:03 -0700 (PDT)
Received: from postal.iol.unh.edu (postal.iol.unh.edu.
 [2606:4100:3880:1234::84]) by smtp-relay.gmail.com with ESMTPS id
 e192-20020a2569c9000000b00dcde0ca8735sm398642ybc.10.2024.03.26.06.35.03
 (version=TLS1_2 cipher=ECDHE-ECDSA-AES128-GCM-SHA256 bits=128/128);
 Tue, 26 Mar 2024 06:35:03 -0700 (PDT)
X-Relaying-Domain: iol.unh.edu
Date: Tue, 26 Mar 2024 06:35:03 -0700 (PDT)
Message-ID: <6602cf07.250a0220.6e98d.962bSMTPIN_ADDED_MISSING@mx.google.com>
Received: from [172.21.0.7] (unknown [172.18.0.240])
 by postal.iol.unh.edu (Postfix) with ESMTP id B7B0D6052471;
 Tue, 26 Mar 2024 09:35:02 -0400 (EDT)
Subject: |SUCCESS| pw138797-138810 [PATCH] [v7,14/14] examples/ipsec-secgw: f
From: dpdklab@iol.unh.edu
To: Test Report <test-report@dpdk.org>
Cc: dpdk-test-reports@iol.unh.edu
In-Reply-To: <20240326125554.138840-15-sivaprasad.tummala@amd.com>
References: <20240326125554.138840-15-sivaprasad.tummala@amd.com>
Content-Type: text/plain
X-BeenThere: test-report@dpdk.org
X-Mailman-Version: 2.1.29
Precedence: list
List-Id: automatic DPDK test reports <test-report.dpdk.org>
List-Unsubscribe: <https://mails.dpdk.org/options/test-report>,
 <mailto:test-report-request@dpdk.org?subject=unsubscribe>
List-Archive: <http://mails.dpdk.org/archives/test-report/>
List-Post: <mailto:test-report@dpdk.org>
List-Help: <mailto:test-report-request@dpdk.org?subject=help>
List-Subscribe: <https://mails.dpdk.org/listinfo/test-report>,
 <mailto:test-report-request@dpdk.org?subject=subscribe>
Errors-To: test-report-bounces@dpdk.org

Test-Label: iol-compile-amd64-testing
Test-Status: SUCCESS
http://dpdk.org/patch/138810

_Testing PASS_

Submitter: Sivaprasad Tummala <Sivaprasad.Tummala@amd.com>
Date: Tuesday, March 26 2024 12:55:53 
DPDK git baseline: Repo:dpdk
  Branch: master
  CommitID:ded4d4765171b88470e59307f10625e942f22fca

138797-138810 --> testing pass

Test environment and result as below:

+---------------------+--------------------+----------------------+-------------------+
|     Environment     | dpdk_meson_compile | dpdk_mingw64_compile | dpdk_msvc_compile |
+=====================+====================+======================+===================+
| FreeBSD 13.2        | PASS               | SKIPPED              | SKIPPED           |
+---------------------+--------------------+----------------------+-------------------+
| CentOS Stream 9     | PASS               | SKIPPED              | SKIPPED           |
+---------------------+--------------------+----------------------+-------------------+
| CentOS Stream 8     | PASS               | SKIPPED              | SKIPPED           |
+---------------------+--------------------+----------------------+-------------------+
| Windows Server 2022 | PASS               | PASS                 | PASS              |
+---------------------+--------------------+----------------------+-------------------+
| Debian 11 (arm)     | PASS               | SKIPPED              | SKIPPED           |
+---------------------+--------------------+----------------------+-------------------+
| Fedora 37           | PASS               | SKIPPED              | SKIPPED           |
+---------------------+--------------------+----------------------+-------------------+
| openSUSE Leap 15    | PASS               | SKIPPED              | SKIPPED           |
+---------------------+--------------------+----------------------+-------------------+
| Windows Server 2019 | PASS               | PASS                 | SKIPPED           |
+---------------------+--------------------+----------------------+-------------------+
| RHEL8               | PASS               | SKIPPED              | SKIPPED           |
+---------------------+--------------------+----------------------+-------------------+
| Ubuntu 22.04        | PASS               | SKIPPED              | SKIPPED           |
+---------------------+--------------------+----------------------+-------------------+
| Ubuntu 20.04        | PASS               | SKIPPED              | SKIPPED           |
+---------------------+--------------------+----------------------+-------------------+
| Fedora 38           | PASS               | SKIPPED              | SKIPPED           |
+---------------------+--------------------+----------------------+-------------------+


FreeBSD 13.2
	Kernel: 13.2
	Compiler: clang 14.0.5

CentOS Stream 9
	Kernel: 5.4.0-167-generic
	Compiler: gcc 11.4.1 20230605

CentOS Stream 8
	Kernel: 5.4.0-167-generic
	Compiler: gcc 8.5.0 20210514

Windows Server 2022
	Kernel: 10.0.20348.2031
	Compiler: clang 15.0.7, gcc 8.1.0 (MinGW), and MSVC VS 17.9

Debian 11 (arm)
	Kernel: Container Host Kernel
	Compiler: gcc 10.2.1

Fedora 37
	Kernel: Depends on container host system
	Compiler: gcc 12.3.1

openSUSE Leap 15
	Kernel: 5.4.0-167-generic
	Compiler: gcc 7.5.0

Windows Server 2019
	Kernel: 10.0.17763
	Compiler: clang 14.0 and gcc 8.1.0 (MinGW)

RHEL8
	Kernel: 5.4.0-167-generic
	Compiler: gcc 8.5.0 20210514 (Red Hat 8.5.0-20)

Ubuntu 22.04
	Kernel: 5.4.0-167-generic
	Compiler: gcc 11.4.0

Ubuntu 20.04
	Kernel: 5.4.0-167-generic
	Compiler: gcc 9.4.0-1ubuntu1~20.04.1

Fedora 38
	Kernel: Depends on container host
	Compiler: gcc 13.2.1

To view detailed results, visit:
https://lab.dpdk.org/results/dashboard/patchsets/29656/

UNH-IOL DPDK Community Lab

To manage your email subscriptions, visit: 
https://lab.dpdk.org/results/dashboard/preferences/subscriptions/