From mboxrd@z Thu Jan  1 00:00:00 1970
Return-Path: <test-report-bounces@dpdk.org>
Received: from mails.dpdk.org (mails.dpdk.org [217.70.189.124])
	by inbox.dpdk.org (Postfix) with ESMTP id 5395A43D54
	for <public@inbox.dpdk.org>; Tue, 26 Mar 2024 14:38:06 +0100 (CET)
Received: from mails.dpdk.org (localhost [127.0.0.1])
	by mails.dpdk.org (Postfix) with ESMTP id 4493840E78;
	Tue, 26 Mar 2024 14:38:06 +0100 (CET)
Received: from mail-oo1-f97.google.com (mail-oo1-f97.google.com
 [209.85.161.97]) by mails.dpdk.org (Postfix) with ESMTP id 9221240261
 for <test-report@dpdk.org>; Tue, 26 Mar 2024 14:37:57 +0100 (CET)
Received: by mail-oo1-f97.google.com with SMTP id
 006d021491bc7-5a46abf093cso3485157eaf.2
 for <test-report@dpdk.org>; Tue, 26 Mar 2024 06:37:57 -0700 (PDT)
DKIM-Signature: v=1; a=rsa-sha256; c=relaxed/relaxed;
 d=iol.unh.edu; s=unh-iol; t=1711460277; x=1712065077; darn=dpdk.org;
 h=references:in-reply-to:cc:to:from:subject:message-id:date:from:to
 :cc:subject:date:message-id:reply-to;
 bh=5JRfVU+qb+QGm4ljZ7xl42rN4vjurhgNqg+IzpAl6qg=;
 b=DPmPA7v6YHm6BZpO0jZED8nQv7IPOjRX+47gef9bQJa3aLO3p9UvMYJYFcV8DrIEIa
 ihNY74jiZZ6ueQ3IcNgig43JWRKq9TmFTytzSACVbINYz8sdhq4iIo9uUB+isN8FEBZN
 Jt4eJHX/WitRq0Wf1ZwvjaCEthQe/sAswEV30=
X-Google-DKIM-Signature: v=1; a=rsa-sha256; c=relaxed/relaxed;
 d=1e100.net; s=20230601; t=1711460277; x=1712065077;
 h=references:in-reply-to:cc:to:from:subject:message-id:date
 :x-gm-message-state:from:to:cc:subject:date:message-id:reply-to;
 bh=5JRfVU+qb+QGm4ljZ7xl42rN4vjurhgNqg+IzpAl6qg=;
 b=SOGhFEw1VXpHgpGWvxS9msshh3Q9xMS0TgHLPcWKQN1S2jN5EUFa4YvQUJewqRsKtQ
 dSNw60bHVwBbdtFz0gmgnhBHvzXUXMCGAu+gFgSIr3R2h2k6sdarNva5XjaDIIH1dKug
 8NluSlNMAdtzojwZBw5Qb+tOrdOAUUZF+NIDuKBjK/KdOI7qgbjkyksX0UIxET4i9FXV
 SlPil6peiivdTwAmG1Nl/flVb1UxGy+8iJChRhmSNJTQUdoccITl+PClrvQ816Z6G/Qb
 NJasWH9ppsq0J0gfJ13lZViWizM+SHzmZLp8XO/ur81SJm7cZDIL7zCvL6gqObjB3b6E
 XCwg==
X-Gm-Message-State: AOJu0YzKL+FQKieghMmilUZGx0MafCzOKyfBNkp6HGfgnF6Qpy8AJUae
 sRc33u7BsBZxQZyGl53/SS7ERtLUuSsCwFlfkQkOCuKqCRBFFVqvTQ4r6UO5TmbC1h6/gzAe1+O
 ghfqZfBFM53265IgJjXnjRqAdlQ6PK//NMv9keFn1
X-Google-Smtp-Source: AGHT+IE6XGcqBhQbUNrQNWvIqs+o4WTIiCldrIJuUxloV5nVq49QA2qzN0sNcF+V9Q+/w5c1hFnZLBomhK7A
X-Received: by 2002:a05:6820:985:b0:5a5:23fb:448f with SMTP id
 cg5-20020a056820098500b005a523fb448fmr2842616oob.1.1711460276825; 
 Tue, 26 Mar 2024 06:37:56 -0700 (PDT)
Received: from postal.iol.unh.edu (postal.iol.unh.edu. [132.177.123.84])
 by smtp-relay.gmail.com with ESMTPS id
 b41-20020a4a98ec000000b005a471d7518bsm608224ooj.10.2024.03.26.06.37.56
 (version=TLS1_2 cipher=ECDHE-ECDSA-AES128-GCM-SHA256 bits=128/128);
 Tue, 26 Mar 2024 06:37:56 -0700 (PDT)
X-Relaying-Domain: iol.unh.edu
Date: Tue, 26 Mar 2024 06:37:56 -0700 (PDT)
Message-ID: <6602cfb4.4a0a0220.d7976.5a84SMTPIN_ADDED_MISSING@mx.google.com>
Received: from [172.21.0.7] (unknown [172.18.0.240])
 by postal.iol.unh.edu (Postfix) with ESMTP id E266F6052471;
 Tue, 26 Mar 2024 09:37:55 -0400 (EDT)
Subject: |SUCCESS| pw138797-138810 [PATCH] [v7,14/14] examples/ipsec-secgw: f
From: dpdklab@iol.unh.edu
To: Test Report <test-report@dpdk.org>
Cc: dpdk-test-reports@iol.unh.edu
In-Reply-To: <20240326125554.138840-15-sivaprasad.tummala@amd.com>
References: <20240326125554.138840-15-sivaprasad.tummala@amd.com>
Content-Type: text/plain
X-BeenThere: test-report@dpdk.org
X-Mailman-Version: 2.1.29
Precedence: list
List-Id: automatic DPDK test reports <test-report.dpdk.org>
List-Unsubscribe: <https://mails.dpdk.org/options/test-report>,
 <mailto:test-report-request@dpdk.org?subject=unsubscribe>
List-Archive: <http://mails.dpdk.org/archives/test-report/>
List-Post: <mailto:test-report@dpdk.org>
List-Help: <mailto:test-report-request@dpdk.org?subject=help>
List-Subscribe: <https://mails.dpdk.org/listinfo/test-report>,
 <mailto:test-report-request@dpdk.org?subject=subscribe>
Errors-To: test-report-bounces@dpdk.org

Test-Label: iol-abi-testing
Test-Status: SUCCESS
http://dpdk.org/patch/138810

_Testing PASS_

Submitter: Sivaprasad Tummala <Sivaprasad.Tummala@amd.com>
Date: Tuesday, March 26 2024 12:55:53 
DPDK git baseline: Repo:dpdk
  Branch: master
  CommitID:ded4d4765171b88470e59307f10625e942f22fca

138797-138810 --> testing pass

Test environment and result as below:

+-----------------+----------+
|   Environment   | abi_test |
+=================+==========+
| CentOS Stream 9 | PASS     |
+-----------------+----------+
| Debian Bullseye | PASS     |
+-----------------+----------+
| Ubuntu 22.04    | PASS     |
+-----------------+----------+
| Debian 11 (arm) | PASS     |
+-----------------+----------+


CentOS Stream 9
	Kernel: 5.4.0-167-generic
	Compiler: gcc 11.4.1 20230605

Debian Bullseye
	Kernel: 5.4.0-167-generic
	Compiler: gcc 10.2.1-6

Ubuntu 22.04
	Kernel: 5.4.0-167-generic
	Compiler: gcc 11.4.0

Debian 11 (arm)
	Kernel: Container Host Kernel
	Compiler: gcc 10.2.1

To view detailed results, visit:
https://lab.dpdk.org/results/dashboard/patchsets/29656/

UNH-IOL DPDK Community Lab

To manage your email subscriptions, visit: 
https://lab.dpdk.org/results/dashboard/preferences/subscriptions/