From mboxrd@z Thu Jan  1 00:00:00 1970
Return-Path: <test-report-bounces@dpdk.org>
Received: from mails.dpdk.org (mails.dpdk.org [217.70.189.124])
	by inbox.dpdk.org (Postfix) with ESMTP id DEC7A43D54
	for <public@inbox.dpdk.org>; Tue, 26 Mar 2024 14:39:31 +0100 (CET)
Received: from mails.dpdk.org (localhost [127.0.0.1])
	by mails.dpdk.org (Postfix) with ESMTP id DA71040E78;
	Tue, 26 Mar 2024 14:39:31 +0100 (CET)
Received: from mail-pl1-f226.google.com (mail-pl1-f226.google.com
 [209.85.214.226])
 by mails.dpdk.org (Postfix) with ESMTP id 67BE840261
 for <test-report@dpdk.org>; Tue, 26 Mar 2024 14:39:13 +0100 (CET)
Received: by mail-pl1-f226.google.com with SMTP id
 d9443c01a7336-1e0f0398553so5657975ad.3
 for <test-report@dpdk.org>; Tue, 26 Mar 2024 06:39:13 -0700 (PDT)
DKIM-Signature: v=1; a=rsa-sha256; c=relaxed/relaxed;
 d=iol.unh.edu; s=unh-iol; t=1711460352; x=1712065152; darn=dpdk.org;
 h=references:in-reply-to:cc:to:from:subject:message-id:date:from:to
 :cc:subject:date:message-id:reply-to;
 bh=Jq2wJo+qcAN24lQI4zryOiFNcjv33KeyVFUo2wtjxhM=;
 b=HUwd4NP8rrwbAaL/gB7JNF1F8XJ3EVmmVzfWwAicyWbo8nvZB2ATJNGY3TpLBkznDD
 A+pxUtkC2viJhBhCqGjX92IsyYHFfQX7eUOEjaDLJJd+xDfOt5KX9Mm3YL0f1SGAG7zM
 BeSUx1wuR1CkOQAeE6wKN0KPq9UyG7TEMZWig=
X-Google-DKIM-Signature: v=1; a=rsa-sha256; c=relaxed/relaxed;
 d=1e100.net; s=20230601; t=1711460352; x=1712065152;
 h=references:in-reply-to:cc:to:from:subject:message-id:date
 :x-gm-message-state:from:to:cc:subject:date:message-id:reply-to;
 bh=Jq2wJo+qcAN24lQI4zryOiFNcjv33KeyVFUo2wtjxhM=;
 b=sS4LADsDcbgDCXZ+JshsP4lnOtd6OBM4Syt9U/HPcZyCXXb9fl57Gblyvh5jjlbx4R
 HmsKDnmGhhAf6TwYbJoYJUiAJMyxkXcYgUcHcXxYAh8W7KtGyilWnQAtSchfexiiMRXO
 81/LfnphAd/vmdzmOZrALowMEc7648KaEZU6lPMC6rOOAfwOkBVdj9mvWiT5KXp7Y0JN
 gfqXu3UNxMXr7sfcPf3IzgFQXU1Y0e7RIv1ODPq+4tFaXL7f7UYUiQihcekWbSpZ0Lt2
 jdD+AIJ+BEF03DoAFzNI07+eT4C1QWGK2scRvkfXa6v+c0lAqoAn8HG1/09kesIjcM6T
 OnpQ==
X-Gm-Message-State: AOJu0Yy02s1rTG0zTekdyIs4yfQgQLluhd4lz9TK+rp2MGFXDx8wOkR7
 m1bIHvMTYSwmf9lI+YS8I9W4MoTvlAFd51irI8L8R1Hyj/Ktdr13xTYD3TwVRCWbiAQnZJV9vuj
 y77tv9a8ljLhExlxwRzdywClYD2G7vR69VxkFB3XS
X-Google-Smtp-Source: AGHT+IE+bXqYn7V7CjFrZJzyNLCWpc3/+qjdE2t1i3s79qwwUNSJt3K1g8N0t4Xm1LPFE2BTO0wApKwiWgK0
X-Received: by 2002:a17:903:186:b0:1dd:7df8:9ed7 with SMTP id
 z6-20020a170903018600b001dd7df89ed7mr14313975plg.15.1711460352485; 
 Tue, 26 Mar 2024 06:39:12 -0700 (PDT)
Received: from postal.iol.unh.edu (postal.iol.unh.edu. [132.177.123.84])
 by smtp-relay.gmail.com with ESMTPS id
 a10-20020a170902b58a00b001e01c18fbbesm187569pls.80.2024.03.26.06.39.12
 (version=TLS1_2 cipher=ECDHE-ECDSA-AES128-GCM-SHA256 bits=128/128);
 Tue, 26 Mar 2024 06:39:12 -0700 (PDT)
X-Relaying-Domain: iol.unh.edu
Date: Tue, 26 Mar 2024 06:39:12 -0700 (PDT)
Message-ID: <6602d000.170a0220.498e8.0370SMTPIN_ADDED_MISSING@mx.google.com>
Received: from [172.21.0.6] (unknown [172.18.0.240])
 by postal.iol.unh.edu (Postfix) with ESMTP id 8875F6052471;
 Tue, 26 Mar 2024 09:39:11 -0400 (EDT)
Subject: |SUCCESS| pw138797-138810 [PATCH] [v7,14/14] examples/ipsec-secgw: f
From: dpdklab@iol.unh.edu
To: Test Report <test-report@dpdk.org>
Cc: dpdk-test-reports@iol.unh.edu
In-Reply-To: <20240326125554.138840-15-sivaprasad.tummala@amd.com>
References: <20240326125554.138840-15-sivaprasad.tummala@amd.com>
Content-Type: text/plain
X-BeenThere: test-report@dpdk.org
X-Mailman-Version: 2.1.29
Precedence: list
List-Id: automatic DPDK test reports <test-report.dpdk.org>
List-Unsubscribe: <https://mails.dpdk.org/options/test-report>,
 <mailto:test-report-request@dpdk.org?subject=unsubscribe>
List-Archive: <http://mails.dpdk.org/archives/test-report/>
List-Post: <mailto:test-report@dpdk.org>
List-Help: <mailto:test-report-request@dpdk.org?subject=help>
List-Subscribe: <https://mails.dpdk.org/listinfo/test-report>,
 <mailto:test-report-request@dpdk.org?subject=subscribe>
Errors-To: test-report-bounces@dpdk.org

Test-Label: iol-compile-arm64-testing
Test-Status: SUCCESS
http://dpdk.org/patch/138810

_Testing PASS_

Submitter: Sivaprasad Tummala <Sivaprasad.Tummala@amd.com>
Date: Tuesday, March 26 2024 12:55:53 
DPDK git baseline: Repo:dpdk
  Branch: master
  CommitID:ded4d4765171b88470e59307f10625e942f22fca

138797-138810 --> testing pass

Test environment and result as below:

+----------------------------------------+--------------------+
|              Environment               | dpdk_meson_compile |
+========================================+====================+
| Ubuntu 20.04 ARM SVE                   | PASS               |
+----------------------------------------+--------------------+
| Debian 12 with MUSDK                   | PASS               |
+----------------------------------------+--------------------+
| Fedora 37 (ARM)                        | PASS               |
+----------------------------------------+--------------------+
| Ubuntu 20.04 ARM GCC Cross Compile     | PASS               |
+----------------------------------------+--------------------+
| Ubuntu 20.04 (ARM)                     | PASS               |
+----------------------------------------+--------------------+
| Fedora 38 (ARM)                        | PASS               |
+----------------------------------------+--------------------+
| Ubuntu 20.04 ARM Clang Cross Compile   | PASS               |
+----------------------------------------+--------------------+
| CentOS Stream 9 (ARM)                  | PASS               |
+----------------------------------------+--------------------+
| Ubuntu 20.04 aarch32 GCC Cross Compile | PASS               |
+----------------------------------------+--------------------+


Ubuntu 20.04 ARM SVE
	Kernel: 5.4.0-167-generic
	Compiler: gcc (Ubuntu 10.5.0-1ubuntu1~20.04) 10.5.0

Debian 12 with MUSDK
	Kernel: Container Host Kernel
	Compiler: gcc 12.2.0

Fedora 37 (ARM)
	Kernel: Depends on container host
	Compiler: gcc 12.3.1

Ubuntu 20.04 ARM GCC Cross Compile
	Kernel: 5.4.0-167-generic
	Compiler: aarch64-linux-gnu-gcc (Ubuntu 9.4.0-1ubuntu1~20.04.2) 9.4.0

Ubuntu 20.04 (ARM)
	Kernel: Container Host Kernel
	Compiler: gcc 9.4.0

Fedora 38 (ARM)
	Kernel: Depends on container host
	Compiler: gcc 13.2.1

Ubuntu 20.04 ARM Clang Cross Compile
	Kernel: 5.4.0-72-generic
	Compiler: clang 10.0.0-4ubuntu1

CentOS Stream 9 (ARM)
	Kernel: Container Host Kernel
	Compiler: gcc 11.4.1

Ubuntu 20.04 aarch32 GCC Cross Compile
	Kernel: 5.4.0-167-generic
	Compiler: gcc 9.4.0

To view detailed results, visit:
https://lab.dpdk.org/results/dashboard/patchsets/29656/

UNH-IOL DPDK Community Lab

To manage your email subscriptions, visit: 
https://lab.dpdk.org/results/dashboard/preferences/subscriptions/