From mboxrd@z Thu Jan  1 00:00:00 1970
Return-Path: <test-report-bounces@dpdk.org>
Received: from mails.dpdk.org (mails.dpdk.org [217.70.189.124])
	by inbox.dpdk.org (Postfix) with ESMTP id E91C843D54
	for <public@inbox.dpdk.org>; Tue, 26 Mar 2024 14:39:31 +0100 (CET)
Received: from mails.dpdk.org (localhost [127.0.0.1])
	by mails.dpdk.org (Postfix) with ESMTP id E581E40ED1;
	Tue, 26 Mar 2024 14:39:31 +0100 (CET)
Received: from mail-oo1-f98.google.com (mail-oo1-f98.google.com
 [209.85.161.98]) by mails.dpdk.org (Postfix) with ESMTP id BF5C440261
 for <test-report@dpdk.org>; Tue, 26 Mar 2024 14:39:21 +0100 (CET)
Received: by mail-oo1-f98.google.com with SMTP id
 006d021491bc7-5a492093073so2530694eaf.0
 for <test-report@dpdk.org>; Tue, 26 Mar 2024 06:39:21 -0700 (PDT)
DKIM-Signature: v=1; a=rsa-sha256; c=relaxed/relaxed;
 d=iol.unh.edu; s=unh-iol; t=1711460361; x=1712065161; darn=dpdk.org;
 h=references:in-reply-to:cc:to:from:subject:message-id:date:from:to
 :cc:subject:date:message-id:reply-to;
 bh=61PtuWllkQWSah9gzFC8ZZnVbkVK1NITMd0KmrC4E3w=;
 b=RmOgDN9wTmaZsamAIv/Cw1gnygFyZ29Co/MH4inS+M0mA1Fc9rDSz0wQ7x2gWxkuz1
 ZWNvCzDBZ7+lmIPyRXnbZSXWZIpHKgqEBbtvl8cLwwruyKunbSQFJTqU8Vdpj9y+4JVS
 gZYw46PzZwiywbZbeEVYf/wKL1fsxR3D/H0GI=
X-Google-DKIM-Signature: v=1; a=rsa-sha256; c=relaxed/relaxed;
 d=1e100.net; s=20230601; t=1711460361; x=1712065161;
 h=references:in-reply-to:cc:to:from:subject:message-id:date
 :x-gm-message-state:from:to:cc:subject:date:message-id:reply-to;
 bh=61PtuWllkQWSah9gzFC8ZZnVbkVK1NITMd0KmrC4E3w=;
 b=HmN5/5y95rv2OxQ/W13aTnVPea1IfV+TbHHyMjP+97SnikpfKx2kX4tFpRZr2OlonI
 en6FcfYP9ZonvTsEXVXBfHgC1bhjfDEluQf9XXVZHuzNDF5b0sI2IKM6p2YVt2hxWJHp
 yd0mqxFhmCPnR7iZG2B3FsKyp9AaNuJu1DZdUMSAn/LLibMN+7F8GKM5iuX34OZooVPz
 a5c21Dkjh484CXWixPKdU9RVzXAvR9VWIYed04hyCrdpIj8ftMdQSSgiGZQZGLsSvRU5
 Bm2a1tLWwTCt33ztENQGqP4MUSTuQT5kNb7/pSA5rpJdlRAJALU3h3p1TT11Z+waie20
 9z3A==
X-Gm-Message-State: AOJu0YwStOdV5jGd814MenKOX2S64nkvXZpQO7m9dMPknnc7UK8bo0Ik
 DgnSZNQp2+/5I02ymlAJ09D77RwP4698IDoH/2zc0XV1ycs7U6233rQ3TH6piDphQj8ZygElrpu
 S/h9pqzMQ9/Oe4PqBqaeSyWwoTRakIdLR/W3SEqQGJR6+LCgGt0TPLZCm
X-Google-Smtp-Source: AGHT+IEiKalTsL2hkeiqY+TgrL1nV593pVG6sM1qG57GXY5NM7B/FOkWVGr21QWyR/8x+GLu2YrIRgZFJROf
X-Received: by 2002:a4a:cb0d:0:b0:5a4:6b8d:5216 with SMTP id
 r13-20020a4acb0d000000b005a46b8d5216mr631624ooq.4.1711460361170; 
 Tue, 26 Mar 2024 06:39:21 -0700 (PDT)
Received: from postal.iol.unh.edu (postal.iol.unh.edu.
 [2606:4100:3880:1234::84]) by smtp-relay.gmail.com with ESMTPS id
 63-20020a4a0042000000b005a14df6b365sm603390ooh.27.2024.03.26.06.39.21
 (version=TLS1_2 cipher=ECDHE-ECDSA-AES128-GCM-SHA256 bits=128/128);
 Tue, 26 Mar 2024 06:39:21 -0700 (PDT)
X-Relaying-Domain: iol.unh.edu
Date: Tue, 26 Mar 2024 06:39:21 -0700 (PDT)
Message-ID: <6602d009.4a0a0220.c3b81.4698SMTPIN_ADDED_MISSING@mx.google.com>
Received: from [172.17.0.8] (unknown [172.18.0.217])
 by postal.iol.unh.edu (Postfix) with ESMTP id A5D906052471;
 Tue, 26 Mar 2024 09:39:20 -0400 (EDT)
Subject: |SUCCESS| pw138797-138810 [PATCH] [v7,14/14] examples/ipsec-secgw: f
From: dpdklab@iol.unh.edu
To: Test Report <test-report@dpdk.org>
Cc: dpdk-test-reports@iol.unh.edu
In-Reply-To: <20240326125554.138840-15-sivaprasad.tummala@amd.com>
References: <20240326125554.138840-15-sivaprasad.tummala@amd.com>
Content-Type: text/plain
X-BeenThere: test-report@dpdk.org
X-Mailman-Version: 2.1.29
Precedence: list
List-Id: automatic DPDK test reports <test-report.dpdk.org>
List-Unsubscribe: <https://mails.dpdk.org/options/test-report>,
 <mailto:test-report-request@dpdk.org?subject=unsubscribe>
List-Archive: <http://mails.dpdk.org/archives/test-report/>
List-Post: <mailto:test-report@dpdk.org>
List-Help: <mailto:test-report-request@dpdk.org?subject=help>
List-Subscribe: <https://mails.dpdk.org/listinfo/test-report>,
 <mailto:test-report-request@dpdk.org?subject=subscribe>
Errors-To: test-report-bounces@dpdk.org

Test-Label: iol-unit-arm64-testing
Test-Status: SUCCESS
http://dpdk.org/patch/138810

_Testing PASS_

Submitter: Sivaprasad Tummala <Sivaprasad.Tummala@amd.com>
Date: Tuesday, March 26 2024 12:55:53 
DPDK git baseline: Repo:dpdk
  Branch: master
  CommitID:ded4d4765171b88470e59307f10625e942f22fca

138797-138810 --> testing pass

Test environment and result as below:

+--------------------------+----------------+
|       Environment        | dpdk_unit_test |
+==========================+================+
| Debian 11 (Buster) (ARM) | PASS           |
+--------------------------+----------------+
| Fedora 37 (ARM)          | PASS           |
+--------------------------+----------------+
| Debian 12 (arm)          | PASS           |
+--------------------------+----------------+
| CentOS Stream 9 (ARM)    | PASS           |
+--------------------------+----------------+


Debian 11 (Buster) (ARM)
	Kernel: Container Host Kernel
	Compiler: gcc 10.2.1

Fedora 37 (ARM)
	Kernel: Depends on container host
	Compiler: gcc 12.3.1

Debian 12 (arm)
	Kernel: Container Host Kernel
	Compiler: gcc 12.2.0

CentOS Stream 9 (ARM)
	Kernel: Container Host Kernel
	Compiler: gcc 11.4.1

To view detailed results, visit:
https://lab.dpdk.org/results/dashboard/patchsets/29656/

UNH-IOL DPDK Community Lab

To manage your email subscriptions, visit: 
https://lab.dpdk.org/results/dashboard/preferences/subscriptions/