From mboxrd@z Thu Jan  1 00:00:00 1970
Return-Path: <test-report-bounces@dpdk.org>
Received: from mails.dpdk.org (mails.dpdk.org [217.70.189.124])
	by inbox.dpdk.org (Postfix) with ESMTP id 90AB143D54
	for <public@inbox.dpdk.org>; Tue, 26 Mar 2024 14:42:03 +0100 (CET)
Received: from mails.dpdk.org (localhost [127.0.0.1])
	by mails.dpdk.org (Postfix) with ESMTP id 8BCBE40265;
	Tue, 26 Mar 2024 14:42:03 +0100 (CET)
Received: from mail-yb1-f228.google.com (mail-yb1-f228.google.com
 [209.85.219.228])
 by mails.dpdk.org (Postfix) with ESMTP id 5525140261
 for <test-report@dpdk.org>; Tue, 26 Mar 2024 14:42:02 +0100 (CET)
Received: by mail-yb1-f228.google.com with SMTP id
 3f1490d57ef6-dcc7cdb3a98so5565894276.2
 for <test-report@dpdk.org>; Tue, 26 Mar 2024 06:42:02 -0700 (PDT)
DKIM-Signature: v=1; a=rsa-sha256; c=relaxed/relaxed;
 d=iol.unh.edu; s=unh-iol; t=1711460521; x=1712065321; darn=dpdk.org;
 h=references:in-reply-to:cc:to:from:subject:message-id:date:from:to
 :cc:subject:date:message-id:reply-to;
 bh=MZ3/I9Z0Tm6oRFClBCQw94t3tqwHE3Xk5pBTAEpAHKs=;
 b=amldaFl2lSuW9YH3peIl33IEiAgut6NWp0OHqOBFJZI4gn++fbWSyWg+0XdWyjUOf8
 SxiJdpYoMj/BGoODdCov6tRcNiU+pNp9RstETwRzYYJZFZjn1r59dJgLXUAFHrTihnbG
 3k7OaCaie+Uotvuq5TgRIh4PClOOIqaX2dFOU=
X-Google-DKIM-Signature: v=1; a=rsa-sha256; c=relaxed/relaxed;
 d=1e100.net; s=20230601; t=1711460521; x=1712065321;
 h=references:in-reply-to:cc:to:from:subject:message-id:date
 :x-gm-message-state:from:to:cc:subject:date:message-id:reply-to;
 bh=MZ3/I9Z0Tm6oRFClBCQw94t3tqwHE3Xk5pBTAEpAHKs=;
 b=lWVfSDKD+wrxhNBcrHQqY8bJ7qg1ml7axVPrJ8guP7EJbYXN59jl5Ei3+OutlpZvT/
 dLqr+GCwu8tQ1zbVri7ufZtBtwd2HQdjUSwsEAR0lQ01nZmawGoH68IYKD6auk+HjC+Y
 A08b3etOWkD7c0PR+meBC+WG1WCe8QBG8Ux4379En0fi2jE1Fz+dnHlNt+qQga3n9SZT
 E2EphRvcBpZ+4bMNYo9fmdARd/seUrTUMzD1+DYlYHOMieHELpTq5MFTe+ou2Xta4RnE
 z41HvvEq0A6fGn56T0pgt/Ao8P8qJm55bJN7jO6+ezKObOxMtKNJwmuLrsiJHsAxU4jM
 78yg==
X-Gm-Message-State: AOJu0Yw8gqfuU3+kC5Naex6NPPp55ACoMu3vEeSSq5St0hDmIqz8b0Sk
 8xNDvHW0QJFTehPnPkNGW/o6ZRc8+aOuMUe+Gl0d+shFJc9QJ+mgTVtB4PSumLnROp2px0E+1JW
 ze0KtNKc6kmTZbik7LH3MVDUApTZ8ndoba3hHjbvf
X-Google-Smtp-Source: AGHT+IHp8OO52m0FOM1mBhD85ybxix5KS8x3Atm9SeoYVVMvOKKVjeNqOeGy2by0q4blW7hYOFRdCYyBKs5m
X-Received: by 2002:a25:ac4e:0:b0:dcf:bf94:bc30 with SMTP id
 r14-20020a25ac4e000000b00dcfbf94bc30mr1304846ybd.34.1711460520707; 
 Tue, 26 Mar 2024 06:42:00 -0700 (PDT)
Received: from postal.iol.unh.edu (postal.iol.unh.edu. [132.177.123.84])
 by smtp-relay.gmail.com with ESMTPS id
 84-20020a250257000000b00dc749e40c9dsm399264ybc.23.2024.03.26.06.42.00
 (version=TLS1_2 cipher=ECDHE-ECDSA-AES128-GCM-SHA256 bits=128/128);
 Tue, 26 Mar 2024 06:42:00 -0700 (PDT)
X-Relaying-Domain: iol.unh.edu
Date: Tue, 26 Mar 2024 06:42:00 -0700 (PDT)
Message-ID: <6602d0a8.250a0220.9bd91.9ec6SMTPIN_ADDED_MISSING@mx.google.com>
Received: from [172.17.0.6] (unknown [172.18.0.217])
 by postal.iol.unh.edu (Postfix) with ESMTP id 2E0736052471;
 Tue, 26 Mar 2024 09:42:00 -0400 (EDT)
Subject: |SUCCESS| pw138797-138810 [PATCH] [v7,14/14] examples/ipsec-secgw: f
From: dpdklab@iol.unh.edu
To: Test Report <test-report@dpdk.org>
Cc: dpdk-test-reports@iol.unh.edu
In-Reply-To: <20240326125554.138840-15-sivaprasad.tummala@amd.com>
References: <20240326125554.138840-15-sivaprasad.tummala@amd.com>
Content-Type: text/plain
X-BeenThere: test-report@dpdk.org
X-Mailman-Version: 2.1.29
Precedence: list
List-Id: automatic DPDK test reports <test-report.dpdk.org>
List-Unsubscribe: <https://mails.dpdk.org/options/test-report>,
 <mailto:test-report-request@dpdk.org?subject=unsubscribe>
List-Archive: <http://mails.dpdk.org/archives/test-report/>
List-Post: <mailto:test-report@dpdk.org>
List-Help: <mailto:test-report-request@dpdk.org?subject=help>
List-Subscribe: <https://mails.dpdk.org/listinfo/test-report>,
 <mailto:test-report-request@dpdk.org?subject=subscribe>
Errors-To: test-report-bounces@dpdk.org

Test-Label: iol-unit-arm64-testing
Test-Status: SUCCESS
http://dpdk.org/patch/138810

_Testing PASS_

Submitter: Sivaprasad Tummala <Sivaprasad.Tummala@amd.com>
Date: Tuesday, March 26 2024 12:55:53 
DPDK git baseline: Repo:dpdk
  Branch: master
  CommitID:ded4d4765171b88470e59307f10625e942f22fca

138797-138810 --> testing pass

Test environment and result as below:

+--------------------------+----------------+------------------------------+
|       Environment        | dpdk_unit_test | cryptodev_sw_snow3g_autotest |
+==========================+================+==============================+
| Debian 11 (Buster) (ARM) | PASS           | SKIPPED                      |
+--------------------------+----------------+------------------------------+
| Fedora 37 (ARM)          | PASS           | SKIPPED                      |
+--------------------------+----------------+------------------------------+
| Debian 12 (arm)          | PASS           | PASS                         |
+--------------------------+----------------+------------------------------+
| CentOS Stream 9 (ARM)    | PASS           | SKIPPED                      |
+--------------------------+----------------+------------------------------+
| Fedora 38 (ARM)          | PASS           | SKIPPED                      |
+--------------------------+----------------+------------------------------+


Debian 11 (Buster) (ARM)
	Kernel: Container Host Kernel
	Compiler: gcc 10.2.1

Fedora 37 (ARM)
	Kernel: Depends on container host
	Compiler: gcc 12.3.1

Debian 12 (arm)
	Kernel: Container Host Kernel
	Compiler: gcc 12.2.0

CentOS Stream 9 (ARM)
	Kernel: Container Host Kernel
	Compiler: gcc 11.4.1

Fedora 38 (ARM)
	Kernel: Depends on container host
	Compiler: gcc 13.2.1

To view detailed results, visit:
https://lab.dpdk.org/results/dashboard/patchsets/29656/

UNH-IOL DPDK Community Lab

To manage your email subscriptions, visit: 
https://lab.dpdk.org/results/dashboard/preferences/subscriptions/