From mboxrd@z Thu Jan  1 00:00:00 1970
Return-Path: <test-report-bounces@dpdk.org>
Received: from mails.dpdk.org (mails.dpdk.org [217.70.189.124])
	by inbox.dpdk.org (Postfix) with ESMTP id C155143D56
	for <public@inbox.dpdk.org>; Tue, 26 Mar 2024 17:38:46 +0100 (CET)
Received: from mails.dpdk.org (localhost [127.0.0.1])
	by mails.dpdk.org (Postfix) with ESMTP id BCE224029F;
	Tue, 26 Mar 2024 17:38:46 +0100 (CET)
Received: from mail-yw1-f225.google.com (mail-yw1-f225.google.com
 [209.85.128.225])
 by mails.dpdk.org (Postfix) with ESMTP id B0A674013F
 for <test-report@dpdk.org>; Tue, 26 Mar 2024 17:38:45 +0100 (CET)
Received: by mail-yw1-f225.google.com with SMTP id
 00721157ae682-61130dd21c1so36235197b3.2
 for <test-report@dpdk.org>; Tue, 26 Mar 2024 09:38:45 -0700 (PDT)
DKIM-Signature: v=1; a=rsa-sha256; c=relaxed/relaxed;
 d=iol.unh.edu; s=unh-iol; t=1711471125; x=1712075925; darn=dpdk.org;
 h=references:in-reply-to:cc:to:from:subject:message-id:date:from:to
 :cc:subject:date:message-id:reply-to;
 bh=cN/JJsiAAqytM6NYby4xyKNz73hvrnjR6xkFHoC5dIY=;
 b=Uo0TJZqO2i3UDeZsAYqkp35mTgi3Wxv+VH8IkOcYuwdxCHgIESjlRe1owX4M/l314Z
 3J4RWkz+dJ9qtgnNHQyU/yBDpkqEqY00g8XUtolKEGPUJWHAbMe927mMrPXhk0Wf6GGr
 cyw7SAG3WXnP6l6SiiQTQwsS1x3L2vIC2+WIc=
X-Google-DKIM-Signature: v=1; a=rsa-sha256; c=relaxed/relaxed;
 d=1e100.net; s=20230601; t=1711471125; x=1712075925;
 h=references:in-reply-to:cc:to:from:subject:message-id:date
 :x-gm-message-state:from:to:cc:subject:date:message-id:reply-to;
 bh=cN/JJsiAAqytM6NYby4xyKNz73hvrnjR6xkFHoC5dIY=;
 b=UNUmxgH9jogzzVSE3xOAcI7Xh2uucO//I8/hKXV7Y5k3LMBgo3oAWM1WeRYBgL/a7z
 SJuNhyJcrswc+UBBKCqtxKXi6JaHiGo3jBzjKt2znDEIdYTb4YrozZCo4YfNcpgQKOhB
 ULkfUsnrZgYCXFeoumUIhaaaOYdVV2rJsPbuT+mXY9o0pS76lZrFC4LlvFkOW9PAi+OC
 x7dkzdO19EFe6C2TrlKqLP21wDO8Oyjl4DRhYalunNsRsksfE5rc0He9k42pO5xHSs7A
 2tldm74hedovk2149dDZ8eUM99cGpCErGu4gYaL20jJKrtvJep0QfCbtimLdJqYbDlj4
 rA7Q==
X-Gm-Message-State: AOJu0YxWUkk9Ro6FWP0wa/tZQM1WdcvvA18pEJkWeXXQNYofNJSgaCb4
 PYlNzJFIYlmmIBx7OTR+TdJZsKDSV2amVNyy1S8gXTv4APMHKGhToYhR7fAfnT0kYeG1a0S63Hu
 gKFm3qg5taHDolb74Ak3scJ02xoGBJR+aIhRzxCXi
X-Google-Smtp-Source: AGHT+IH/4T0dnF78uJOczlChlXF6W8ONml6qm6L62yun0qVnV+D5//l4TrMOAkDLLyC6/YTeIs5qVGR9RVn7
X-Received: by 2002:a0d:e6c8:0:b0:60a:286f:397d with SMTP id
 p191-20020a0de6c8000000b0060a286f397dmr156566ywe.33.1711471125086; 
 Tue, 26 Mar 2024 09:38:45 -0700 (PDT)
Received: from postal.iol.unh.edu (postal.iol.unh.edu. [132.177.123.84])
 by smtp-relay.gmail.com with ESMTPS id
 n205-20020a8172d6000000b00611235ed6c0sm500835ywc.62.2024.03.26.09.38.45
 (version=TLS1_2 cipher=ECDHE-ECDSA-AES128-GCM-SHA256 bits=128/128);
 Tue, 26 Mar 2024 09:38:45 -0700 (PDT)
X-Relaying-Domain: iol.unh.edu
Date: Tue, 26 Mar 2024 09:38:45 -0700 (PDT)
Message-ID: <6602fa15.810a0220.539a.3fa4SMTPIN_ADDED_MISSING@mx.google.com>
Received: from [172.21.0.6] (unknown [172.18.0.240])
 by postal.iol.unh.edu (Postfix) with ESMTP id B68AF6052471;
 Tue, 26 Mar 2024 12:38:44 -0400 (EDT)
Subject: |SUCCESS| pw138811 [PATCH] [v2] graph: avoid id collisions
From: dpdklab@iol.unh.edu
To: Test Report <test-report@dpdk.org>
Cc: dpdk-test-reports@iol.unh.edu
In-Reply-To: <20240326154936.1132201-1-rjarry@redhat.com>
References: <20240326154936.1132201-1-rjarry@redhat.com>
Content-Type: text/plain
X-BeenThere: test-report@dpdk.org
X-Mailman-Version: 2.1.29
Precedence: list
List-Id: automatic DPDK test reports <test-report.dpdk.org>
List-Unsubscribe: <https://mails.dpdk.org/options/test-report>,
 <mailto:test-report-request@dpdk.org?subject=unsubscribe>
List-Archive: <http://mails.dpdk.org/archives/test-report/>
List-Post: <mailto:test-report@dpdk.org>
List-Help: <mailto:test-report-request@dpdk.org?subject=help>
List-Subscribe: <https://mails.dpdk.org/listinfo/test-report>,
 <mailto:test-report-request@dpdk.org?subject=subscribe>
Errors-To: test-report-bounces@dpdk.org

Test-Label: iol-unit-amd64-testing
Test-Status: SUCCESS
http://dpdk.org/patch/138811

_Testing PASS_

Submitter: Robin Jarry <rjarry@redhat.com>
Date: Tuesday, March 26 2024 15:49:36 
DPDK git baseline: Repo:dpdk
  Branch: master
  CommitID:ded4d4765171b88470e59307f10625e942f22fca

138811 --> testing pass

Test environment and result as below:

+---------------------+----------------+
|     Environment     | dpdk_unit_test |
+=====================+================+
| CentOS Stream 8     | PASS           |
+---------------------+----------------+
| CentOS Stream 9     | PASS           |
+---------------------+----------------+
| Debian 11 (arm)     | PASS           |
+---------------------+----------------+
| Fedora 38           | PASS           |
+---------------------+----------------+
| Debian Bullseye     | PASS           |
+---------------------+----------------+
| Fedora 37           | PASS           |
+---------------------+----------------+
| openSUSE Leap 15    | PASS           |
+---------------------+----------------+
| Windows Server 2019 | PASS           |
+---------------------+----------------+
| Ubuntu 20.04        | PASS           |
+---------------------+----------------+
| RHEL8               | PASS           |
+---------------------+----------------+
| Ubuntu 22.04        | PASS           |
+---------------------+----------------+


CentOS Stream 8
	Kernel: 5.4.0-167-generic
	Compiler: gcc 8.5.0 20210514

CentOS Stream 9
	Kernel: 5.4.0-167-generic
	Compiler: gcc 11.4.1 20230605

Debian 11 (arm)
	Kernel: Container Host Kernel
	Compiler: gcc 10.2.1

Fedora 38
	Kernel: Depends on container host
	Compiler: gcc 13.2.1

Debian Bullseye
	Kernel: 5.4.0-167-generic
	Compiler: gcc 10.2.1-6

Fedora 37
	Kernel: Depends on container host system
	Compiler: gcc 12.3.1

openSUSE Leap 15
	Kernel: 5.4.0-167-generic
	Compiler: gcc 7.5.0

Windows Server 2019
	Kernel: 10.0.17763
	Compiler: clang 14.0 and gcc 8.1.0 (MinGW)

Ubuntu 20.04
	Kernel: 5.4.0-167-generic
	Compiler: gcc 9.4.0-1ubuntu1~20.04.1

RHEL8
	Kernel: 5.4.0-167-generic
	Compiler: gcc 8.5.0 20210514 (Red Hat 8.5.0-20)

Ubuntu 22.04
	Kernel: 5.4.0-167-generic
	Compiler: gcc 11.4.0

To view detailed results, visit:
https://lab.dpdk.org/results/dashboard/patchsets/29657/

UNH-IOL DPDK Community Lab

To manage your email subscriptions, visit: 
https://lab.dpdk.org/results/dashboard/preferences/subscriptions/