From mboxrd@z Thu Jan  1 00:00:00 1970
Return-Path: <test-report-bounces@dpdk.org>
Received: from mails.dpdk.org (mails.dpdk.org [217.70.189.124])
	by inbox.dpdk.org (Postfix) with ESMTP id BACB743D56
	for <public@inbox.dpdk.org>; Tue, 26 Mar 2024 17:42:11 +0100 (CET)
Received: from mails.dpdk.org (localhost [127.0.0.1])
	by mails.dpdk.org (Postfix) with ESMTP id B62BF4029F;
	Tue, 26 Mar 2024 17:42:11 +0100 (CET)
Received: from mail-ua1-f97.google.com (mail-ua1-f97.google.com
 [209.85.222.97]) by mails.dpdk.org (Postfix) with ESMTP id 4CAAC4013F
 for <test-report@dpdk.org>; Tue, 26 Mar 2024 17:42:11 +0100 (CET)
Received: by mail-ua1-f97.google.com with SMTP id
 a1e0cc1a2514c-7e0425e5aa8so2452641241.3
 for <test-report@dpdk.org>; Tue, 26 Mar 2024 09:42:11 -0700 (PDT)
DKIM-Signature: v=1; a=rsa-sha256; c=relaxed/relaxed;
 d=iol.unh.edu; s=unh-iol; t=1711471330; x=1712076130; darn=dpdk.org;
 h=references:in-reply-to:cc:to:from:subject:message-id:date:from:to
 :cc:subject:date:message-id:reply-to;
 bh=FQLsdjtekh8llndNm+U9wd4Cn0bHMbFMKKVPxgv0Mw0=;
 b=fj71D1B3bauiFIVuD2jirVMrvVkGWCB81MLGJMMRuZwba/niTYpK29bzh068dVlovY
 ZYWX+zABVXaP70Zheb9y/NWh5Fr+RfLfornNSJS7ff5PITrzTvvDWBDlo8gWVwZGqw9P
 OSHD4Tk7oga5y9iz8jEihYAZYyuptWZ0g3iUw=
X-Google-DKIM-Signature: v=1; a=rsa-sha256; c=relaxed/relaxed;
 d=1e100.net; s=20230601; t=1711471330; x=1712076130;
 h=references:in-reply-to:cc:to:from:subject:message-id:date
 :x-gm-message-state:from:to:cc:subject:date:message-id:reply-to;
 bh=FQLsdjtekh8llndNm+U9wd4Cn0bHMbFMKKVPxgv0Mw0=;
 b=QE3o5spC/qNy9u0OuyfxspDfhNgwEj2nMV5OHEJqcN4hR0Bxkak2GPC6vOVLFzQ4VW
 h5ojuvA7GgVGSbB4C5P5LZSXHp2ijzDg6en5y62d3jJJNf7bXl1zqdOLlz05W/niyPFU
 B2Skf2ZbQbFm3S3T3nbuFIXpbHNhHxuMEPTOiyXVPYtwkE0RFFUnoMj4i72JBb0iSi1z
 l1OrtK2e0tNxVQFTZ24Dbdaa5SJ7HT2p3djaTdY3QuXyTF2O2daIx3wDBdI9e8/FZWvU
 Pfeh40xJKvGAjDg0M24QblN8C5pRCbJYphC/1bEK75bfBIyJ8tC4EXKco0pVtY6LShnX
 slUQ==
X-Gm-Message-State: AOJu0YwSPhkoDy9ivnAQge9PQ0z36zWYAGgUcjUYxC9KZ/zXyV0Ii9M8
 nRP95UtRhlLFpGkfT+5C3afb3+KMa3PNLbGvsFOwByRJqWywZe0MryIy4R6fcl4+Cw7tbDkMUJO
 6dP2i93AOoH4P/Wki8jXTw+6sCw4MGOH1OkeJZIZCD94xIey08VgC6YGY
X-Google-Smtp-Source: AGHT+IHvQem/pmOemxAQsIav2ATKz+R2zYVnnz3xOEhbKGgdYJuPhJ6MhrT9jgr/BfF+04kFZSUA+8k5bpCm
X-Received: by 2002:a05:6102:4c59:b0:476:5418:e026 with SMTP id
 jz25-20020a0561024c5900b004765418e026mr1840096vsb.0.1711471329242; 
 Tue, 26 Mar 2024 09:42:09 -0700 (PDT)
Received: from postal.iol.unh.edu (postal.iol.unh.edu.
 [2606:4100:3880:1234::84]) by smtp-relay.gmail.com with ESMTPS id
 u6-20020ab05b06000000b007e09427d5c9sm667292uae.17.2024.03.26.09.42.09
 (version=TLS1_2 cipher=ECDHE-ECDSA-AES128-GCM-SHA256 bits=128/128);
 Tue, 26 Mar 2024 09:42:09 -0700 (PDT)
X-Relaying-Domain: iol.unh.edu
Date: Tue, 26 Mar 2024 09:42:09 -0700 (PDT)
Message-ID: <6602fae1.b00a0220.0d3b.60baSMTPIN_ADDED_MISSING@mx.google.com>
Received: from [172.21.0.6] (unknown [172.18.0.240])
 by postal.iol.unh.edu (Postfix) with ESMTP id E171A6052471;
 Tue, 26 Mar 2024 12:42:08 -0400 (EDT)
Subject: |SUCCESS| pw138811 [PATCH] [v2] graph: avoid id collisions
From: dpdklab@iol.unh.edu
To: Test Report <test-report@dpdk.org>
Cc: dpdk-test-reports@iol.unh.edu
In-Reply-To: <20240326154936.1132201-1-rjarry@redhat.com>
References: <20240326154936.1132201-1-rjarry@redhat.com>
Content-Type: text/plain
X-BeenThere: test-report@dpdk.org
X-Mailman-Version: 2.1.29
Precedence: list
List-Id: automatic DPDK test reports <test-report.dpdk.org>
List-Unsubscribe: <https://mails.dpdk.org/options/test-report>,
 <mailto:test-report-request@dpdk.org?subject=unsubscribe>
List-Archive: <http://mails.dpdk.org/archives/test-report/>
List-Post: <mailto:test-report@dpdk.org>
List-Help: <mailto:test-report-request@dpdk.org?subject=help>
List-Subscribe: <https://mails.dpdk.org/listinfo/test-report>,
 <mailto:test-report-request@dpdk.org?subject=subscribe>
Errors-To: test-report-bounces@dpdk.org

Test-Label: iol-compile-amd64-testing
Test-Status: SUCCESS
http://dpdk.org/patch/138811

_Testing PASS_

Submitter: Robin Jarry <rjarry@redhat.com>
Date: Tuesday, March 26 2024 15:49:36 
DPDK git baseline: Repo:dpdk
  Branch: master
  CommitID:ded4d4765171b88470e59307f10625e942f22fca

138811 --> testing pass

Test environment and result as below:

+---------------------+--------------------+----------------------+-------------------+
|     Environment     | dpdk_meson_compile | dpdk_mingw64_compile | dpdk_msvc_compile |
+=====================+====================+======================+===================+
| CentOS Stream 8     | PASS               | SKIPPED              | SKIPPED           |
+---------------------+--------------------+----------------------+-------------------+
| FreeBSD 13.2        | PASS               | SKIPPED              | SKIPPED           |
+---------------------+--------------------+----------------------+-------------------+
| Windows Server 2022 | PASS               | PASS                 | PASS              |
+---------------------+--------------------+----------------------+-------------------+
| CentOS Stream 9     | PASS               | SKIPPED              | SKIPPED           |
+---------------------+--------------------+----------------------+-------------------+
| Debian Bullseye     | PASS               | SKIPPED              | SKIPPED           |
+---------------------+--------------------+----------------------+-------------------+
| Debian 11 (arm)     | PASS               | SKIPPED              | SKIPPED           |
+---------------------+--------------------+----------------------+-------------------+
| Windows Server 2019 | PASS               | PASS                 | SKIPPED           |
+---------------------+--------------------+----------------------+-------------------+
| Fedora 37           | PASS               | SKIPPED              | SKIPPED           |
+---------------------+--------------------+----------------------+-------------------+
| Ubuntu 20.04        | PASS               | SKIPPED              | SKIPPED           |
+---------------------+--------------------+----------------------+-------------------+
| Ubuntu 22.04        | PASS               | SKIPPED              | SKIPPED           |
+---------------------+--------------------+----------------------+-------------------+
| RHEL8               | PASS               | SKIPPED              | SKIPPED           |
+---------------------+--------------------+----------------------+-------------------+
| Fedora 38           | PASS               | SKIPPED              | SKIPPED           |
+---------------------+--------------------+----------------------+-------------------+


CentOS Stream 8
	Kernel: 5.4.0-167-generic
	Compiler: gcc 8.5.0 20210514

FreeBSD 13.2
	Kernel: 13.2
	Compiler: clang 14.0.5

Windows Server 2022
	Kernel: 10.0.20348.2031
	Compiler: clang 15.0.7, gcc 8.1.0 (MinGW), and MSVC VS 17.9

CentOS Stream 9
	Kernel: 5.4.0-167-generic
	Compiler: gcc 11.4.1 20230605

Debian Bullseye
	Kernel: 5.4.0-167-generic
	Compiler: gcc 10.2.1-6

Debian 11 (arm)
	Kernel: Container Host Kernel
	Compiler: gcc 10.2.1

Windows Server 2019
	Kernel: 10.0.17763
	Compiler: clang 14.0 and gcc 8.1.0 (MinGW)

Fedora 37
	Kernel: Depends on container host system
	Compiler: gcc 12.3.1

Ubuntu 20.04
	Kernel: 5.4.0-167-generic
	Compiler: gcc 9.4.0-1ubuntu1~20.04.1

Ubuntu 22.04
	Kernel: 5.4.0-167-generic
	Compiler: gcc 11.4.0

RHEL8
	Kernel: 5.4.0-167-generic
	Compiler: gcc 8.5.0 20210514 (Red Hat 8.5.0-20)

Fedora 38
	Kernel: Depends on container host
	Compiler: gcc 13.2.1

To view detailed results, visit:
https://lab.dpdk.org/results/dashboard/patchsets/29657/

UNH-IOL DPDK Community Lab

To manage your email subscriptions, visit: 
https://lab.dpdk.org/results/dashboard/preferences/subscriptions/