From mboxrd@z Thu Jan  1 00:00:00 1970
Return-Path: <test-report-bounces@dpdk.org>
Received: from mails.dpdk.org (mails.dpdk.org [217.70.189.124])
	by inbox.dpdk.org (Postfix) with ESMTP id 223B243D56
	for <public@inbox.dpdk.org>; Tue, 26 Mar 2024 17:43:42 +0100 (CET)
Received: from mails.dpdk.org (localhost [127.0.0.1])
	by mails.dpdk.org (Postfix) with ESMTP id 1DA3D4029F;
	Tue, 26 Mar 2024 17:43:42 +0100 (CET)
Received: from mail-io1-f99.google.com (mail-io1-f99.google.com
 [209.85.166.99]) by mails.dpdk.org (Postfix) with ESMTP id 61B674013F
 for <test-report@dpdk.org>; Tue, 26 Mar 2024 17:43:41 +0100 (CET)
Received: by mail-io1-f99.google.com with SMTP id
 ca18e2360f4ac-7d026c0a08aso211617539f.1
 for <test-report@dpdk.org>; Tue, 26 Mar 2024 09:43:41 -0700 (PDT)
DKIM-Signature: v=1; a=rsa-sha256; c=relaxed/relaxed;
 d=iol.unh.edu; s=unh-iol; t=1711471420; x=1712076220; darn=dpdk.org;
 h=references:in-reply-to:cc:to:from:subject:message-id:date:from:to
 :cc:subject:date:message-id:reply-to;
 bh=cN/JJsiAAqytM6NYby4xyKNz73hvrnjR6xkFHoC5dIY=;
 b=TyljR4fnzRCGINL4LKx3oSPmC8cb0rTfyeCo1ZIyEF9W2jt4WUU3NR3ClH9bCRANoj
 WYvU36D/Ro5gNCupiYW/E3aSk3tCECxR/TwXKL+wJSLGpArKQVQmkaYvbQN3nyyWmOve
 yT5DPv3J8StT1Fo60UWgNcsd6CwtXfGaqd1nQ=
X-Google-DKIM-Signature: v=1; a=rsa-sha256; c=relaxed/relaxed;
 d=1e100.net; s=20230601; t=1711471420; x=1712076220;
 h=references:in-reply-to:cc:to:from:subject:message-id:date
 :x-gm-message-state:from:to:cc:subject:date:message-id:reply-to;
 bh=cN/JJsiAAqytM6NYby4xyKNz73hvrnjR6xkFHoC5dIY=;
 b=EMfPAo45Nqh/EnAkgEDf0wnK7EiKppl+j5pBpWMQ0roMt96IxSmVp9rdTiENOt67IY
 FCEs2WKIKbvz5m5mA7pWF6KchJ3rd5Yg1CGUZ0ofIX23WfpKIaROxNS+6ro734UW/Vyg
 KTYqF/lwisBx6NDlHQPJKm8DK04kF1VBC3zt6jlhfai7zfLzGfEq7H9sWOeO+57Fb2v5
 +x7nJGfDCQaVQdiXx3RNnTa2b3L3evmoquKRuEvS04yYlzYQCkl/ItwtiRF7HI9+bMzp
 e37gUokZVfEhwYohPG9t/PfxQuBXxNF2z6Q7JigNb3sSsB2qG1aLPjWVr5vf2zamRoeZ
 J0CQ==
X-Gm-Message-State: AOJu0YyQApaEwyny38UAcN8YTW93SKE0xyCyWa6DU/6WIPsn3ijjJvHe
 sitGGFfJU4sngVaKjiQJYF9CZYSvHFJEEdQNApiiZo7bts17bD27xdJzL4kbhaeGM5UNzsvL0/l
 qKXkDlISZa2YDVucBuM3+oVxg/DQ/QfyxYpkCy67A/nMOOztxhBY0ERIr
X-Google-Smtp-Source: AGHT+IFd6/HPYpx/M3dGOk3q4X5Tyh5pi7OpYsA6HOwkKqWGkU/QhDqD8iy4Xcu9HqDDHA8swgsLwgcQubzP
X-Received: by 2002:a05:6602:4fcf:b0:7d0:23a3:52c9 with SMTP id
 gs15-20020a0566024fcf00b007d023a352c9mr11914004iob.16.1711471420718; 
 Tue, 26 Mar 2024 09:43:40 -0700 (PDT)
Received: from postal.iol.unh.edu (postal.iol.unh.edu.
 [2606:4100:3880:1234::84]) by smtp-relay.gmail.com with ESMTPS id
 fr3-20020a056602600300b007d052d3cb3asm207672iob.30.2024.03.26.09.43.40
 (version=TLS1_2 cipher=ECDHE-ECDSA-AES128-GCM-SHA256 bits=128/128);
 Tue, 26 Mar 2024 09:43:40 -0700 (PDT)
X-Relaying-Domain: iol.unh.edu
Date: Tue, 26 Mar 2024 09:43:40 -0700 (PDT)
Message-ID: <6602fb3c.050a0220.7cde2.d91eSMTPIN_ADDED_MISSING@mx.google.com>
Received: from [172.17.0.6] (unknown [172.18.0.217])
 by postal.iol.unh.edu (Postfix) with ESMTP id 342D16052471;
 Tue, 26 Mar 2024 12:43:40 -0400 (EDT)
Subject: |SUCCESS| pw138811 [PATCH] [v2] graph: avoid id collisions
From: dpdklab@iol.unh.edu
To: Test Report <test-report@dpdk.org>
Cc: dpdk-test-reports@iol.unh.edu
In-Reply-To: <20240326154936.1132201-1-rjarry@redhat.com>
References: <20240326154936.1132201-1-rjarry@redhat.com>
Content-Type: text/plain
X-BeenThere: test-report@dpdk.org
X-Mailman-Version: 2.1.29
Precedence: list
List-Id: automatic DPDK test reports <test-report.dpdk.org>
List-Unsubscribe: <https://mails.dpdk.org/options/test-report>,
 <mailto:test-report-request@dpdk.org?subject=unsubscribe>
List-Archive: <http://mails.dpdk.org/archives/test-report/>
List-Post: <mailto:test-report@dpdk.org>
List-Help: <mailto:test-report-request@dpdk.org?subject=help>
List-Subscribe: <https://mails.dpdk.org/listinfo/test-report>,
 <mailto:test-report-request@dpdk.org?subject=subscribe>
Errors-To: test-report-bounces@dpdk.org

Test-Label: iol-unit-amd64-testing
Test-Status: SUCCESS
http://dpdk.org/patch/138811

_Testing PASS_

Submitter: Robin Jarry <rjarry@redhat.com>
Date: Tuesday, March 26 2024 15:49:36 
DPDK git baseline: Repo:dpdk
  Branch: master
  CommitID:ded4d4765171b88470e59307f10625e942f22fca

138811 --> testing pass

Test environment and result as below:

+---------------------+----------------+
|     Environment     | dpdk_unit_test |
+=====================+================+
| CentOS Stream 8     | PASS           |
+---------------------+----------------+
| CentOS Stream 9     | PASS           |
+---------------------+----------------+
| Debian 11 (arm)     | PASS           |
+---------------------+----------------+
| Fedora 38           | PASS           |
+---------------------+----------------+
| Debian Bullseye     | PASS           |
+---------------------+----------------+
| Fedora 37           | PASS           |
+---------------------+----------------+
| openSUSE Leap 15    | PASS           |
+---------------------+----------------+
| Windows Server 2019 | PASS           |
+---------------------+----------------+
| Ubuntu 20.04        | PASS           |
+---------------------+----------------+
| RHEL8               | PASS           |
+---------------------+----------------+
| Ubuntu 22.04        | PASS           |
+---------------------+----------------+


CentOS Stream 8
	Kernel: 5.4.0-167-generic
	Compiler: gcc 8.5.0 20210514

CentOS Stream 9
	Kernel: 5.4.0-167-generic
	Compiler: gcc 11.4.1 20230605

Debian 11 (arm)
	Kernel: Container Host Kernel
	Compiler: gcc 10.2.1

Fedora 38
	Kernel: Depends on container host
	Compiler: gcc 13.2.1

Debian Bullseye
	Kernel: 5.4.0-167-generic
	Compiler: gcc 10.2.1-6

Fedora 37
	Kernel: Depends on container host system
	Compiler: gcc 12.3.1

openSUSE Leap 15
	Kernel: 5.4.0-167-generic
	Compiler: gcc 7.5.0

Windows Server 2019
	Kernel: 10.0.17763
	Compiler: clang 14.0 and gcc 8.1.0 (MinGW)

Ubuntu 20.04
	Kernel: 5.4.0-167-generic
	Compiler: gcc 9.4.0-1ubuntu1~20.04.1

RHEL8
	Kernel: 5.4.0-167-generic
	Compiler: gcc 8.5.0 20210514 (Red Hat 8.5.0-20)

Ubuntu 22.04
	Kernel: 5.4.0-167-generic
	Compiler: gcc 11.4.0

To view detailed results, visit:
https://lab.dpdk.org/results/dashboard/patchsets/29657/

UNH-IOL DPDK Community Lab

To manage your email subscriptions, visit: 
https://lab.dpdk.org/results/dashboard/preferences/subscriptions/