From mboxrd@z Thu Jan  1 00:00:00 1970
Return-Path: <test-report-bounces@dpdk.org>
Received: from mails.dpdk.org (mails.dpdk.org [217.70.189.124])
	by inbox.dpdk.org (Postfix) with ESMTP id 427E043D56
	for <public@inbox.dpdk.org>; Tue, 26 Mar 2024 17:43:58 +0100 (CET)
Received: from mails.dpdk.org (localhost [127.0.0.1])
	by mails.dpdk.org (Postfix) with ESMTP id 3E39A4029F;
	Tue, 26 Mar 2024 17:43:58 +0100 (CET)
Received: from mail-ot1-f97.google.com (mail-ot1-f97.google.com
 [209.85.210.97]) by mails.dpdk.org (Postfix) with ESMTP id 952144013F
 for <test-report@dpdk.org>; Tue, 26 Mar 2024 17:43:57 +0100 (CET)
Received: by mail-ot1-f97.google.com with SMTP id
 46e09a7af769-6e6a9e2e2b6so3151530a34.1
 for <test-report@dpdk.org>; Tue, 26 Mar 2024 09:43:57 -0700 (PDT)
DKIM-Signature: v=1; a=rsa-sha256; c=relaxed/relaxed;
 d=iol.unh.edu; s=unh-iol; t=1711471437; x=1712076237; darn=dpdk.org;
 h=references:in-reply-to:cc:to:from:subject:message-id:date:from:to
 :cc:subject:date:message-id:reply-to;
 bh=cN/JJsiAAqytM6NYby4xyKNz73hvrnjR6xkFHoC5dIY=;
 b=gGhNiT0nN7KuvGw4yMo2Z82wrQvJqWNIiejqMC90yDGBMHxZslW5pw6L0K4libhFld
 GGbNC8y0bfDRCgqvIpAo8xSFbIxggFz/XsrHF7LwY4PoTxfkjiF/RQ1lL+JD78kMnAeS
 WRGNIwBvbLIRL0bSh04+f+s270Wb9R1GkUL6s=
X-Google-DKIM-Signature: v=1; a=rsa-sha256; c=relaxed/relaxed;
 d=1e100.net; s=20230601; t=1711471437; x=1712076237;
 h=references:in-reply-to:cc:to:from:subject:message-id:date
 :x-gm-message-state:from:to:cc:subject:date:message-id:reply-to;
 bh=cN/JJsiAAqytM6NYby4xyKNz73hvrnjR6xkFHoC5dIY=;
 b=aYD/uVqNrXnIC2HIyB9yhwVd9pdO/CB+gXmhdnSdN1ytZfYlaEqIHHfX8XRpLCmxy3
 nVel8DXtUlM9rkwDJCjyBQDdjK/O2R/EBDCvrNLbJSbM8Qs5eFEf6WT8Spb8taXGiQVy
 sGmQcbdCKDDVMt1kmsEIDOPjAB04H5HCWTh61CgJX64VnQMHyYD1tXwko7DyJ9g/R1Ca
 1N80hsl/tVZLv/tGMVL/baBT+8MW2CxRQ3tukcLBbLKDS+u7/bqeW/PM+stdjD+GTN2W
 hEC8m1337Vr2+vb+C7wCRWanOwN2+ItPP5iIeAwJWOgveARlLqn0TP1MSniHnQUslik8
 WRLA==
X-Gm-Message-State: AOJu0YwyeNLsi7e9rCeEkIyoyXXGm7x1quzTzsI9ximtim4XvQOs4CX5
 g/KTtPFYeuqXLhaUlIcgGfv1+X38/iy2zVNaKAD2HiRhAn+3cDcfShaAEcpOIfejzmpXHh3/qU4
 yMqFBDNAbHw07VPWmcoRVuHLQEtdI4teR6PeJhLgEzfQoZaIyb5r7FF7Q
X-Google-Smtp-Source: AGHT+IH56BDmJMUitr0lZnDg9sUAwFUXoiQMFwd06jezT5V5MH+fi8UtBs3ppB7BWP1H3aPCbewbYzTt6EW/
X-Received: by 2002:a05:6870:d185:b0:22a:dc7:7d64 with SMTP id
 a5-20020a056870d18500b0022a0dc77d64mr124202oac.10.1711471436889; 
 Tue, 26 Mar 2024 09:43:56 -0700 (PDT)
Received: from postal.iol.unh.edu (postal.iol.unh.edu.
 [2606:4100:3880:1234::84]) by smtp-relay.gmail.com with ESMTPS id
 b4-20020a056871030400b0022a0d306eecsm223533oag.35.2024.03.26.09.43.56
 (version=TLS1_2 cipher=ECDHE-ECDSA-AES128-GCM-SHA256 bits=128/128);
 Tue, 26 Mar 2024 09:43:56 -0700 (PDT)
X-Relaying-Domain: iol.unh.edu
Date: Tue, 26 Mar 2024 09:43:56 -0700 (PDT)
Message-ID: <6602fb4c.050a0220.ad176.dc82SMTPIN_ADDED_MISSING@mx.google.com>
Received: from [172.21.0.6] (unknown [172.18.0.240])
 by postal.iol.unh.edu (Postfix) with ESMTP id 376AD6052471;
 Tue, 26 Mar 2024 12:43:56 -0400 (EDT)
Subject: |SUCCESS| pw138811 [PATCH] [v2] graph: avoid id collisions
From: dpdklab@iol.unh.edu
To: Test Report <test-report@dpdk.org>
Cc: dpdk-test-reports@iol.unh.edu
In-Reply-To: <20240326154936.1132201-1-rjarry@redhat.com>
References: <20240326154936.1132201-1-rjarry@redhat.com>
Content-Type: text/plain
X-BeenThere: test-report@dpdk.org
X-Mailman-Version: 2.1.29
Precedence: list
List-Id: automatic DPDK test reports <test-report.dpdk.org>
List-Unsubscribe: <https://mails.dpdk.org/options/test-report>,
 <mailto:test-report-request@dpdk.org?subject=unsubscribe>
List-Archive: <http://mails.dpdk.org/archives/test-report/>
List-Post: <mailto:test-report@dpdk.org>
List-Help: <mailto:test-report-request@dpdk.org?subject=help>
List-Subscribe: <https://mails.dpdk.org/listinfo/test-report>,
 <mailto:test-report-request@dpdk.org?subject=subscribe>
Errors-To: test-report-bounces@dpdk.org

Test-Label: iol-unit-amd64-testing
Test-Status: SUCCESS
http://dpdk.org/patch/138811

_Testing PASS_

Submitter: Robin Jarry <rjarry@redhat.com>
Date: Tuesday, March 26 2024 15:49:36 
DPDK git baseline: Repo:dpdk
  Branch: master
  CommitID:ded4d4765171b88470e59307f10625e942f22fca

138811 --> testing pass

Test environment and result as below:

+---------------------+----------------+
|     Environment     | dpdk_unit_test |
+=====================+================+
| CentOS Stream 8     | PASS           |
+---------------------+----------------+
| CentOS Stream 9     | PASS           |
+---------------------+----------------+
| Debian 11 (arm)     | PASS           |
+---------------------+----------------+
| Fedora 38           | PASS           |
+---------------------+----------------+
| Debian Bullseye     | PASS           |
+---------------------+----------------+
| Fedora 37           | PASS           |
+---------------------+----------------+
| openSUSE Leap 15    | PASS           |
+---------------------+----------------+
| Windows Server 2019 | PASS           |
+---------------------+----------------+
| Ubuntu 20.04        | PASS           |
+---------------------+----------------+
| RHEL8               | PASS           |
+---------------------+----------------+
| Ubuntu 22.04        | PASS           |
+---------------------+----------------+


CentOS Stream 8
	Kernel: 5.4.0-167-generic
	Compiler: gcc 8.5.0 20210514

CentOS Stream 9
	Kernel: 5.4.0-167-generic
	Compiler: gcc 11.4.1 20230605

Debian 11 (arm)
	Kernel: Container Host Kernel
	Compiler: gcc 10.2.1

Fedora 38
	Kernel: Depends on container host
	Compiler: gcc 13.2.1

Debian Bullseye
	Kernel: 5.4.0-167-generic
	Compiler: gcc 10.2.1-6

Fedora 37
	Kernel: Depends on container host system
	Compiler: gcc 12.3.1

openSUSE Leap 15
	Kernel: 5.4.0-167-generic
	Compiler: gcc 7.5.0

Windows Server 2019
	Kernel: 10.0.17763
	Compiler: clang 14.0 and gcc 8.1.0 (MinGW)

Ubuntu 20.04
	Kernel: 5.4.0-167-generic
	Compiler: gcc 9.4.0-1ubuntu1~20.04.1

RHEL8
	Kernel: 5.4.0-167-generic
	Compiler: gcc 8.5.0 20210514 (Red Hat 8.5.0-20)

Ubuntu 22.04
	Kernel: 5.4.0-167-generic
	Compiler: gcc 11.4.0

To view detailed results, visit:
https://lab.dpdk.org/results/dashboard/patchsets/29657/

UNH-IOL DPDK Community Lab

To manage your email subscriptions, visit: 
https://lab.dpdk.org/results/dashboard/preferences/subscriptions/